BEGIN:VCALENDAR
VERSION:2.0
PRODID:-//Dawn Rowe Third District Supervisor - ECPv6.15.14//NONSGML v1.0//EN
CALSCALE:GREGORIAN
METHOD:PUBLISH
X-WR-CALNAME:Dawn Rowe Third District Supervisor
X-ORIGINAL-URL:https://bosd3.sbcounty.gov
X-WR-CALDESC:Events for Dawn Rowe Third District Supervisor
REFRESH-INTERVAL;VALUE=DURATION:PT1H
X-Robots-Tag:noindex
X-PUBLISHED-TTL:PT1H
BEGIN:VTIMEZONE
TZID:America/Los_Angeles
BEGIN:DAYLIGHT
TZOFFSETFROM:-0800
TZOFFSETTO:-0700
TZNAME:PDT
DTSTART:20250309T100000
END:DAYLIGHT
BEGIN:STANDARD
TZOFFSETFROM:-0700
TZOFFSETTO:-0800
TZNAME:PST
DTSTART:20251102T090000
END:STANDARD
BEGIN:DAYLIGHT
TZOFFSETFROM:-0800
TZOFFSETTO:-0700
TZNAME:PDT
DTSTART:20260308T100000
END:DAYLIGHT
BEGIN:STANDARD
TZOFFSETFROM:-0700
TZOFFSETTO:-0800
TZNAME:PST
DTSTART:20261101T090000
END:STANDARD
BEGIN:DAYLIGHT
TZOFFSETFROM:-0800
TZOFFSETTO:-0700
TZNAME:PDT
DTSTART:20270314T100000
END:DAYLIGHT
BEGIN:STANDARD
TZOFFSETFROM:-0700
TZOFFSETTO:-0800
TZNAME:PST
DTSTART:20271107T090000
END:STANDARD
BEGIN:DAYLIGHT
TZOFFSETFROM:-0800
TZOFFSETTO:-0700
TZNAME:PDT
DTSTART:20280312T100000
END:DAYLIGHT
BEGIN:STANDARD
TZOFFSETFROM:-0700
TZOFFSETTO:-0800
TZNAME:PST
DTSTART:20281105T090000
END:STANDARD
END:VTIMEZONE
BEGIN:VEVENT
DTSTART;TZID=America/Los_Angeles:20261010T080000
DTEND;TZID=America/Los_Angeles:20261010T130000
DTSTAMP:20260422T202634
CREATED:20250508T162128Z
LAST-MODIFIED:20250508T162128Z
UID:10025521-1791619200-1791637200@bosd3.sbcounty.gov
SUMMARY:Countyline Farmers Market - Yucaipa
DESCRIPTION:Open: Year-Round\nTime: Saturday\, 8:00 AM – 1:00 PM \nOpen: July-December\nTime: Thursday\, 5:00 PM – 8:00 PM
URL:https://bosd3.sbcounty.gov/event/countyline-farmers-market-yucaipa/2026-10-10/
LOCATION:Yucaipa Community Park\, 34900 Oak Glen Road\, Yucaipa\, CA\, 92399\, United States
ORGANIZER;CN="Countyline Farmers Market":MAILTO:countylinefarmersmarket1@gmail.com
END:VEVENT
BEGIN:VEVENT
DTSTART;TZID=America/Los_Angeles:20261017T080000
DTEND;TZID=America/Los_Angeles:20261017T130000
DTSTAMP:20260422T202634
CREATED:20250508T162128Z
LAST-MODIFIED:20250508T162128Z
UID:10025524-1792224000-1792242000@bosd3.sbcounty.gov
SUMMARY:Countyline Farmers Market - Yucaipa
DESCRIPTION:Open: Year-Round\nTime: Saturday\, 8:00 AM – 1:00 PM \nOpen: July-December\nTime: Thursday\, 5:00 PM – 8:00 PM
URL:https://bosd3.sbcounty.gov/event/countyline-farmers-market-yucaipa/2026-10-17/
LOCATION:Yucaipa Community Park\, 34900 Oak Glen Road\, Yucaipa\, CA\, 92399\, United States
ORGANIZER;CN="Countyline Farmers Market":MAILTO:countylinefarmersmarket1@gmail.com
END:VEVENT
BEGIN:VEVENT
DTSTART;TZID=America/Los_Angeles:20261024T080000
DTEND;TZID=America/Los_Angeles:20261024T130000
DTSTAMP:20260422T202634
CREATED:20250508T162128Z
LAST-MODIFIED:20250508T162128Z
UID:10025527-1792828800-1792846800@bosd3.sbcounty.gov
SUMMARY:Countyline Farmers Market - Yucaipa
DESCRIPTION:Open: Year-Round\nTime: Saturday\, 8:00 AM – 1:00 PM \nOpen: July-December\nTime: Thursday\, 5:00 PM – 8:00 PM
URL:https://bosd3.sbcounty.gov/event/countyline-farmers-market-yucaipa/2026-10-24/
LOCATION:Yucaipa Community Park\, 34900 Oak Glen Road\, Yucaipa\, CA\, 92399\, United States
ORGANIZER;CN="Countyline Farmers Market":MAILTO:countylinefarmersmarket1@gmail.com
END:VEVENT
BEGIN:VEVENT
DTSTART;TZID=America/Los_Angeles:20261031T080000
DTEND;TZID=America/Los_Angeles:20261031T130000
DTSTAMP:20260422T202634
CREATED:20250508T162128Z
LAST-MODIFIED:20250508T162128Z
UID:10025530-1793433600-1793451600@bosd3.sbcounty.gov
SUMMARY:Countyline Farmers Market - Yucaipa
DESCRIPTION:Open: Year-Round\nTime: Saturday\, 8:00 AM – 1:00 PM \nOpen: July-December\nTime: Thursday\, 5:00 PM – 8:00 PM
URL:https://bosd3.sbcounty.gov/event/countyline-farmers-market-yucaipa/2026-10-31/
LOCATION:Yucaipa Community Park\, 34900 Oak Glen Road\, Yucaipa\, CA\, 92399\, United States
ORGANIZER;CN="Countyline Farmers Market":MAILTO:countylinefarmersmarket1@gmail.com
END:VEVENT
BEGIN:VEVENT
DTSTART;TZID=America/Los_Angeles:20261107T080000
DTEND;TZID=America/Los_Angeles:20261107T130000
DTSTAMP:20260422T202634
CREATED:20250508T162128Z
LAST-MODIFIED:20250508T162128Z
UID:10025533-1794038400-1794056400@bosd3.sbcounty.gov
SUMMARY:Countyline Farmers Market - Yucaipa
DESCRIPTION:Open: Year-Round\nTime: Saturday\, 8:00 AM – 1:00 PM \nOpen: July-December\nTime: Thursday\, 5:00 PM – 8:00 PM
URL:https://bosd3.sbcounty.gov/event/countyline-farmers-market-yucaipa/2026-11-07/
LOCATION:Yucaipa Community Park\, 34900 Oak Glen Road\, Yucaipa\, CA\, 92399\, United States
ORGANIZER;CN="Countyline Farmers Market":MAILTO:countylinefarmersmarket1@gmail.com
END:VEVENT
BEGIN:VEVENT
DTSTART;TZID=America/Los_Angeles:20261114T080000
DTEND;TZID=America/Los_Angeles:20261114T130000
DTSTAMP:20260422T202634
CREATED:20250508T162128Z
LAST-MODIFIED:20250508T162128Z
UID:10025536-1794643200-1794661200@bosd3.sbcounty.gov
SUMMARY:Countyline Farmers Market - Yucaipa
DESCRIPTION:Open: Year-Round\nTime: Saturday\, 8:00 AM – 1:00 PM \nOpen: July-December\nTime: Thursday\, 5:00 PM – 8:00 PM
URL:https://bosd3.sbcounty.gov/event/countyline-farmers-market-yucaipa/2026-11-14/
LOCATION:Yucaipa Community Park\, 34900 Oak Glen Road\, Yucaipa\, CA\, 92399\, United States
ORGANIZER;CN="Countyline Farmers Market":MAILTO:countylinefarmersmarket1@gmail.com
END:VEVENT
BEGIN:VEVENT
DTSTART;TZID=America/Los_Angeles:20261121T080000
DTEND;TZID=America/Los_Angeles:20261121T130000
DTSTAMP:20260422T202634
CREATED:20250508T162128Z
LAST-MODIFIED:20250508T162128Z
UID:10025539-1795248000-1795266000@bosd3.sbcounty.gov
SUMMARY:Countyline Farmers Market - Yucaipa
DESCRIPTION:Open: Year-Round\nTime: Saturday\, 8:00 AM – 1:00 PM \nOpen: July-December\nTime: Thursday\, 5:00 PM – 8:00 PM
URL:https://bosd3.sbcounty.gov/event/countyline-farmers-market-yucaipa/2026-11-21/
LOCATION:Yucaipa Community Park\, 34900 Oak Glen Road\, Yucaipa\, CA\, 92399\, United States
ORGANIZER;CN="Countyline Farmers Market":MAILTO:countylinefarmersmarket1@gmail.com
END:VEVENT
BEGIN:VEVENT
DTSTART;TZID=America/Los_Angeles:20261128T080000
DTEND;TZID=America/Los_Angeles:20261128T130000
DTSTAMP:20260422T202634
CREATED:20250508T162128Z
LAST-MODIFIED:20250508T162128Z
UID:10025542-1795852800-1795870800@bosd3.sbcounty.gov
SUMMARY:Countyline Farmers Market - Yucaipa
DESCRIPTION:Open: Year-Round\nTime: Saturday\, 8:00 AM – 1:00 PM \nOpen: July-December\nTime: Thursday\, 5:00 PM – 8:00 PM
URL:https://bosd3.sbcounty.gov/event/countyline-farmers-market-yucaipa/2026-11-28/
LOCATION:Yucaipa Community Park\, 34900 Oak Glen Road\, Yucaipa\, CA\, 92399\, United States
ORGANIZER;CN="Countyline Farmers Market":MAILTO:countylinefarmersmarket1@gmail.com
END:VEVENT
BEGIN:VEVENT
DTSTART;TZID=America/Los_Angeles:20261205T080000
DTEND;TZID=America/Los_Angeles:20261205T130000
DTSTAMP:20260422T202634
CREATED:20250508T162128Z
LAST-MODIFIED:20250508T162128Z
UID:10025545-1796457600-1796475600@bosd3.sbcounty.gov
SUMMARY:Countyline Farmers Market - Yucaipa
DESCRIPTION:Open: Year-Round\nTime: Saturday\, 8:00 AM – 1:00 PM \nOpen: July-December\nTime: Thursday\, 5:00 PM – 8:00 PM
URL:https://bosd3.sbcounty.gov/event/countyline-farmers-market-yucaipa/2026-12-05/
LOCATION:Yucaipa Community Park\, 34900 Oak Glen Road\, Yucaipa\, CA\, 92399\, United States
ORGANIZER;CN="Countyline Farmers Market":MAILTO:countylinefarmersmarket1@gmail.com
END:VEVENT
BEGIN:VEVENT
DTSTART;TZID=America/Los_Angeles:20261212T080000
DTEND;TZID=America/Los_Angeles:20261212T130000
DTSTAMP:20260422T202634
CREATED:20250508T162128Z
LAST-MODIFIED:20250508T162128Z
UID:10025548-1797062400-1797080400@bosd3.sbcounty.gov
SUMMARY:Countyline Farmers Market - Yucaipa
DESCRIPTION:Open: Year-Round\nTime: Saturday\, 8:00 AM – 1:00 PM \nOpen: July-December\nTime: Thursday\, 5:00 PM – 8:00 PM
URL:https://bosd3.sbcounty.gov/event/countyline-farmers-market-yucaipa/2026-12-12/
LOCATION:Yucaipa Community Park\, 34900 Oak Glen Road\, Yucaipa\, CA\, 92399\, United States
ORGANIZER;CN="Countyline Farmers Market":MAILTO:countylinefarmersmarket1@gmail.com
END:VEVENT
BEGIN:VEVENT
DTSTART;TZID=America/Los_Angeles:20261219T080000
DTEND;TZID=America/Los_Angeles:20261219T130000
DTSTAMP:20260422T202634
CREATED:20250508T162128Z
LAST-MODIFIED:20250508T162128Z
UID:10025551-1797667200-1797685200@bosd3.sbcounty.gov
SUMMARY:Countyline Farmers Market - Yucaipa
DESCRIPTION:Open: Year-Round\nTime: Saturday\, 8:00 AM – 1:00 PM \nOpen: July-December\nTime: Thursday\, 5:00 PM – 8:00 PM
URL:https://bosd3.sbcounty.gov/event/countyline-farmers-market-yucaipa/2026-12-19/
LOCATION:Yucaipa Community Park\, 34900 Oak Glen Road\, Yucaipa\, CA\, 92399\, United States
ORGANIZER;CN="Countyline Farmers Market":MAILTO:countylinefarmersmarket1@gmail.com
END:VEVENT
BEGIN:VEVENT
DTSTART;TZID=America/Los_Angeles:20261226T080000
DTEND;TZID=America/Los_Angeles:20261226T130000
DTSTAMP:20260422T202634
CREATED:20250508T162128Z
LAST-MODIFIED:20250508T162128Z
UID:10025554-1798272000-1798290000@bosd3.sbcounty.gov
SUMMARY:Countyline Farmers Market - Yucaipa
DESCRIPTION:Open: Year-Round\nTime: Saturday\, 8:00 AM – 1:00 PM \nOpen: July-December\nTime: Thursday\, 5:00 PM – 8:00 PM
URL:https://bosd3.sbcounty.gov/event/countyline-farmers-market-yucaipa/2026-12-26/
LOCATION:Yucaipa Community Park\, 34900 Oak Glen Road\, Yucaipa\, CA\, 92399\, United States
ORGANIZER;CN="Countyline Farmers Market":MAILTO:countylinefarmersmarket1@gmail.com
END:VEVENT
BEGIN:VEVENT
DTSTART;TZID=America/Los_Angeles:20270102T080000
DTEND;TZID=America/Los_Angeles:20270102T130000
DTSTAMP:20260422T202634
CREATED:20250508T162128Z
LAST-MODIFIED:20250508T162128Z
UID:10025557-1798876800-1798894800@bosd3.sbcounty.gov
SUMMARY:Countyline Farmers Market - Yucaipa
DESCRIPTION:Open: Year-Round\nTime: Saturday\, 8:00 AM – 1:00 PM \nOpen: July-December\nTime: Thursday\, 5:00 PM – 8:00 PM
URL:https://bosd3.sbcounty.gov/event/countyline-farmers-market-yucaipa/2027-01-02/
LOCATION:Yucaipa Community Park\, 34900 Oak Glen Road\, Yucaipa\, CA\, 92399\, United States
ORGANIZER;CN="Countyline Farmers Market":MAILTO:countylinefarmersmarket1@gmail.com
END:VEVENT
BEGIN:VEVENT
DTSTART;TZID=America/Los_Angeles:20270109T080000
DTEND;TZID=America/Los_Angeles:20270109T130000
DTSTAMP:20260422T202634
CREATED:20250508T162128Z
LAST-MODIFIED:20250508T162128Z
UID:10025560-1799481600-1799499600@bosd3.sbcounty.gov
SUMMARY:Countyline Farmers Market - Yucaipa
DESCRIPTION:Open: Year-Round\nTime: Saturday\, 8:00 AM – 1:00 PM \nOpen: July-December\nTime: Thursday\, 5:00 PM – 8:00 PM
URL:https://bosd3.sbcounty.gov/event/countyline-farmers-market-yucaipa/2027-01-09/
LOCATION:Yucaipa Community Park\, 34900 Oak Glen Road\, Yucaipa\, CA\, 92399\, United States
ORGANIZER;CN="Countyline Farmers Market":MAILTO:countylinefarmersmarket1@gmail.com
END:VEVENT
BEGIN:VEVENT
DTSTART;TZID=America/Los_Angeles:20270116T080000
DTEND;TZID=America/Los_Angeles:20270116T130000
DTSTAMP:20260422T202634
CREATED:20250508T162128Z
LAST-MODIFIED:20250508T162128Z
UID:10025563-1800086400-1800104400@bosd3.sbcounty.gov
SUMMARY:Countyline Farmers Market - Yucaipa
DESCRIPTION:Open: Year-Round\nTime: Saturday\, 8:00 AM – 1:00 PM \nOpen: July-December\nTime: Thursday\, 5:00 PM – 8:00 PM
URL:https://bosd3.sbcounty.gov/event/countyline-farmers-market-yucaipa/2027-01-16/
LOCATION:Yucaipa Community Park\, 34900 Oak Glen Road\, Yucaipa\, CA\, 92399\, United States
ORGANIZER;CN="Countyline Farmers Market":MAILTO:countylinefarmersmarket1@gmail.com
END:VEVENT
BEGIN:VEVENT
DTSTART;TZID=America/Los_Angeles:20270123T080000
DTEND;TZID=America/Los_Angeles:20270123T130000
DTSTAMP:20260422T202634
CREATED:20250508T162128Z
LAST-MODIFIED:20250508T162128Z
UID:10025566-1800691200-1800709200@bosd3.sbcounty.gov
SUMMARY:Countyline Farmers Market - Yucaipa
DESCRIPTION:Open: Year-Round\nTime: Saturday\, 8:00 AM – 1:00 PM \nOpen: July-December\nTime: Thursday\, 5:00 PM – 8:00 PM
URL:https://bosd3.sbcounty.gov/event/countyline-farmers-market-yucaipa/2027-01-23/
LOCATION:Yucaipa Community Park\, 34900 Oak Glen Road\, Yucaipa\, CA\, 92399\, United States
ORGANIZER;CN="Countyline Farmers Market":MAILTO:countylinefarmersmarket1@gmail.com
END:VEVENT
BEGIN:VEVENT
DTSTART;TZID=America/Los_Angeles:20270130T080000
DTEND;TZID=America/Los_Angeles:20270130T130000
DTSTAMP:20260422T202634
CREATED:20250508T162128Z
LAST-MODIFIED:20250508T162128Z
UID:10025569-1801296000-1801314000@bosd3.sbcounty.gov
SUMMARY:Countyline Farmers Market - Yucaipa
DESCRIPTION:Open: Year-Round\nTime: Saturday\, 8:00 AM – 1:00 PM \nOpen: July-December\nTime: Thursday\, 5:00 PM – 8:00 PM
URL:https://bosd3.sbcounty.gov/event/countyline-farmers-market-yucaipa/2027-01-30/
LOCATION:Yucaipa Community Park\, 34900 Oak Glen Road\, Yucaipa\, CA\, 92399\, United States
ORGANIZER;CN="Countyline Farmers Market":MAILTO:countylinefarmersmarket1@gmail.com
END:VEVENT
BEGIN:VEVENT
DTSTART;TZID=America/Los_Angeles:20270206T080000
DTEND;TZID=America/Los_Angeles:20270206T130000
DTSTAMP:20260422T202634
CREATED:20250508T162128Z
LAST-MODIFIED:20250508T162128Z
UID:10025572-1801900800-1801918800@bosd3.sbcounty.gov
SUMMARY:Countyline Farmers Market - Yucaipa
DESCRIPTION:Open: Year-Round\nTime: Saturday\, 8:00 AM – 1:00 PM \nOpen: July-December\nTime: Thursday\, 5:00 PM – 8:00 PM
URL:https://bosd3.sbcounty.gov/event/countyline-farmers-market-yucaipa/2027-02-06/
LOCATION:Yucaipa Community Park\, 34900 Oak Glen Road\, Yucaipa\, CA\, 92399\, United States
ORGANIZER;CN="Countyline Farmers Market":MAILTO:countylinefarmersmarket1@gmail.com
END:VEVENT
BEGIN:VEVENT
DTSTART;TZID=America/Los_Angeles:20270213T080000
DTEND;TZID=America/Los_Angeles:20270213T130000
DTSTAMP:20260422T202634
CREATED:20250508T162128Z
LAST-MODIFIED:20250508T162128Z
UID:10025575-1802505600-1802523600@bosd3.sbcounty.gov
SUMMARY:Countyline Farmers Market - Yucaipa
DESCRIPTION:Open: Year-Round\nTime: Saturday\, 8:00 AM – 1:00 PM \nOpen: July-December\nTime: Thursday\, 5:00 PM – 8:00 PM
URL:https://bosd3.sbcounty.gov/event/countyline-farmers-market-yucaipa/2027-02-13/
LOCATION:Yucaipa Community Park\, 34900 Oak Glen Road\, Yucaipa\, CA\, 92399\, United States
ORGANIZER;CN="Countyline Farmers Market":MAILTO:countylinefarmersmarket1@gmail.com
END:VEVENT
BEGIN:VEVENT
DTSTART;TZID=America/Los_Angeles:20270220T080000
DTEND;TZID=America/Los_Angeles:20270220T130000
DTSTAMP:20260422T202634
CREATED:20250508T162128Z
LAST-MODIFIED:20250508T162128Z
UID:10025578-1803110400-1803128400@bosd3.sbcounty.gov
SUMMARY:Countyline Farmers Market - Yucaipa
DESCRIPTION:Open: Year-Round\nTime: Saturday\, 8:00 AM – 1:00 PM \nOpen: July-December\nTime: Thursday\, 5:00 PM – 8:00 PM
URL:https://bosd3.sbcounty.gov/event/countyline-farmers-market-yucaipa/2027-02-20/
LOCATION:Yucaipa Community Park\, 34900 Oak Glen Road\, Yucaipa\, CA\, 92399\, United States
ORGANIZER;CN="Countyline Farmers Market":MAILTO:countylinefarmersmarket1@gmail.com
END:VEVENT
BEGIN:VEVENT
DTSTART;TZID=America/Los_Angeles:20270227T080000
DTEND;TZID=America/Los_Angeles:20270227T130000
DTSTAMP:20260422T202634
CREATED:20250508T162128Z
LAST-MODIFIED:20250508T162128Z
UID:10025581-1803715200-1803733200@bosd3.sbcounty.gov
SUMMARY:Countyline Farmers Market - Yucaipa
DESCRIPTION:Open: Year-Round\nTime: Saturday\, 8:00 AM – 1:00 PM \nOpen: July-December\nTime: Thursday\, 5:00 PM – 8:00 PM
URL:https://bosd3.sbcounty.gov/event/countyline-farmers-market-yucaipa/2027-02-27/
LOCATION:Yucaipa Community Park\, 34900 Oak Glen Road\, Yucaipa\, CA\, 92399\, United States
ORGANIZER;CN="Countyline Farmers Market":MAILTO:countylinefarmersmarket1@gmail.com
END:VEVENT
BEGIN:VEVENT
DTSTART;TZID=America/Los_Angeles:20270306T080000
DTEND;TZID=America/Los_Angeles:20270306T130000
DTSTAMP:20260422T202634
CREATED:20250508T162128Z
LAST-MODIFIED:20250508T162128Z
UID:10025584-1804320000-1804338000@bosd3.sbcounty.gov
SUMMARY:Countyline Farmers Market - Yucaipa
DESCRIPTION:Open: Year-Round\nTime: Saturday\, 8:00 AM – 1:00 PM \nOpen: July-December\nTime: Thursday\, 5:00 PM – 8:00 PM
URL:https://bosd3.sbcounty.gov/event/countyline-farmers-market-yucaipa/2027-03-06/
LOCATION:Yucaipa Community Park\, 34900 Oak Glen Road\, Yucaipa\, CA\, 92399\, United States
ORGANIZER;CN="Countyline Farmers Market":MAILTO:countylinefarmersmarket1@gmail.com
END:VEVENT
BEGIN:VEVENT
DTSTART;TZID=America/Los_Angeles:20270313T080000
DTEND;TZID=America/Los_Angeles:20270313T130000
DTSTAMP:20260422T202634
CREATED:20250508T162128Z
LAST-MODIFIED:20250508T162128Z
UID:10025587-1804924800-1804942800@bosd3.sbcounty.gov
SUMMARY:Countyline Farmers Market - Yucaipa
DESCRIPTION:Open: Year-Round\nTime: Saturday\, 8:00 AM – 1:00 PM \nOpen: July-December\nTime: Thursday\, 5:00 PM – 8:00 PM
URL:https://bosd3.sbcounty.gov/event/countyline-farmers-market-yucaipa/2027-03-13/
LOCATION:Yucaipa Community Park\, 34900 Oak Glen Road\, Yucaipa\, CA\, 92399\, United States
ORGANIZER;CN="Countyline Farmers Market":MAILTO:countylinefarmersmarket1@gmail.com
END:VEVENT
BEGIN:VEVENT
DTSTART;TZID=America/Los_Angeles:20270320T080000
DTEND;TZID=America/Los_Angeles:20270320T130000
DTSTAMP:20260422T202634
CREATED:20250508T162128Z
LAST-MODIFIED:20250508T162128Z
UID:10025590-1805529600-1805547600@bosd3.sbcounty.gov
SUMMARY:Countyline Farmers Market - Yucaipa
DESCRIPTION:Open: Year-Round\nTime: Saturday\, 8:00 AM – 1:00 PM \nOpen: July-December\nTime: Thursday\, 5:00 PM – 8:00 PM
URL:https://bosd3.sbcounty.gov/event/countyline-farmers-market-yucaipa/2027-03-20/
LOCATION:Yucaipa Community Park\, 34900 Oak Glen Road\, Yucaipa\, CA\, 92399\, United States
ORGANIZER;CN="Countyline Farmers Market":MAILTO:countylinefarmersmarket1@gmail.com
END:VEVENT
BEGIN:VEVENT
DTSTART;TZID=America/Los_Angeles:20270327T080000
DTEND;TZID=America/Los_Angeles:20270327T130000
DTSTAMP:20260422T202634
CREATED:20250508T162128Z
LAST-MODIFIED:20250508T162128Z
UID:10025593-1806134400-1806152400@bosd3.sbcounty.gov
SUMMARY:Countyline Farmers Market - Yucaipa
DESCRIPTION:Open: Year-Round\nTime: Saturday\, 8:00 AM – 1:00 PM \nOpen: July-December\nTime: Thursday\, 5:00 PM – 8:00 PM
URL:https://bosd3.sbcounty.gov/event/countyline-farmers-market-yucaipa/2027-03-27/
LOCATION:Yucaipa Community Park\, 34900 Oak Glen Road\, Yucaipa\, CA\, 92399\, United States
ORGANIZER;CN="Countyline Farmers Market":MAILTO:countylinefarmersmarket1@gmail.com
END:VEVENT
BEGIN:VEVENT
DTSTART;TZID=America/Los_Angeles:20270403T080000
DTEND;TZID=America/Los_Angeles:20270403T130000
DTSTAMP:20260422T202634
CREATED:20250508T162128Z
LAST-MODIFIED:20250508T162128Z
UID:10025596-1806739200-1806757200@bosd3.sbcounty.gov
SUMMARY:Countyline Farmers Market - Yucaipa
DESCRIPTION:Open: Year-Round\nTime: Saturday\, 8:00 AM – 1:00 PM \nOpen: July-December\nTime: Thursday\, 5:00 PM – 8:00 PM
URL:https://bosd3.sbcounty.gov/event/countyline-farmers-market-yucaipa/2027-04-03/
LOCATION:Yucaipa Community Park\, 34900 Oak Glen Road\, Yucaipa\, CA\, 92399\, United States
ORGANIZER;CN="Countyline Farmers Market":MAILTO:countylinefarmersmarket1@gmail.com
END:VEVENT
BEGIN:VEVENT
DTSTART;TZID=America/Los_Angeles:20270410T080000
DTEND;TZID=America/Los_Angeles:20270410T130000
DTSTAMP:20260422T202634
CREATED:20250508T162128Z
LAST-MODIFIED:20250508T162128Z
UID:10025599-1807344000-1807362000@bosd3.sbcounty.gov
SUMMARY:Countyline Farmers Market - Yucaipa
DESCRIPTION:Open: Year-Round\nTime: Saturday\, 8:00 AM – 1:00 PM \nOpen: July-December\nTime: Thursday\, 5:00 PM – 8:00 PM
URL:https://bosd3.sbcounty.gov/event/countyline-farmers-market-yucaipa/2027-04-10/
LOCATION:Yucaipa Community Park\, 34900 Oak Glen Road\, Yucaipa\, CA\, 92399\, United States
ORGANIZER;CN="Countyline Farmers Market":MAILTO:countylinefarmersmarket1@gmail.com
END:VEVENT
BEGIN:VEVENT
DTSTART;TZID=America/Los_Angeles:20270417T080000
DTEND;TZID=America/Los_Angeles:20270417T130000
DTSTAMP:20260422T202634
CREATED:20250508T162128Z
LAST-MODIFIED:20250508T162128Z
UID:10025602-1807948800-1807966800@bosd3.sbcounty.gov
SUMMARY:Countyline Farmers Market - Yucaipa
DESCRIPTION:Open: Year-Round\nTime: Saturday\, 8:00 AM – 1:00 PM \nOpen: July-December\nTime: Thursday\, 5:00 PM – 8:00 PM
URL:https://bosd3.sbcounty.gov/event/countyline-farmers-market-yucaipa/2027-04-17/
LOCATION:Yucaipa Community Park\, 34900 Oak Glen Road\, Yucaipa\, CA\, 92399\, United States
ORGANIZER;CN="Countyline Farmers Market":MAILTO:countylinefarmersmarket1@gmail.com
END:VEVENT
BEGIN:VEVENT
DTSTART;TZID=America/Los_Angeles:20270424T080000
DTEND;TZID=America/Los_Angeles:20270424T130000
DTSTAMP:20260422T202634
CREATED:20250508T162128Z
LAST-MODIFIED:20250508T162128Z
UID:10025605-1808553600-1808571600@bosd3.sbcounty.gov
SUMMARY:Countyline Farmers Market - Yucaipa
DESCRIPTION:Open: Year-Round\nTime: Saturday\, 8:00 AM – 1:00 PM \nOpen: July-December\nTime: Thursday\, 5:00 PM – 8:00 PM
URL:https://bosd3.sbcounty.gov/event/countyline-farmers-market-yucaipa/2027-04-24/
LOCATION:Yucaipa Community Park\, 34900 Oak Glen Road\, Yucaipa\, CA\, 92399\, United States
ORGANIZER;CN="Countyline Farmers Market":MAILTO:countylinefarmersmarket1@gmail.com
END:VEVENT
BEGIN:VEVENT
DTSTART;TZID=America/Los_Angeles:20270501T080000
DTEND;TZID=America/Los_Angeles:20270501T130000
DTSTAMP:20260422T202634
CREATED:20250508T162128Z
LAST-MODIFIED:20250508T162128Z
UID:10025608-1809158400-1809176400@bosd3.sbcounty.gov
SUMMARY:Countyline Farmers Market - Yucaipa
DESCRIPTION:Open: Year-Round\nTime: Saturday\, 8:00 AM – 1:00 PM \nOpen: July-December\nTime: Thursday\, 5:00 PM – 8:00 PM
URL:https://bosd3.sbcounty.gov/event/countyline-farmers-market-yucaipa/2027-05-01/
LOCATION:Yucaipa Community Park\, 34900 Oak Glen Road\, Yucaipa\, CA\, 92399\, United States
ORGANIZER;CN="Countyline Farmers Market":MAILTO:countylinefarmersmarket1@gmail.com
END:VEVENT
END:VCALENDAR