BEGIN:VCALENDAR
VERSION:2.0
PRODID:-//Dawn Rowe Third District Supervisor - ECPv6.15.14//NONSGML v1.0//EN
CALSCALE:GREGORIAN
METHOD:PUBLISH
X-ORIGINAL-URL:https://bosd3.sbcounty.gov
X-WR-CALDESC:Events for Dawn Rowe Third District Supervisor
REFRESH-INTERVAL;VALUE=DURATION:PT1H
X-Robots-Tag:noindex
X-PUBLISHED-TTL:PT1H
BEGIN:VTIMEZONE
TZID:America/Los_Angeles
BEGIN:DAYLIGHT
TZOFFSETFROM:-0800
TZOFFSETTO:-0700
TZNAME:PDT
DTSTART:20240310T100000
END:DAYLIGHT
BEGIN:STANDARD
TZOFFSETFROM:-0700
TZOFFSETTO:-0800
TZNAME:PST
DTSTART:20241103T090000
END:STANDARD
BEGIN:DAYLIGHT
TZOFFSETFROM:-0800
TZOFFSETTO:-0700
TZNAME:PDT
DTSTART:20250309T100000
END:DAYLIGHT
BEGIN:STANDARD
TZOFFSETFROM:-0700
TZOFFSETTO:-0800
TZNAME:PST
DTSTART:20251102T090000
END:STANDARD
BEGIN:DAYLIGHT
TZOFFSETFROM:-0800
TZOFFSETTO:-0700
TZNAME:PDT
DTSTART:20260308T100000
END:DAYLIGHT
BEGIN:STANDARD
TZOFFSETFROM:-0700
TZOFFSETTO:-0800
TZNAME:PST
DTSTART:20261101T090000
END:STANDARD
BEGIN:DAYLIGHT
TZOFFSETFROM:-0800
TZOFFSETTO:-0700
TZNAME:PDT
DTSTART:20270314T100000
END:DAYLIGHT
BEGIN:STANDARD
TZOFFSETFROM:-0700
TZOFFSETTO:-0800
TZNAME:PST
DTSTART:20271107T090000
END:STANDARD
END:VTIMEZONE
BEGIN:VEVENT
DTSTART;TZID=America/Los_Angeles:20260124T080000
DTEND;TZID=America/Los_Angeles:20260124T130000
DTSTAMP:20260422T191344
CREATED:20250508T162128Z
LAST-MODIFIED:20250508T162128Z
UID:10025410-1769241600-1769259600@bosd3.sbcounty.gov
SUMMARY:Countyline Farmers Market - Yucaipa
DESCRIPTION:Open: Year-Round\nTime: Saturday\, 8:00 AM – 1:00 PM \nOpen: July-December\nTime: Thursday\, 5:00 PM – 8:00 PM
URL:https://bosd3.sbcounty.gov/event/countyline-farmers-market-yucaipa/2026-01-24/
LOCATION:Yucaipa Community Park\, 34900 Oak Glen Road\, Yucaipa\, CA\, 92399\, United States
ORGANIZER;CN="Countyline Farmers Market":MAILTO:countylinefarmersmarket1@gmail.com
END:VEVENT
BEGIN:VEVENT
DTSTART;TZID=America/Los_Angeles:20260117T080000
DTEND;TZID=America/Los_Angeles:20260117T130000
DTSTAMP:20260422T191344
CREATED:20250508T162128Z
LAST-MODIFIED:20250508T162128Z
UID:10025407-1768636800-1768654800@bosd3.sbcounty.gov
SUMMARY:Countyline Farmers Market - Yucaipa
DESCRIPTION:Open: Year-Round\nTime: Saturday\, 8:00 AM – 1:00 PM \nOpen: July-December\nTime: Thursday\, 5:00 PM – 8:00 PM
URL:https://bosd3.sbcounty.gov/event/countyline-farmers-market-yucaipa/2026-01-17/
LOCATION:Yucaipa Community Park\, 34900 Oak Glen Road\, Yucaipa\, CA\, 92399\, United States
ORGANIZER;CN="Countyline Farmers Market":MAILTO:countylinefarmersmarket1@gmail.com
END:VEVENT
BEGIN:VEVENT
DTSTART;TZID=America/Los_Angeles:20260110T080000
DTEND;TZID=America/Los_Angeles:20260110T130000
DTSTAMP:20260422T191344
CREATED:20250508T162128Z
LAST-MODIFIED:20250508T162128Z
UID:10025404-1768032000-1768050000@bosd3.sbcounty.gov
SUMMARY:Countyline Farmers Market - Yucaipa
DESCRIPTION:Open: Year-Round\nTime: Saturday\, 8:00 AM – 1:00 PM \nOpen: July-December\nTime: Thursday\, 5:00 PM – 8:00 PM
URL:https://bosd3.sbcounty.gov/event/countyline-farmers-market-yucaipa/2026-01-10/
LOCATION:Yucaipa Community Park\, 34900 Oak Glen Road\, Yucaipa\, CA\, 92399\, United States
ORGANIZER;CN="Countyline Farmers Market":MAILTO:countylinefarmersmarket1@gmail.com
END:VEVENT
BEGIN:VEVENT
DTSTART;TZID=America/Los_Angeles:20260103T080000
DTEND;TZID=America/Los_Angeles:20260103T130000
DTSTAMP:20260422T191344
CREATED:20250508T162128Z
LAST-MODIFIED:20250508T162128Z
UID:10025401-1767427200-1767445200@bosd3.sbcounty.gov
SUMMARY:Countyline Farmers Market - Yucaipa
DESCRIPTION:Open: Year-Round\nTime: Saturday\, 8:00 AM – 1:00 PM \nOpen: July-December\nTime: Thursday\, 5:00 PM – 8:00 PM
URL:https://bosd3.sbcounty.gov/event/countyline-farmers-market-yucaipa/2026-01-03/
LOCATION:Yucaipa Community Park\, 34900 Oak Glen Road\, Yucaipa\, CA\, 92399\, United States
ORGANIZER;CN="Countyline Farmers Market":MAILTO:countylinefarmersmarket1@gmail.com
END:VEVENT
BEGIN:VEVENT
DTSTART;TZID=America/Los_Angeles:20251227T080000
DTEND;TZID=America/Los_Angeles:20251227T130000
DTSTAMP:20260422T191344
CREATED:20250508T162128Z
LAST-MODIFIED:20250508T162128Z
UID:10025398-1766822400-1766840400@bosd3.sbcounty.gov
SUMMARY:Countyline Farmers Market - Yucaipa
DESCRIPTION:Open: Year-Round\nTime: Saturday\, 8:00 AM – 1:00 PM \nOpen: July-December\nTime: Thursday\, 5:00 PM – 8:00 PM
URL:https://bosd3.sbcounty.gov/event/countyline-farmers-market-yucaipa/2025-12-27/
LOCATION:Yucaipa Community Park\, 34900 Oak Glen Road\, Yucaipa\, CA\, 92399\, United States
ORGANIZER;CN="Countyline Farmers Market":MAILTO:countylinefarmersmarket1@gmail.com
END:VEVENT
BEGIN:VEVENT
DTSTART;TZID=America/Los_Angeles:20251220T080000
DTEND;TZID=America/Los_Angeles:20251220T130000
DTSTAMP:20260422T191344
CREATED:20250508T162128Z
LAST-MODIFIED:20250508T162128Z
UID:10025395-1766217600-1766235600@bosd3.sbcounty.gov
SUMMARY:Countyline Farmers Market - Yucaipa
DESCRIPTION:Open: Year-Round\nTime: Saturday\, 8:00 AM – 1:00 PM \nOpen: July-December\nTime: Thursday\, 5:00 PM – 8:00 PM
URL:https://bosd3.sbcounty.gov/event/countyline-farmers-market-yucaipa/2025-12-20/
LOCATION:Yucaipa Community Park\, 34900 Oak Glen Road\, Yucaipa\, CA\, 92399\, United States
ORGANIZER;CN="Countyline Farmers Market":MAILTO:countylinefarmersmarket1@gmail.com
END:VEVENT
BEGIN:VEVENT
DTSTART;TZID=America/Los_Angeles:20251213T080000
DTEND;TZID=America/Los_Angeles:20251213T130000
DTSTAMP:20260422T191344
CREATED:20250508T162128Z
LAST-MODIFIED:20250508T162128Z
UID:10025392-1765612800-1765630800@bosd3.sbcounty.gov
SUMMARY:Countyline Farmers Market - Yucaipa
DESCRIPTION:Open: Year-Round\nTime: Saturday\, 8:00 AM – 1:00 PM \nOpen: July-December\nTime: Thursday\, 5:00 PM – 8:00 PM
URL:https://bosd3.sbcounty.gov/event/countyline-farmers-market-yucaipa/2025-12-13/
LOCATION:Yucaipa Community Park\, 34900 Oak Glen Road\, Yucaipa\, CA\, 92399\, United States
ORGANIZER;CN="Countyline Farmers Market":MAILTO:countylinefarmersmarket1@gmail.com
END:VEVENT
BEGIN:VEVENT
DTSTART;TZID=America/Los_Angeles:20251206T080000
DTEND;TZID=America/Los_Angeles:20251206T130000
DTSTAMP:20260422T191344
CREATED:20250508T162128Z
LAST-MODIFIED:20250508T162128Z
UID:10025389-1765008000-1765026000@bosd3.sbcounty.gov
SUMMARY:Countyline Farmers Market - Yucaipa
DESCRIPTION:Open: Year-Round\nTime: Saturday\, 8:00 AM – 1:00 PM \nOpen: July-December\nTime: Thursday\, 5:00 PM – 8:00 PM
URL:https://bosd3.sbcounty.gov/event/countyline-farmers-market-yucaipa/2025-12-06/
LOCATION:Yucaipa Community Park\, 34900 Oak Glen Road\, Yucaipa\, CA\, 92399\, United States
ORGANIZER;CN="Countyline Farmers Market":MAILTO:countylinefarmersmarket1@gmail.com
END:VEVENT
BEGIN:VEVENT
DTSTART;TZID=America/Los_Angeles:20251129T080000
DTEND;TZID=America/Los_Angeles:20251129T130000
DTSTAMP:20260422T191344
CREATED:20250508T162128Z
LAST-MODIFIED:20250508T162128Z
UID:10025386-1764403200-1764421200@bosd3.sbcounty.gov
SUMMARY:Countyline Farmers Market - Yucaipa
DESCRIPTION:Open: Year-Round\nTime: Saturday\, 8:00 AM – 1:00 PM \nOpen: July-December\nTime: Thursday\, 5:00 PM – 8:00 PM
URL:https://bosd3.sbcounty.gov/event/countyline-farmers-market-yucaipa/2025-11-29/
LOCATION:Yucaipa Community Park\, 34900 Oak Glen Road\, Yucaipa\, CA\, 92399\, United States
ORGANIZER;CN="Countyline Farmers Market":MAILTO:countylinefarmersmarket1@gmail.com
END:VEVENT
BEGIN:VEVENT
DTSTART;TZID=America/Los_Angeles:20251122T080000
DTEND;TZID=America/Los_Angeles:20251122T130000
DTSTAMP:20260422T191344
CREATED:20250508T162128Z
LAST-MODIFIED:20250508T162128Z
UID:10025383-1763798400-1763816400@bosd3.sbcounty.gov
SUMMARY:Countyline Farmers Market - Yucaipa
DESCRIPTION:Open: Year-Round\nTime: Saturday\, 8:00 AM – 1:00 PM \nOpen: July-December\nTime: Thursday\, 5:00 PM – 8:00 PM
URL:https://bosd3.sbcounty.gov/event/countyline-farmers-market-yucaipa/2025-11-22/
LOCATION:Yucaipa Community Park\, 34900 Oak Glen Road\, Yucaipa\, CA\, 92399\, United States
ORGANIZER;CN="Countyline Farmers Market":MAILTO:countylinefarmersmarket1@gmail.com
END:VEVENT
BEGIN:VEVENT
DTSTART;TZID=America/Los_Angeles:20251115T080000
DTEND;TZID=America/Los_Angeles:20251115T130000
DTSTAMP:20260422T191344
CREATED:20250508T162128Z
LAST-MODIFIED:20250508T162128Z
UID:10025380-1763193600-1763211600@bosd3.sbcounty.gov
SUMMARY:Countyline Farmers Market - Yucaipa
DESCRIPTION:Open: Year-Round\nTime: Saturday\, 8:00 AM – 1:00 PM \nOpen: July-December\nTime: Thursday\, 5:00 PM – 8:00 PM
URL:https://bosd3.sbcounty.gov/event/countyline-farmers-market-yucaipa/2025-11-15/
LOCATION:Yucaipa Community Park\, 34900 Oak Glen Road\, Yucaipa\, CA\, 92399\, United States
ORGANIZER;CN="Countyline Farmers Market":MAILTO:countylinefarmersmarket1@gmail.com
END:VEVENT
BEGIN:VEVENT
DTSTART;TZID=America/Los_Angeles:20251108T080000
DTEND;TZID=America/Los_Angeles:20251108T130000
DTSTAMP:20260422T191344
CREATED:20250508T162128Z
LAST-MODIFIED:20250508T162128Z
UID:10025377-1762588800-1762606800@bosd3.sbcounty.gov
SUMMARY:Countyline Farmers Market - Yucaipa
DESCRIPTION:Open: Year-Round\nTime: Saturday\, 8:00 AM – 1:00 PM \nOpen: July-December\nTime: Thursday\, 5:00 PM – 8:00 PM
URL:https://bosd3.sbcounty.gov/event/countyline-farmers-market-yucaipa/2025-11-08/
LOCATION:Yucaipa Community Park\, 34900 Oak Glen Road\, Yucaipa\, CA\, 92399\, United States
ORGANIZER;CN="Countyline Farmers Market":MAILTO:countylinefarmersmarket1@gmail.com
END:VEVENT
BEGIN:VEVENT
DTSTART;TZID=America/Los_Angeles:20251101T080000
DTEND;TZID=America/Los_Angeles:20251101T130000
DTSTAMP:20260422T191344
CREATED:20250508T162128Z
LAST-MODIFIED:20250508T162128Z
UID:10025374-1761984000-1762002000@bosd3.sbcounty.gov
SUMMARY:Countyline Farmers Market - Yucaipa
DESCRIPTION:Open: Year-Round\nTime: Saturday\, 8:00 AM – 1:00 PM \nOpen: July-December\nTime: Thursday\, 5:00 PM – 8:00 PM
URL:https://bosd3.sbcounty.gov/event/countyline-farmers-market-yucaipa/2025-11-01/
LOCATION:Yucaipa Community Park\, 34900 Oak Glen Road\, Yucaipa\, CA\, 92399\, United States
ORGANIZER;CN="Countyline Farmers Market":MAILTO:countylinefarmersmarket1@gmail.com
END:VEVENT
BEGIN:VEVENT
DTSTART;TZID=America/Los_Angeles:20251025T080000
DTEND;TZID=America/Los_Angeles:20251025T130000
DTSTAMP:20260422T191344
CREATED:20250508T162128Z
LAST-MODIFIED:20250508T162128Z
UID:10025371-1761379200-1761397200@bosd3.sbcounty.gov
SUMMARY:Countyline Farmers Market - Yucaipa
DESCRIPTION:Open: Year-Round\nTime: Saturday\, 8:00 AM – 1:00 PM \nOpen: July-December\nTime: Thursday\, 5:00 PM – 8:00 PM
URL:https://bosd3.sbcounty.gov/event/countyline-farmers-market-yucaipa/2025-10-25/
LOCATION:Yucaipa Community Park\, 34900 Oak Glen Road\, Yucaipa\, CA\, 92399\, United States
ORGANIZER;CN="Countyline Farmers Market":MAILTO:countylinefarmersmarket1@gmail.com
END:VEVENT
BEGIN:VEVENT
DTSTART;TZID=America/Los_Angeles:20251018T080000
DTEND;TZID=America/Los_Angeles:20251018T130000
DTSTAMP:20260422T191344
CREATED:20250508T162128Z
LAST-MODIFIED:20250508T162128Z
UID:10025368-1760774400-1760792400@bosd3.sbcounty.gov
SUMMARY:Countyline Farmers Market - Yucaipa
DESCRIPTION:Open: Year-Round\nTime: Saturday\, 8:00 AM – 1:00 PM \nOpen: July-December\nTime: Thursday\, 5:00 PM – 8:00 PM
URL:https://bosd3.sbcounty.gov/event/countyline-farmers-market-yucaipa/2025-10-18/
LOCATION:Yucaipa Community Park\, 34900 Oak Glen Road\, Yucaipa\, CA\, 92399\, United States
ORGANIZER;CN="Countyline Farmers Market":MAILTO:countylinefarmersmarket1@gmail.com
END:VEVENT
BEGIN:VEVENT
DTSTART;TZID=America/Los_Angeles:20251011T080000
DTEND;TZID=America/Los_Angeles:20251011T130000
DTSTAMP:20260422T191344
CREATED:20250508T162128Z
LAST-MODIFIED:20250508T162128Z
UID:10025365-1760169600-1760187600@bosd3.sbcounty.gov
SUMMARY:Countyline Farmers Market - Yucaipa
DESCRIPTION:Open: Year-Round\nTime: Saturday\, 8:00 AM – 1:00 PM \nOpen: July-December\nTime: Thursday\, 5:00 PM – 8:00 PM
URL:https://bosd3.sbcounty.gov/event/countyline-farmers-market-yucaipa/2025-10-11/
LOCATION:Yucaipa Community Park\, 34900 Oak Glen Road\, Yucaipa\, CA\, 92399\, United States
ORGANIZER;CN="Countyline Farmers Market":MAILTO:countylinefarmersmarket1@gmail.com
END:VEVENT
BEGIN:VEVENT
DTSTART;TZID=America/Los_Angeles:20251004T080000
DTEND;TZID=America/Los_Angeles:20251004T130000
DTSTAMP:20260422T191344
CREATED:20250508T162128Z
LAST-MODIFIED:20250508T162128Z
UID:10025362-1759564800-1759582800@bosd3.sbcounty.gov
SUMMARY:Countyline Farmers Market - Yucaipa
DESCRIPTION:Open: Year-Round\nTime: Saturday\, 8:00 AM – 1:00 PM \nOpen: July-December\nTime: Thursday\, 5:00 PM – 8:00 PM
URL:https://bosd3.sbcounty.gov/event/countyline-farmers-market-yucaipa/2025-10-04/
LOCATION:Yucaipa Community Park\, 34900 Oak Glen Road\, Yucaipa\, CA\, 92399\, United States
ORGANIZER;CN="Countyline Farmers Market":MAILTO:countylinefarmersmarket1@gmail.com
END:VEVENT
BEGIN:VEVENT
DTSTART;TZID=America/Los_Angeles:20250927T080000
DTEND;TZID=America/Los_Angeles:20250927T130000
DTSTAMP:20260422T191344
CREATED:20250508T162128Z
LAST-MODIFIED:20250508T162128Z
UID:10025359-1758960000-1758978000@bosd3.sbcounty.gov
SUMMARY:Countyline Farmers Market - Yucaipa
DESCRIPTION:Open: Year-Round\nTime: Saturday\, 8:00 AM – 1:00 PM \nOpen: July-December\nTime: Thursday\, 5:00 PM – 8:00 PM
URL:https://bosd3.sbcounty.gov/event/countyline-farmers-market-yucaipa/2025-09-27/
LOCATION:Yucaipa Community Park\, 34900 Oak Glen Road\, Yucaipa\, CA\, 92399\, United States
ORGANIZER;CN="Countyline Farmers Market":MAILTO:countylinefarmersmarket1@gmail.com
END:VEVENT
BEGIN:VEVENT
DTSTART;TZID=America/Los_Angeles:20250920T080000
DTEND;TZID=America/Los_Angeles:20250920T130000
DTSTAMP:20260422T191344
CREATED:20250508T162128Z
LAST-MODIFIED:20250508T162128Z
UID:10025356-1758355200-1758373200@bosd3.sbcounty.gov
SUMMARY:Countyline Farmers Market - Yucaipa
DESCRIPTION:Open: Year-Round\nTime: Saturday\, 8:00 AM – 1:00 PM \nOpen: July-December\nTime: Thursday\, 5:00 PM – 8:00 PM
URL:https://bosd3.sbcounty.gov/event/countyline-farmers-market-yucaipa/2025-09-20/
LOCATION:Yucaipa Community Park\, 34900 Oak Glen Road\, Yucaipa\, CA\, 92399\, United States
ORGANIZER;CN="Countyline Farmers Market":MAILTO:countylinefarmersmarket1@gmail.com
END:VEVENT
BEGIN:VEVENT
DTSTART;TZID=America/Los_Angeles:20250913T080000
DTEND;TZID=America/Los_Angeles:20250913T130000
DTSTAMP:20260422T191344
CREATED:20250508T162128Z
LAST-MODIFIED:20250508T162128Z
UID:10025353-1757750400-1757768400@bosd3.sbcounty.gov
SUMMARY:Countyline Farmers Market - Yucaipa
DESCRIPTION:Open: Year-Round\nTime: Saturday\, 8:00 AM – 1:00 PM \nOpen: July-December\nTime: Thursday\, 5:00 PM – 8:00 PM
URL:https://bosd3.sbcounty.gov/event/countyline-farmers-market-yucaipa/2025-09-13/
LOCATION:Yucaipa Community Park\, 34900 Oak Glen Road\, Yucaipa\, CA\, 92399\, United States
ORGANIZER;CN="Countyline Farmers Market":MAILTO:countylinefarmersmarket1@gmail.com
END:VEVENT
BEGIN:VEVENT
DTSTART;TZID=America/Los_Angeles:20250906T080000
DTEND;TZID=America/Los_Angeles:20250906T130000
DTSTAMP:20260422T191344
CREATED:20250508T162128Z
LAST-MODIFIED:20250508T162128Z
UID:10025350-1757145600-1757163600@bosd3.sbcounty.gov
SUMMARY:Countyline Farmers Market - Yucaipa
DESCRIPTION:Open: Year-Round\nTime: Saturday\, 8:00 AM – 1:00 PM \nOpen: July-December\nTime: Thursday\, 5:00 PM – 8:00 PM
URL:https://bosd3.sbcounty.gov/event/countyline-farmers-market-yucaipa/2025-09-06/
LOCATION:Yucaipa Community Park\, 34900 Oak Glen Road\, Yucaipa\, CA\, 92399\, United States
ORGANIZER;CN="Countyline Farmers Market":MAILTO:countylinefarmersmarket1@gmail.com
END:VEVENT
BEGIN:VEVENT
DTSTART;TZID=America/Los_Angeles:20250830T080000
DTEND;TZID=America/Los_Angeles:20250830T130000
DTSTAMP:20260422T191344
CREATED:20250508T162128Z
LAST-MODIFIED:20250508T162128Z
UID:10025347-1756540800-1756558800@bosd3.sbcounty.gov
SUMMARY:Countyline Farmers Market - Yucaipa
DESCRIPTION:Open: Year-Round\nTime: Saturday\, 8:00 AM – 1:00 PM \nOpen: July-December\nTime: Thursday\, 5:00 PM – 8:00 PM
URL:https://bosd3.sbcounty.gov/event/countyline-farmers-market-yucaipa/2025-08-30/
LOCATION:Yucaipa Community Park\, 34900 Oak Glen Road\, Yucaipa\, CA\, 92399\, United States
ORGANIZER;CN="Countyline Farmers Market":MAILTO:countylinefarmersmarket1@gmail.com
END:VEVENT
BEGIN:VEVENT
DTSTART;TZID=America/Los_Angeles:20250823T080000
DTEND;TZID=America/Los_Angeles:20250823T130000
DTSTAMP:20260422T191344
CREATED:20250508T162128Z
LAST-MODIFIED:20250508T162128Z
UID:10025344-1755936000-1755954000@bosd3.sbcounty.gov
SUMMARY:Countyline Farmers Market - Yucaipa
DESCRIPTION:Open: Year-Round\nTime: Saturday\, 8:00 AM – 1:00 PM \nOpen: July-December\nTime: Thursday\, 5:00 PM – 8:00 PM
URL:https://bosd3.sbcounty.gov/event/countyline-farmers-market-yucaipa/2025-08-23/
LOCATION:Yucaipa Community Park\, 34900 Oak Glen Road\, Yucaipa\, CA\, 92399\, United States
ORGANIZER;CN="Countyline Farmers Market":MAILTO:countylinefarmersmarket1@gmail.com
END:VEVENT
BEGIN:VEVENT
DTSTART;TZID=America/Los_Angeles:20250816T080000
DTEND;TZID=America/Los_Angeles:20250816T130000
DTSTAMP:20260422T191344
CREATED:20250508T162128Z
LAST-MODIFIED:20250508T162128Z
UID:10025341-1755331200-1755349200@bosd3.sbcounty.gov
SUMMARY:Countyline Farmers Market - Yucaipa
DESCRIPTION:Open: Year-Round\nTime: Saturday\, 8:00 AM – 1:00 PM \nOpen: July-December\nTime: Thursday\, 5:00 PM – 8:00 PM
URL:https://bosd3.sbcounty.gov/event/countyline-farmers-market-yucaipa/2025-08-16/
LOCATION:Yucaipa Community Park\, 34900 Oak Glen Road\, Yucaipa\, CA\, 92399\, United States
ORGANIZER;CN="Countyline Farmers Market":MAILTO:countylinefarmersmarket1@gmail.com
END:VEVENT
BEGIN:VEVENT
DTSTART;TZID=America/Los_Angeles:20250809T080000
DTEND;TZID=America/Los_Angeles:20250809T130000
DTSTAMP:20260422T191344
CREATED:20250508T162128Z
LAST-MODIFIED:20250508T162128Z
UID:10025338-1754726400-1754744400@bosd3.sbcounty.gov
SUMMARY:Countyline Farmers Market - Yucaipa
DESCRIPTION:Open: Year-Round\nTime: Saturday\, 8:00 AM – 1:00 PM \nOpen: July-December\nTime: Thursday\, 5:00 PM – 8:00 PM
URL:https://bosd3.sbcounty.gov/event/countyline-farmers-market-yucaipa/2025-08-09/
LOCATION:Yucaipa Community Park\, 34900 Oak Glen Road\, Yucaipa\, CA\, 92399\, United States
ORGANIZER;CN="Countyline Farmers Market":MAILTO:countylinefarmersmarket1@gmail.com
END:VEVENT
BEGIN:VEVENT
DTSTART;TZID=America/Los_Angeles:20250802T080000
DTEND;TZID=America/Los_Angeles:20250802T130000
DTSTAMP:20260422T191344
CREATED:20250508T162128Z
LAST-MODIFIED:20250508T162128Z
UID:10025335-1754121600-1754139600@bosd3.sbcounty.gov
SUMMARY:Countyline Farmers Market - Yucaipa
DESCRIPTION:Open: Year-Round\nTime: Saturday\, 8:00 AM – 1:00 PM \nOpen: July-December\nTime: Thursday\, 5:00 PM – 8:00 PM
URL:https://bosd3.sbcounty.gov/event/countyline-farmers-market-yucaipa/2025-08-02/
LOCATION:Yucaipa Community Park\, 34900 Oak Glen Road\, Yucaipa\, CA\, 92399\, United States
ORGANIZER;CN="Countyline Farmers Market":MAILTO:countylinefarmersmarket1@gmail.com
END:VEVENT
BEGIN:VEVENT
DTSTART;TZID=America/Los_Angeles:20250726T080000
DTEND;TZID=America/Los_Angeles:20250726T130000
DTSTAMP:20260422T191344
CREATED:20250508T162128Z
LAST-MODIFIED:20250508T162128Z
UID:10025332-1753516800-1753534800@bosd3.sbcounty.gov
SUMMARY:Countyline Farmers Market - Yucaipa
DESCRIPTION:Open: Year-Round\nTime: Saturday\, 8:00 AM – 1:00 PM \nOpen: July-December\nTime: Thursday\, 5:00 PM – 8:00 PM
URL:https://bosd3.sbcounty.gov/event/countyline-farmers-market-yucaipa/2025-07-26/
LOCATION:Yucaipa Community Park\, 34900 Oak Glen Road\, Yucaipa\, CA\, 92399\, United States
ORGANIZER;CN="Countyline Farmers Market":MAILTO:countylinefarmersmarket1@gmail.com
END:VEVENT
BEGIN:VEVENT
DTSTART;TZID=America/Los_Angeles:20250719T080000
DTEND;TZID=America/Los_Angeles:20250719T130000
DTSTAMP:20260422T191344
CREATED:20250508T162128Z
LAST-MODIFIED:20250508T162128Z
UID:10025329-1752912000-1752930000@bosd3.sbcounty.gov
SUMMARY:Countyline Farmers Market - Yucaipa
DESCRIPTION:Open: Year-Round\nTime: Saturday\, 8:00 AM – 1:00 PM \nOpen: July-December\nTime: Thursday\, 5:00 PM – 8:00 PM
URL:https://bosd3.sbcounty.gov/event/countyline-farmers-market-yucaipa/2025-07-19/
LOCATION:Yucaipa Community Park\, 34900 Oak Glen Road\, Yucaipa\, CA\, 92399\, United States
ORGANIZER;CN="Countyline Farmers Market":MAILTO:countylinefarmersmarket1@gmail.com
END:VEVENT
BEGIN:VEVENT
DTSTART;TZID=America/Los_Angeles:20250712T080000
DTEND;TZID=America/Los_Angeles:20250712T130000
DTSTAMP:20260422T191344
CREATED:20250508T162128Z
LAST-MODIFIED:20250508T162128Z
UID:10025326-1752307200-1752325200@bosd3.sbcounty.gov
SUMMARY:Countyline Farmers Market - Yucaipa
DESCRIPTION:Open: Year-Round\nTime: Saturday\, 8:00 AM – 1:00 PM \nOpen: July-December\nTime: Thursday\, 5:00 PM – 8:00 PM
URL:https://bosd3.sbcounty.gov/event/countyline-farmers-market-yucaipa/2025-07-12/
LOCATION:Yucaipa Community Park\, 34900 Oak Glen Road\, Yucaipa\, CA\, 92399\, United States
ORGANIZER;CN="Countyline Farmers Market":MAILTO:countylinefarmersmarket1@gmail.com
END:VEVENT
BEGIN:VEVENT
DTSTART;TZID=America/Los_Angeles:20250705T080000
DTEND;TZID=America/Los_Angeles:20250705T130000
DTSTAMP:20260422T191344
CREATED:20250508T162128Z
LAST-MODIFIED:20250508T162128Z
UID:10025323-1751702400-1751720400@bosd3.sbcounty.gov
SUMMARY:Countyline Farmers Market - Yucaipa
DESCRIPTION:Open: Year-Round\nTime: Saturday\, 8:00 AM – 1:00 PM \nOpen: July-December\nTime: Thursday\, 5:00 PM – 8:00 PM
URL:https://bosd3.sbcounty.gov/event/countyline-farmers-market-yucaipa/2025-07-05/
LOCATION:Yucaipa Community Park\, 34900 Oak Glen Road\, Yucaipa\, CA\, 92399\, United States
ORGANIZER;CN="Countyline Farmers Market":MAILTO:countylinefarmersmarket1@gmail.com
END:VEVENT
END:VCALENDAR