BEGIN:VCALENDAR
VERSION:2.0
PRODID:-//Dawn Rowe Third District Supervisor - ECPv6.15.14//NONSGML v1.0//EN
CALSCALE:GREGORIAN
METHOD:PUBLISH
X-WR-CALNAME:Dawn Rowe Third District Supervisor
X-ORIGINAL-URL:https://bosd3.sbcounty.gov
X-WR-CALDESC:Events for Dawn Rowe Third District Supervisor
REFRESH-INTERVAL;VALUE=DURATION:PT1H
X-Robots-Tag:noindex
X-PUBLISHED-TTL:PT1H
BEGIN:VTIMEZONE
TZID:America/Los_Angeles
BEGIN:DAYLIGHT
TZOFFSETFROM:-0800
TZOFFSETTO:-0700
TZNAME:PDT
DTSTART:20250309T100000
END:DAYLIGHT
BEGIN:STANDARD
TZOFFSETFROM:-0700
TZOFFSETTO:-0800
TZNAME:PST
DTSTART:20251102T090000
END:STANDARD
BEGIN:DAYLIGHT
TZOFFSETFROM:-0800
TZOFFSETTO:-0700
TZNAME:PDT
DTSTART:20260308T100000
END:DAYLIGHT
BEGIN:STANDARD
TZOFFSETFROM:-0700
TZOFFSETTO:-0800
TZNAME:PST
DTSTART:20261101T090000
END:STANDARD
BEGIN:DAYLIGHT
TZOFFSETFROM:-0800
TZOFFSETTO:-0700
TZNAME:PDT
DTSTART:20270314T100000
END:DAYLIGHT
BEGIN:STANDARD
TZOFFSETFROM:-0700
TZOFFSETTO:-0800
TZNAME:PST
DTSTART:20271107T090000
END:STANDARD
END:VTIMEZONE
BEGIN:VEVENT
DTSTART;TZID=America/Los_Angeles:20260425T080000
DTEND;TZID=America/Los_Angeles:20260425T130000
DTSTAMP:20260422T120844
CREATED:20250508T162128Z
LAST-MODIFIED:20250508T162128Z
UID:10025449-1777104000-1777122000@bosd3.sbcounty.gov
SUMMARY:Countyline Farmers Market - Yucaipa
DESCRIPTION:Open: Year-Round\nTime: Saturday\, 8:00 AM – 1:00 PM \nOpen: July-December\nTime: Thursday\, 5:00 PM – 8:00 PM
URL:https://bosd3.sbcounty.gov/event/countyline-farmers-market-yucaipa/2026-04-25/
LOCATION:Yucaipa Community Park\, 34900 Oak Glen Road\, Yucaipa\, CA\, 92399\, United States
ORGANIZER;CN="Countyline Farmers Market":MAILTO:countylinefarmersmarket1@gmail.com
END:VEVENT
BEGIN:VEVENT
DTSTART;TZID=America/Los_Angeles:20260502T080000
DTEND;TZID=America/Los_Angeles:20260502T130000
DTSTAMP:20260422T120844
CREATED:20250508T162128Z
LAST-MODIFIED:20250508T162128Z
UID:10025452-1777708800-1777726800@bosd3.sbcounty.gov
SUMMARY:Countyline Farmers Market - Yucaipa
DESCRIPTION:Open: Year-Round\nTime: Saturday\, 8:00 AM – 1:00 PM \nOpen: July-December\nTime: Thursday\, 5:00 PM – 8:00 PM
URL:https://bosd3.sbcounty.gov/event/countyline-farmers-market-yucaipa/2026-05-02/
LOCATION:Yucaipa Community Park\, 34900 Oak Glen Road\, Yucaipa\, CA\, 92399\, United States
ORGANIZER;CN="Countyline Farmers Market":MAILTO:countylinefarmersmarket1@gmail.com
END:VEVENT
BEGIN:VEVENT
DTSTART;TZID=America/Los_Angeles:20260509T080000
DTEND;TZID=America/Los_Angeles:20260509T130000
DTSTAMP:20260422T120844
CREATED:20250508T162128Z
LAST-MODIFIED:20250508T162128Z
UID:10025455-1778313600-1778331600@bosd3.sbcounty.gov
SUMMARY:Countyline Farmers Market - Yucaipa
DESCRIPTION:Open: Year-Round\nTime: Saturday\, 8:00 AM – 1:00 PM \nOpen: July-December\nTime: Thursday\, 5:00 PM – 8:00 PM
URL:https://bosd3.sbcounty.gov/event/countyline-farmers-market-yucaipa/2026-05-09/
LOCATION:Yucaipa Community Park\, 34900 Oak Glen Road\, Yucaipa\, CA\, 92399\, United States
ORGANIZER;CN="Countyline Farmers Market":MAILTO:countylinefarmersmarket1@gmail.com
END:VEVENT
BEGIN:VEVENT
DTSTART;TZID=America/Los_Angeles:20260516T080000
DTEND;TZID=America/Los_Angeles:20260516T130000
DTSTAMP:20260422T120844
CREATED:20250508T162128Z
LAST-MODIFIED:20250508T162128Z
UID:10025458-1778918400-1778936400@bosd3.sbcounty.gov
SUMMARY:Countyline Farmers Market - Yucaipa
DESCRIPTION:Open: Year-Round\nTime: Saturday\, 8:00 AM – 1:00 PM \nOpen: July-December\nTime: Thursday\, 5:00 PM – 8:00 PM
URL:https://bosd3.sbcounty.gov/event/countyline-farmers-market-yucaipa/2026-05-16/
LOCATION:Yucaipa Community Park\, 34900 Oak Glen Road\, Yucaipa\, CA\, 92399\, United States
ORGANIZER;CN="Countyline Farmers Market":MAILTO:countylinefarmersmarket1@gmail.com
END:VEVENT
BEGIN:VEVENT
DTSTART;TZID=America/Los_Angeles:20260523T080000
DTEND;TZID=America/Los_Angeles:20260523T130000
DTSTAMP:20260422T120844
CREATED:20250508T162128Z
LAST-MODIFIED:20250508T162128Z
UID:10025461-1779523200-1779541200@bosd3.sbcounty.gov
SUMMARY:Countyline Farmers Market - Yucaipa
DESCRIPTION:Open: Year-Round\nTime: Saturday\, 8:00 AM – 1:00 PM \nOpen: July-December\nTime: Thursday\, 5:00 PM – 8:00 PM
URL:https://bosd3.sbcounty.gov/event/countyline-farmers-market-yucaipa/2026-05-23/
LOCATION:Yucaipa Community Park\, 34900 Oak Glen Road\, Yucaipa\, CA\, 92399\, United States
ORGANIZER;CN="Countyline Farmers Market":MAILTO:countylinefarmersmarket1@gmail.com
END:VEVENT
BEGIN:VEVENT
DTSTART;TZID=America/Los_Angeles:20260530T080000
DTEND;TZID=America/Los_Angeles:20260530T130000
DTSTAMP:20260422T120844
CREATED:20250508T162128Z
LAST-MODIFIED:20250508T162128Z
UID:10025464-1780128000-1780146000@bosd3.sbcounty.gov
SUMMARY:Countyline Farmers Market - Yucaipa
DESCRIPTION:Open: Year-Round\nTime: Saturday\, 8:00 AM – 1:00 PM \nOpen: July-December\nTime: Thursday\, 5:00 PM – 8:00 PM
URL:https://bosd3.sbcounty.gov/event/countyline-farmers-market-yucaipa/2026-05-30/
LOCATION:Yucaipa Community Park\, 34900 Oak Glen Road\, Yucaipa\, CA\, 92399\, United States
ORGANIZER;CN="Countyline Farmers Market":MAILTO:countylinefarmersmarket1@gmail.com
END:VEVENT
BEGIN:VEVENT
DTSTART;TZID=America/Los_Angeles:20260606T080000
DTEND;TZID=America/Los_Angeles:20260606T130000
DTSTAMP:20260422T120844
CREATED:20250508T162128Z
LAST-MODIFIED:20250508T162128Z
UID:10025467-1780732800-1780750800@bosd3.sbcounty.gov
SUMMARY:Countyline Farmers Market - Yucaipa
DESCRIPTION:Open: Year-Round\nTime: Saturday\, 8:00 AM – 1:00 PM \nOpen: July-December\nTime: Thursday\, 5:00 PM – 8:00 PM
URL:https://bosd3.sbcounty.gov/event/countyline-farmers-market-yucaipa/2026-06-06/
LOCATION:Yucaipa Community Park\, 34900 Oak Glen Road\, Yucaipa\, CA\, 92399\, United States
ORGANIZER;CN="Countyline Farmers Market":MAILTO:countylinefarmersmarket1@gmail.com
END:VEVENT
BEGIN:VEVENT
DTSTART;TZID=America/Los_Angeles:20260613T080000
DTEND;TZID=America/Los_Angeles:20260613T130000
DTSTAMP:20260422T120844
CREATED:20250508T162128Z
LAST-MODIFIED:20250508T162128Z
UID:10025470-1781337600-1781355600@bosd3.sbcounty.gov
SUMMARY:Countyline Farmers Market - Yucaipa
DESCRIPTION:Open: Year-Round\nTime: Saturday\, 8:00 AM – 1:00 PM \nOpen: July-December\nTime: Thursday\, 5:00 PM – 8:00 PM
URL:https://bosd3.sbcounty.gov/event/countyline-farmers-market-yucaipa/2026-06-13/
LOCATION:Yucaipa Community Park\, 34900 Oak Glen Road\, Yucaipa\, CA\, 92399\, United States
ORGANIZER;CN="Countyline Farmers Market":MAILTO:countylinefarmersmarket1@gmail.com
END:VEVENT
BEGIN:VEVENT
DTSTART;TZID=America/Los_Angeles:20260620T080000
DTEND;TZID=America/Los_Angeles:20260620T130000
DTSTAMP:20260422T120844
CREATED:20250508T162128Z
LAST-MODIFIED:20250508T162128Z
UID:10025473-1781942400-1781960400@bosd3.sbcounty.gov
SUMMARY:Countyline Farmers Market - Yucaipa
DESCRIPTION:Open: Year-Round\nTime: Saturday\, 8:00 AM – 1:00 PM \nOpen: July-December\nTime: Thursday\, 5:00 PM – 8:00 PM
URL:https://bosd3.sbcounty.gov/event/countyline-farmers-market-yucaipa/2026-06-20/
LOCATION:Yucaipa Community Park\, 34900 Oak Glen Road\, Yucaipa\, CA\, 92399\, United States
ORGANIZER;CN="Countyline Farmers Market":MAILTO:countylinefarmersmarket1@gmail.com
END:VEVENT
BEGIN:VEVENT
DTSTART;TZID=America/Los_Angeles:20260627T080000
DTEND;TZID=America/Los_Angeles:20260627T130000
DTSTAMP:20260422T120844
CREATED:20250508T162128Z
LAST-MODIFIED:20250508T162128Z
UID:10025476-1782547200-1782565200@bosd3.sbcounty.gov
SUMMARY:Countyline Farmers Market - Yucaipa
DESCRIPTION:Open: Year-Round\nTime: Saturday\, 8:00 AM – 1:00 PM \nOpen: July-December\nTime: Thursday\, 5:00 PM – 8:00 PM
URL:https://bosd3.sbcounty.gov/event/countyline-farmers-market-yucaipa/2026-06-27/
LOCATION:Yucaipa Community Park\, 34900 Oak Glen Road\, Yucaipa\, CA\, 92399\, United States
ORGANIZER;CN="Countyline Farmers Market":MAILTO:countylinefarmersmarket1@gmail.com
END:VEVENT
BEGIN:VEVENT
DTSTART;TZID=America/Los_Angeles:20260704T080000
DTEND;TZID=America/Los_Angeles:20260704T130000
DTSTAMP:20260422T120844
CREATED:20250508T162128Z
LAST-MODIFIED:20250508T162128Z
UID:10025479-1783152000-1783170000@bosd3.sbcounty.gov
SUMMARY:Countyline Farmers Market - Yucaipa
DESCRIPTION:Open: Year-Round\nTime: Saturday\, 8:00 AM – 1:00 PM \nOpen: July-December\nTime: Thursday\, 5:00 PM – 8:00 PM
URL:https://bosd3.sbcounty.gov/event/countyline-farmers-market-yucaipa/2026-07-04/
LOCATION:Yucaipa Community Park\, 34900 Oak Glen Road\, Yucaipa\, CA\, 92399\, United States
ORGANIZER;CN="Countyline Farmers Market":MAILTO:countylinefarmersmarket1@gmail.com
END:VEVENT
BEGIN:VEVENT
DTSTART;TZID=America/Los_Angeles:20260711T080000
DTEND;TZID=America/Los_Angeles:20260711T130000
DTSTAMP:20260422T120844
CREATED:20250508T162128Z
LAST-MODIFIED:20250508T162128Z
UID:10025482-1783756800-1783774800@bosd3.sbcounty.gov
SUMMARY:Countyline Farmers Market - Yucaipa
DESCRIPTION:Open: Year-Round\nTime: Saturday\, 8:00 AM – 1:00 PM \nOpen: July-December\nTime: Thursday\, 5:00 PM – 8:00 PM
URL:https://bosd3.sbcounty.gov/event/countyline-farmers-market-yucaipa/2026-07-11/
LOCATION:Yucaipa Community Park\, 34900 Oak Glen Road\, Yucaipa\, CA\, 92399\, United States
ORGANIZER;CN="Countyline Farmers Market":MAILTO:countylinefarmersmarket1@gmail.com
END:VEVENT
BEGIN:VEVENT
DTSTART;TZID=America/Los_Angeles:20260718T080000
DTEND;TZID=America/Los_Angeles:20260718T130000
DTSTAMP:20260422T120844
CREATED:20250508T162128Z
LAST-MODIFIED:20250508T162128Z
UID:10025485-1784361600-1784379600@bosd3.sbcounty.gov
SUMMARY:Countyline Farmers Market - Yucaipa
DESCRIPTION:Open: Year-Round\nTime: Saturday\, 8:00 AM – 1:00 PM \nOpen: July-December\nTime: Thursday\, 5:00 PM – 8:00 PM
URL:https://bosd3.sbcounty.gov/event/countyline-farmers-market-yucaipa/2026-07-18/
LOCATION:Yucaipa Community Park\, 34900 Oak Glen Road\, Yucaipa\, CA\, 92399\, United States
ORGANIZER;CN="Countyline Farmers Market":MAILTO:countylinefarmersmarket1@gmail.com
END:VEVENT
BEGIN:VEVENT
DTSTART;TZID=America/Los_Angeles:20260725T080000
DTEND;TZID=America/Los_Angeles:20260725T130000
DTSTAMP:20260422T120844
CREATED:20250508T162128Z
LAST-MODIFIED:20250508T162128Z
UID:10025488-1784966400-1784984400@bosd3.sbcounty.gov
SUMMARY:Countyline Farmers Market - Yucaipa
DESCRIPTION:Open: Year-Round\nTime: Saturday\, 8:00 AM – 1:00 PM \nOpen: July-December\nTime: Thursday\, 5:00 PM – 8:00 PM
URL:https://bosd3.sbcounty.gov/event/countyline-farmers-market-yucaipa/2026-07-25/
LOCATION:Yucaipa Community Park\, 34900 Oak Glen Road\, Yucaipa\, CA\, 92399\, United States
ORGANIZER;CN="Countyline Farmers Market":MAILTO:countylinefarmersmarket1@gmail.com
END:VEVENT
BEGIN:VEVENT
DTSTART;TZID=America/Los_Angeles:20260801T080000
DTEND;TZID=America/Los_Angeles:20260801T130000
DTSTAMP:20260422T120844
CREATED:20250508T162128Z
LAST-MODIFIED:20250508T162128Z
UID:10025491-1785571200-1785589200@bosd3.sbcounty.gov
SUMMARY:Countyline Farmers Market - Yucaipa
DESCRIPTION:Open: Year-Round\nTime: Saturday\, 8:00 AM – 1:00 PM \nOpen: July-December\nTime: Thursday\, 5:00 PM – 8:00 PM
URL:https://bosd3.sbcounty.gov/event/countyline-farmers-market-yucaipa/2026-08-01/
LOCATION:Yucaipa Community Park\, 34900 Oak Glen Road\, Yucaipa\, CA\, 92399\, United States
ORGANIZER;CN="Countyline Farmers Market":MAILTO:countylinefarmersmarket1@gmail.com
END:VEVENT
BEGIN:VEVENT
DTSTART;TZID=America/Los_Angeles:20260808T080000
DTEND;TZID=America/Los_Angeles:20260808T130000
DTSTAMP:20260422T120844
CREATED:20250508T162128Z
LAST-MODIFIED:20250508T162128Z
UID:10025494-1786176000-1786194000@bosd3.sbcounty.gov
SUMMARY:Countyline Farmers Market - Yucaipa
DESCRIPTION:Open: Year-Round\nTime: Saturday\, 8:00 AM – 1:00 PM \nOpen: July-December\nTime: Thursday\, 5:00 PM – 8:00 PM
URL:https://bosd3.sbcounty.gov/event/countyline-farmers-market-yucaipa/2026-08-08/
LOCATION:Yucaipa Community Park\, 34900 Oak Glen Road\, Yucaipa\, CA\, 92399\, United States
ORGANIZER;CN="Countyline Farmers Market":MAILTO:countylinefarmersmarket1@gmail.com
END:VEVENT
BEGIN:VEVENT
DTSTART;TZID=America/Los_Angeles:20260815T080000
DTEND;TZID=America/Los_Angeles:20260815T130000
DTSTAMP:20260422T120844
CREATED:20250508T162128Z
LAST-MODIFIED:20250508T162128Z
UID:10025497-1786780800-1786798800@bosd3.sbcounty.gov
SUMMARY:Countyline Farmers Market - Yucaipa
DESCRIPTION:Open: Year-Round\nTime: Saturday\, 8:00 AM – 1:00 PM \nOpen: July-December\nTime: Thursday\, 5:00 PM – 8:00 PM
URL:https://bosd3.sbcounty.gov/event/countyline-farmers-market-yucaipa/2026-08-15/
LOCATION:Yucaipa Community Park\, 34900 Oak Glen Road\, Yucaipa\, CA\, 92399\, United States
ORGANIZER;CN="Countyline Farmers Market":MAILTO:countylinefarmersmarket1@gmail.com
END:VEVENT
BEGIN:VEVENT
DTSTART;TZID=America/Los_Angeles:20260822T080000
DTEND;TZID=America/Los_Angeles:20260822T130000
DTSTAMP:20260422T120844
CREATED:20250508T162128Z
LAST-MODIFIED:20250508T162128Z
UID:10025500-1787385600-1787403600@bosd3.sbcounty.gov
SUMMARY:Countyline Farmers Market - Yucaipa
DESCRIPTION:Open: Year-Round\nTime: Saturday\, 8:00 AM – 1:00 PM \nOpen: July-December\nTime: Thursday\, 5:00 PM – 8:00 PM
URL:https://bosd3.sbcounty.gov/event/countyline-farmers-market-yucaipa/2026-08-22/
LOCATION:Yucaipa Community Park\, 34900 Oak Glen Road\, Yucaipa\, CA\, 92399\, United States
ORGANIZER;CN="Countyline Farmers Market":MAILTO:countylinefarmersmarket1@gmail.com
END:VEVENT
BEGIN:VEVENT
DTSTART;TZID=America/Los_Angeles:20260829T080000
DTEND;TZID=America/Los_Angeles:20260829T130000
DTSTAMP:20260422T120844
CREATED:20250508T162128Z
LAST-MODIFIED:20250508T162128Z
UID:10025503-1787990400-1788008400@bosd3.sbcounty.gov
SUMMARY:Countyline Farmers Market - Yucaipa
DESCRIPTION:Open: Year-Round\nTime: Saturday\, 8:00 AM – 1:00 PM \nOpen: July-December\nTime: Thursday\, 5:00 PM – 8:00 PM
URL:https://bosd3.sbcounty.gov/event/countyline-farmers-market-yucaipa/2026-08-29/
LOCATION:Yucaipa Community Park\, 34900 Oak Glen Road\, Yucaipa\, CA\, 92399\, United States
ORGANIZER;CN="Countyline Farmers Market":MAILTO:countylinefarmersmarket1@gmail.com
END:VEVENT
BEGIN:VEVENT
DTSTART;TZID=America/Los_Angeles:20260905T080000
DTEND;TZID=America/Los_Angeles:20260905T130000
DTSTAMP:20260422T120844
CREATED:20250508T162128Z
LAST-MODIFIED:20250508T162128Z
UID:10025506-1788595200-1788613200@bosd3.sbcounty.gov
SUMMARY:Countyline Farmers Market - Yucaipa
DESCRIPTION:Open: Year-Round\nTime: Saturday\, 8:00 AM – 1:00 PM \nOpen: July-December\nTime: Thursday\, 5:00 PM – 8:00 PM
URL:https://bosd3.sbcounty.gov/event/countyline-farmers-market-yucaipa/2026-09-05/
LOCATION:Yucaipa Community Park\, 34900 Oak Glen Road\, Yucaipa\, CA\, 92399\, United States
ORGANIZER;CN="Countyline Farmers Market":MAILTO:countylinefarmersmarket1@gmail.com
END:VEVENT
BEGIN:VEVENT
DTSTART;TZID=America/Los_Angeles:20260912T080000
DTEND;TZID=America/Los_Angeles:20260912T130000
DTSTAMP:20260422T120844
CREATED:20250508T162128Z
LAST-MODIFIED:20250508T162128Z
UID:10025509-1789200000-1789218000@bosd3.sbcounty.gov
SUMMARY:Countyline Farmers Market - Yucaipa
DESCRIPTION:Open: Year-Round\nTime: Saturday\, 8:00 AM – 1:00 PM \nOpen: July-December\nTime: Thursday\, 5:00 PM – 8:00 PM
URL:https://bosd3.sbcounty.gov/event/countyline-farmers-market-yucaipa/2026-09-12/
LOCATION:Yucaipa Community Park\, 34900 Oak Glen Road\, Yucaipa\, CA\, 92399\, United States
ORGANIZER;CN="Countyline Farmers Market":MAILTO:countylinefarmersmarket1@gmail.com
END:VEVENT
BEGIN:VEVENT
DTSTART;TZID=America/Los_Angeles:20260919T080000
DTEND;TZID=America/Los_Angeles:20260919T130000
DTSTAMP:20260422T120844
CREATED:20250508T162128Z
LAST-MODIFIED:20250508T162128Z
UID:10025512-1789804800-1789822800@bosd3.sbcounty.gov
SUMMARY:Countyline Farmers Market - Yucaipa
DESCRIPTION:Open: Year-Round\nTime: Saturday\, 8:00 AM – 1:00 PM \nOpen: July-December\nTime: Thursday\, 5:00 PM – 8:00 PM
URL:https://bosd3.sbcounty.gov/event/countyline-farmers-market-yucaipa/2026-09-19/
LOCATION:Yucaipa Community Park\, 34900 Oak Glen Road\, Yucaipa\, CA\, 92399\, United States
ORGANIZER;CN="Countyline Farmers Market":MAILTO:countylinefarmersmarket1@gmail.com
END:VEVENT
BEGIN:VEVENT
DTSTART;TZID=America/Los_Angeles:20260926T080000
DTEND;TZID=America/Los_Angeles:20260926T130000
DTSTAMP:20260422T120844
CREATED:20250508T162128Z
LAST-MODIFIED:20250508T162128Z
UID:10025515-1790409600-1790427600@bosd3.sbcounty.gov
SUMMARY:Countyline Farmers Market - Yucaipa
DESCRIPTION:Open: Year-Round\nTime: Saturday\, 8:00 AM – 1:00 PM \nOpen: July-December\nTime: Thursday\, 5:00 PM – 8:00 PM
URL:https://bosd3.sbcounty.gov/event/countyline-farmers-market-yucaipa/2026-09-26/
LOCATION:Yucaipa Community Park\, 34900 Oak Glen Road\, Yucaipa\, CA\, 92399\, United States
ORGANIZER;CN="Countyline Farmers Market":MAILTO:countylinefarmersmarket1@gmail.com
END:VEVENT
BEGIN:VEVENT
DTSTART;TZID=America/Los_Angeles:20261003T080000
DTEND;TZID=America/Los_Angeles:20261003T130000
DTSTAMP:20260422T120844
CREATED:20250508T162128Z
LAST-MODIFIED:20250508T162128Z
UID:10025518-1791014400-1791032400@bosd3.sbcounty.gov
SUMMARY:Countyline Farmers Market - Yucaipa
DESCRIPTION:Open: Year-Round\nTime: Saturday\, 8:00 AM – 1:00 PM \nOpen: July-December\nTime: Thursday\, 5:00 PM – 8:00 PM
URL:https://bosd3.sbcounty.gov/event/countyline-farmers-market-yucaipa/2026-10-03/
LOCATION:Yucaipa Community Park\, 34900 Oak Glen Road\, Yucaipa\, CA\, 92399\, United States
ORGANIZER;CN="Countyline Farmers Market":MAILTO:countylinefarmersmarket1@gmail.com
END:VEVENT
BEGIN:VEVENT
DTSTART;TZID=America/Los_Angeles:20261010T080000
DTEND;TZID=America/Los_Angeles:20261010T130000
DTSTAMP:20260422T120844
CREATED:20250508T162128Z
LAST-MODIFIED:20250508T162128Z
UID:10025521-1791619200-1791637200@bosd3.sbcounty.gov
SUMMARY:Countyline Farmers Market - Yucaipa
DESCRIPTION:Open: Year-Round\nTime: Saturday\, 8:00 AM – 1:00 PM \nOpen: July-December\nTime: Thursday\, 5:00 PM – 8:00 PM
URL:https://bosd3.sbcounty.gov/event/countyline-farmers-market-yucaipa/2026-10-10/
LOCATION:Yucaipa Community Park\, 34900 Oak Glen Road\, Yucaipa\, CA\, 92399\, United States
ORGANIZER;CN="Countyline Farmers Market":MAILTO:countylinefarmersmarket1@gmail.com
END:VEVENT
BEGIN:VEVENT
DTSTART;TZID=America/Los_Angeles:20261017T080000
DTEND;TZID=America/Los_Angeles:20261017T130000
DTSTAMP:20260422T120844
CREATED:20250508T162128Z
LAST-MODIFIED:20250508T162128Z
UID:10025524-1792224000-1792242000@bosd3.sbcounty.gov
SUMMARY:Countyline Farmers Market - Yucaipa
DESCRIPTION:Open: Year-Round\nTime: Saturday\, 8:00 AM – 1:00 PM \nOpen: July-December\nTime: Thursday\, 5:00 PM – 8:00 PM
URL:https://bosd3.sbcounty.gov/event/countyline-farmers-market-yucaipa/2026-10-17/
LOCATION:Yucaipa Community Park\, 34900 Oak Glen Road\, Yucaipa\, CA\, 92399\, United States
ORGANIZER;CN="Countyline Farmers Market":MAILTO:countylinefarmersmarket1@gmail.com
END:VEVENT
BEGIN:VEVENT
DTSTART;TZID=America/Los_Angeles:20261024T080000
DTEND;TZID=America/Los_Angeles:20261024T130000
DTSTAMP:20260422T120844
CREATED:20250508T162128Z
LAST-MODIFIED:20250508T162128Z
UID:10025527-1792828800-1792846800@bosd3.sbcounty.gov
SUMMARY:Countyline Farmers Market - Yucaipa
DESCRIPTION:Open: Year-Round\nTime: Saturday\, 8:00 AM – 1:00 PM \nOpen: July-December\nTime: Thursday\, 5:00 PM – 8:00 PM
URL:https://bosd3.sbcounty.gov/event/countyline-farmers-market-yucaipa/2026-10-24/
LOCATION:Yucaipa Community Park\, 34900 Oak Glen Road\, Yucaipa\, CA\, 92399\, United States
ORGANIZER;CN="Countyline Farmers Market":MAILTO:countylinefarmersmarket1@gmail.com
END:VEVENT
BEGIN:VEVENT
DTSTART;TZID=America/Los_Angeles:20261031T080000
DTEND;TZID=America/Los_Angeles:20261031T130000
DTSTAMP:20260422T120844
CREATED:20250508T162128Z
LAST-MODIFIED:20250508T162128Z
UID:10025530-1793433600-1793451600@bosd3.sbcounty.gov
SUMMARY:Countyline Farmers Market - Yucaipa
DESCRIPTION:Open: Year-Round\nTime: Saturday\, 8:00 AM – 1:00 PM \nOpen: July-December\nTime: Thursday\, 5:00 PM – 8:00 PM
URL:https://bosd3.sbcounty.gov/event/countyline-farmers-market-yucaipa/2026-10-31/
LOCATION:Yucaipa Community Park\, 34900 Oak Glen Road\, Yucaipa\, CA\, 92399\, United States
ORGANIZER;CN="Countyline Farmers Market":MAILTO:countylinefarmersmarket1@gmail.com
END:VEVENT
BEGIN:VEVENT
DTSTART;TZID=America/Los_Angeles:20261107T080000
DTEND;TZID=America/Los_Angeles:20261107T130000
DTSTAMP:20260422T120844
CREATED:20250508T162128Z
LAST-MODIFIED:20250508T162128Z
UID:10025533-1794038400-1794056400@bosd3.sbcounty.gov
SUMMARY:Countyline Farmers Market - Yucaipa
DESCRIPTION:Open: Year-Round\nTime: Saturday\, 8:00 AM – 1:00 PM \nOpen: July-December\nTime: Thursday\, 5:00 PM – 8:00 PM
URL:https://bosd3.sbcounty.gov/event/countyline-farmers-market-yucaipa/2026-11-07/
LOCATION:Yucaipa Community Park\, 34900 Oak Glen Road\, Yucaipa\, CA\, 92399\, United States
ORGANIZER;CN="Countyline Farmers Market":MAILTO:countylinefarmersmarket1@gmail.com
END:VEVENT
BEGIN:VEVENT
DTSTART;TZID=America/Los_Angeles:20261114T080000
DTEND;TZID=America/Los_Angeles:20261114T130000
DTSTAMP:20260422T120844
CREATED:20250508T162128Z
LAST-MODIFIED:20250508T162128Z
UID:10025536-1794643200-1794661200@bosd3.sbcounty.gov
SUMMARY:Countyline Farmers Market - Yucaipa
DESCRIPTION:Open: Year-Round\nTime: Saturday\, 8:00 AM – 1:00 PM \nOpen: July-December\nTime: Thursday\, 5:00 PM – 8:00 PM
URL:https://bosd3.sbcounty.gov/event/countyline-farmers-market-yucaipa/2026-11-14/
LOCATION:Yucaipa Community Park\, 34900 Oak Glen Road\, Yucaipa\, CA\, 92399\, United States
ORGANIZER;CN="Countyline Farmers Market":MAILTO:countylinefarmersmarket1@gmail.com
END:VEVENT
END:VCALENDAR