BEGIN:VCALENDAR
VERSION:2.0
PRODID:-//Dawn Rowe Third District Supervisor - ECPv6.15.14//NONSGML v1.0//EN
CALSCALE:GREGORIAN
METHOD:PUBLISH
X-ORIGINAL-URL:https://bosd3.sbcounty.gov
X-WR-CALDESC:Events for Dawn Rowe Third District Supervisor
REFRESH-INTERVAL;VALUE=DURATION:PT1H
X-Robots-Tag:noindex
X-PUBLISHED-TTL:PT1H
BEGIN:VTIMEZONE
TZID:America/Los_Angeles
BEGIN:DAYLIGHT
TZOFFSETFROM:-0800
TZOFFSETTO:-0700
TZNAME:PDT
DTSTART:20250309T100000
END:DAYLIGHT
BEGIN:STANDARD
TZOFFSETFROM:-0700
TZOFFSETTO:-0800
TZNAME:PST
DTSTART:20251102T090000
END:STANDARD
BEGIN:DAYLIGHT
TZOFFSETFROM:-0800
TZOFFSETTO:-0700
TZNAME:PDT
DTSTART:20260308T100000
END:DAYLIGHT
BEGIN:STANDARD
TZOFFSETFROM:-0700
TZOFFSETTO:-0800
TZNAME:PST
DTSTART:20261101T090000
END:STANDARD
BEGIN:DAYLIGHT
TZOFFSETFROM:-0800
TZOFFSETTO:-0700
TZNAME:PDT
DTSTART:20270314T100000
END:DAYLIGHT
BEGIN:STANDARD
TZOFFSETFROM:-0700
TZOFFSETTO:-0800
TZNAME:PST
DTSTART:20271107T090000
END:STANDARD
END:VTIMEZONE
BEGIN:VEVENT
DTSTART;TZID=America/Los_Angeles:20260509T190000
DTEND;TZID=America/Los_Angeles:20260509T210000
DTSTAMP:20260422T221754
CREATED:20260402T170456Z
LAST-MODIFIED:20260402T170456Z
UID:10026603-1778353200-1778360400@bosd3.sbcounty.gov
SUMMARY:Steel Magnolias - Twentynine Palms
DESCRIPTION:Steel Magnolias follows six very different women who gather weekly at Truvy’s beauty shop\, where they share life’s joys\, struggles\, and everything in between. Through witty banter and heartfelt moments\, their friendships deepen as they navigate love\, loss\, and resilience.
URL:https://bosd3.sbcounty.gov/event/steel-magnolias-twentynine-palms/2026-05-09/
LOCATION:Theatre 29\, 73637 Sullivan Road\, Twentynine Palms\, CA\, 92277\, United States
END:VEVENT
BEGIN:VEVENT
DTSTART;TZID=America/Los_Angeles:20260511T190000
DTEND;TZID=America/Los_Angeles:20260511T210000
DTSTAMP:20260422T221754
CREATED:20260402T170849Z
LAST-MODIFIED:20260402T170849Z
UID:10026636-1778526000-1778533200@bosd3.sbcounty.gov
SUMMARY:Cinderella - Twentynine Palms
DESCRIPTION:Rodgers + Hammerstein’s Cinderella offers a fresh\, modern take on the classic fairytale while preserving the beloved music from the original 1957 television musical.
URL:https://bosd3.sbcounty.gov/event/cinderella-twentynine-palms/2026-05-11/
LOCATION:Theatre 29\, 73637 Sullivan Road\, Twentynine Palms\, CA\, 92277\, United States
END:VEVENT
BEGIN:VEVENT
DTSTART;TZID=America/Los_Angeles:20260515T190000
DTEND;TZID=America/Los_Angeles:20260515T210000
DTSTAMP:20260422T221754
CREATED:20260402T170456Z
LAST-MODIFIED:20260402T170456Z
UID:10026606-1778871600-1778878800@bosd3.sbcounty.gov
SUMMARY:Steel Magnolias - Twentynine Palms
DESCRIPTION:Steel Magnolias follows six very different women who gather weekly at Truvy’s beauty shop\, where they share life’s joys\, struggles\, and everything in between. Through witty banter and heartfelt moments\, their friendships deepen as they navigate love\, loss\, and resilience.
URL:https://bosd3.sbcounty.gov/event/steel-magnolias-twentynine-palms/2026-05-15/
LOCATION:Theatre 29\, 73637 Sullivan Road\, Twentynine Palms\, CA\, 92277\, United States
END:VEVENT
BEGIN:VEVENT
DTSTART;TZID=America/Los_Angeles:20260516T190000
DTEND;TZID=America/Los_Angeles:20260516T210000
DTSTAMP:20260422T221754
CREATED:20260402T170456Z
LAST-MODIFIED:20260402T170456Z
UID:10026609-1778958000-1778965200@bosd3.sbcounty.gov
SUMMARY:Steel Magnolias - Twentynine Palms
DESCRIPTION:Steel Magnolias follows six very different women who gather weekly at Truvy’s beauty shop\, where they share life’s joys\, struggles\, and everything in between. Through witty banter and heartfelt moments\, their friendships deepen as they navigate love\, loss\, and resilience.
URL:https://bosd3.sbcounty.gov/event/steel-magnolias-twentynine-palms/2026-05-16/
LOCATION:Theatre 29\, 73637 Sullivan Road\, Twentynine Palms\, CA\, 92277\, United States
END:VEVENT
BEGIN:VEVENT
DTSTART;TZID=America/Los_Angeles:20260517T143000
DTEND;TZID=America/Los_Angeles:20260517T170000
DTSTAMP:20260422T221754
CREATED:20260402T170456Z
LAST-MODIFIED:20260402T170456Z
UID:10026612-1779028200-1779037200@bosd3.sbcounty.gov
SUMMARY:Steel Magnolias - Twentynine Palms
DESCRIPTION:Steel Magnolias follows six very different women who gather weekly at Truvy’s beauty shop\, where they share life’s joys\, struggles\, and everything in between. Through witty banter and heartfelt moments\, their friendships deepen as they navigate love\, loss\, and resilience.
URL:https://bosd3.sbcounty.gov/event/steel-magnolias-twentynine-palms/2026-05-17/
LOCATION:Theatre 29\, 73637 Sullivan Road\, Twentynine Palms\, CA\, 92277\, United States
END:VEVENT
BEGIN:VEVENT
DTSTART;TZID=America/Los_Angeles:20260522T190000
DTEND;TZID=America/Los_Angeles:20260522T210000
DTSTAMP:20260422T221754
CREATED:20260402T170456Z
LAST-MODIFIED:20260402T170456Z
UID:10026615-1779476400-1779483600@bosd3.sbcounty.gov
SUMMARY:Steel Magnolias - Twentynine Palms
DESCRIPTION:Steel Magnolias follows six very different women who gather weekly at Truvy’s beauty shop\, where they share life’s joys\, struggles\, and everything in between. Through witty banter and heartfelt moments\, their friendships deepen as they navigate love\, loss\, and resilience.
URL:https://bosd3.sbcounty.gov/event/steel-magnolias-twentynine-palms/2026-05-22/
LOCATION:Theatre 29\, 73637 Sullivan Road\, Twentynine Palms\, CA\, 92277\, United States
END:VEVENT
BEGIN:VEVENT
DTSTART;TZID=America/Los_Angeles:20260523T190000
DTEND;TZID=America/Los_Angeles:20260523T210000
DTSTAMP:20260422T221754
CREATED:20260402T170456Z
LAST-MODIFIED:20260402T170456Z
UID:10026618-1779562800-1779570000@bosd3.sbcounty.gov
SUMMARY:Steel Magnolias - Twentynine Palms
DESCRIPTION:Steel Magnolias follows six very different women who gather weekly at Truvy’s beauty shop\, where they share life’s joys\, struggles\, and everything in between. Through witty banter and heartfelt moments\, their friendships deepen as they navigate love\, loss\, and resilience.
URL:https://bosd3.sbcounty.gov/event/steel-magnolias-twentynine-palms/2026-05-23/
LOCATION:Theatre 29\, 73637 Sullivan Road\, Twentynine Palms\, CA\, 92277\, United States
END:VEVENT
BEGIN:VEVENT
DTSTART;TZID=America/Los_Angeles:20260524T143000
DTEND;TZID=America/Los_Angeles:20260524T170000
DTSTAMP:20260422T221754
CREATED:20260402T170456Z
LAST-MODIFIED:20260402T170456Z
UID:10026621-1779633000-1779642000@bosd3.sbcounty.gov
SUMMARY:Steel Magnolias - Twentynine Palms
DESCRIPTION:Steel Magnolias follows six very different women who gather weekly at Truvy’s beauty shop\, where they share life’s joys\, struggles\, and everything in between. Through witty banter and heartfelt moments\, their friendships deepen as they navigate love\, loss\, and resilience.
URL:https://bosd3.sbcounty.gov/event/steel-magnolias-twentynine-palms/2026-05-24/
LOCATION:Theatre 29\, 73637 Sullivan Road\, Twentynine Palms\, CA\, 92277\, United States
END:VEVENT
BEGIN:VEVENT
DTSTART;TZID=America/Los_Angeles:20260613T190000
DTEND;TZID=America/Los_Angeles:20260613T210000
DTSTAMP:20260422T221754
CREATED:20260402T171352Z
LAST-MODIFIED:20260402T171352Z
UID:10026639-1781377200-1781384400@bosd3.sbcounty.gov
SUMMARY:Fortressed (An Original Play) - Twentynine Palms
DESCRIPTION:Fortressed is a sharp-witted political comedy set in a fairy-tale version of old England — where the peasants are starving\, the nobles are clueless\, and the riots are rolling in fast. With Monty Python flair and a modern political edge\, Fortressed is a hilarious takedown of the powerful\, wrapped in midnight snacks\, superstitions\, and vaguely worded proclamations.
URL:https://bosd3.sbcounty.gov/event/fortressed-an-original-play-twentynine-palms/2026-06-13/
LOCATION:Theatre 29\, 73637 Sullivan Road\, Twentynine Palms\, CA\, 92277\, United States
END:VEVENT
BEGIN:VEVENT
DTSTART;TZID=America/Los_Angeles:20260614T143000
DTEND;TZID=America/Los_Angeles:20260614T170000
DTSTAMP:20260422T221754
CREATED:20260402T171352Z
LAST-MODIFIED:20260402T171352Z
UID:10026642-1781447400-1781456400@bosd3.sbcounty.gov
SUMMARY:Fortressed (An Original Play) - Twentynine Palms
DESCRIPTION:Fortressed is a sharp-witted political comedy set in a fairy-tale version of old England — where the peasants are starving\, the nobles are clueless\, and the riots are rolling in fast. With Monty Python flair and a modern political edge\, Fortressed is a hilarious takedown of the powerful\, wrapped in midnight snacks\, superstitions\, and vaguely worded proclamations.
URL:https://bosd3.sbcounty.gov/event/fortressed-an-original-play-twentynine-palms/2026-06-14/
LOCATION:Theatre 29\, 73637 Sullivan Road\, Twentynine Palms\, CA\, 92277\, United States
END:VEVENT
BEGIN:VEVENT
DTSTART;TZID=America/Los_Angeles:20260619T190000
DTEND;TZID=America/Los_Angeles:20260619T210000
DTSTAMP:20260422T221754
CREATED:20260402T171352Z
LAST-MODIFIED:20260402T171352Z
UID:10026645-1781895600-1781902800@bosd3.sbcounty.gov
SUMMARY:Fortressed (An Original Play) - Twentynine Palms
DESCRIPTION:Fortressed is a sharp-witted political comedy set in a fairy-tale version of old England — where the peasants are starving\, the nobles are clueless\, and the riots are rolling in fast. With Monty Python flair and a modern political edge\, Fortressed is a hilarious takedown of the powerful\, wrapped in midnight snacks\, superstitions\, and vaguely worded proclamations.
URL:https://bosd3.sbcounty.gov/event/fortressed-an-original-play-twentynine-palms/2026-06-19/
LOCATION:Theatre 29\, 73637 Sullivan Road\, Twentynine Palms\, CA\, 92277\, United States
END:VEVENT
BEGIN:VEVENT
DTSTART;TZID=America/Los_Angeles:20260620T190000
DTEND;TZID=America/Los_Angeles:20260620T210000
DTSTAMP:20260422T221754
CREATED:20260402T171352Z
LAST-MODIFIED:20260402T171352Z
UID:10026648-1781982000-1781989200@bosd3.sbcounty.gov
SUMMARY:Fortressed (An Original Play) - Twentynine Palms
DESCRIPTION:Fortressed is a sharp-witted political comedy set in a fairy-tale version of old England — where the peasants are starving\, the nobles are clueless\, and the riots are rolling in fast. With Monty Python flair and a modern political edge\, Fortressed is a hilarious takedown of the powerful\, wrapped in midnight snacks\, superstitions\, and vaguely worded proclamations.
URL:https://bosd3.sbcounty.gov/event/fortressed-an-original-play-twentynine-palms/2026-06-20/
LOCATION:Theatre 29\, 73637 Sullivan Road\, Twentynine Palms\, CA\, 92277\, United States
END:VEVENT
BEGIN:VEVENT
DTSTART;TZID=America/Los_Angeles:20260621T143000
DTEND;TZID=America/Los_Angeles:20260621T170000
DTSTAMP:20260422T221754
CREATED:20260402T171352Z
LAST-MODIFIED:20260402T171352Z
UID:10026651-1782052200-1782061200@bosd3.sbcounty.gov
SUMMARY:Fortressed (An Original Play) - Twentynine Palms
DESCRIPTION:Fortressed is a sharp-witted political comedy set in a fairy-tale version of old England — where the peasants are starving\, the nobles are clueless\, and the riots are rolling in fast. With Monty Python flair and a modern political edge\, Fortressed is a hilarious takedown of the powerful\, wrapped in midnight snacks\, superstitions\, and vaguely worded proclamations.
URL:https://bosd3.sbcounty.gov/event/fortressed-an-original-play-twentynine-palms/2026-06-21/
LOCATION:Theatre 29\, 73637 Sullivan Road\, Twentynine Palms\, CA\, 92277\, United States
END:VEVENT
BEGIN:VEVENT
DTSTART;TZID=America/Los_Angeles:20260626T190000
DTEND;TZID=America/Los_Angeles:20260626T210000
DTSTAMP:20260422T221754
CREATED:20260402T171352Z
LAST-MODIFIED:20260402T171352Z
UID:10026654-1782500400-1782507600@bosd3.sbcounty.gov
SUMMARY:Fortressed (An Original Play) - Twentynine Palms
DESCRIPTION:Fortressed is a sharp-witted political comedy set in a fairy-tale version of old England — where the peasants are starving\, the nobles are clueless\, and the riots are rolling in fast. With Monty Python flair and a modern political edge\, Fortressed is a hilarious takedown of the powerful\, wrapped in midnight snacks\, superstitions\, and vaguely worded proclamations.
URL:https://bosd3.sbcounty.gov/event/fortressed-an-original-play-twentynine-palms/2026-06-26/
LOCATION:Theatre 29\, 73637 Sullivan Road\, Twentynine Palms\, CA\, 92277\, United States
END:VEVENT
BEGIN:VEVENT
DTSTART;TZID=America/Los_Angeles:20260627T190000
DTEND;TZID=America/Los_Angeles:20260627T210000
DTSTAMP:20260422T221754
CREATED:20260402T171352Z
LAST-MODIFIED:20260402T171352Z
UID:10026657-1782586800-1782594000@bosd3.sbcounty.gov
SUMMARY:Fortressed (An Original Play) - Twentynine Palms
DESCRIPTION:Fortressed is a sharp-witted political comedy set in a fairy-tale version of old England — where the peasants are starving\, the nobles are clueless\, and the riots are rolling in fast. With Monty Python flair and a modern political edge\, Fortressed is a hilarious takedown of the powerful\, wrapped in midnight snacks\, superstitions\, and vaguely worded proclamations.
URL:https://bosd3.sbcounty.gov/event/fortressed-an-original-play-twentynine-palms/2026-06-27/
LOCATION:Theatre 29\, 73637 Sullivan Road\, Twentynine Palms\, CA\, 92277\, United States
END:VEVENT
BEGIN:VEVENT
DTSTART;TZID=America/Los_Angeles:20260628T143000
DTEND;TZID=America/Los_Angeles:20260628T170000
DTSTAMP:20260422T221754
CREATED:20260402T171352Z
LAST-MODIFIED:20260402T171352Z
UID:10026660-1782657000-1782666000@bosd3.sbcounty.gov
SUMMARY:Fortressed (An Original Play) - Twentynine Palms
DESCRIPTION:Fortressed is a sharp-witted political comedy set in a fairy-tale version of old England — where the peasants are starving\, the nobles are clueless\, and the riots are rolling in fast. With Monty Python flair and a modern political edge\, Fortressed is a hilarious takedown of the powerful\, wrapped in midnight snacks\, superstitions\, and vaguely worded proclamations.
URL:https://bosd3.sbcounty.gov/event/fortressed-an-original-play-twentynine-palms/2026-06-28/
LOCATION:Theatre 29\, 73637 Sullivan Road\, Twentynine Palms\, CA\, 92277\, United States
END:VEVENT
END:VCALENDAR