BEGIN:VCALENDAR
VERSION:2.0
PRODID:-//Dawn Rowe Third District Supervisor - ECPv6.15.14//NONSGML v1.0//EN
CALSCALE:GREGORIAN
METHOD:PUBLISH
X-ORIGINAL-URL:https://bosd3.sbcounty.gov
X-WR-CALDESC:Events for Dawn Rowe Third District Supervisor
REFRESH-INTERVAL;VALUE=DURATION:PT1H
X-Robots-Tag:noindex
X-PUBLISHED-TTL:PT1H
BEGIN:VTIMEZONE
TZID:America/Los_Angeles
BEGIN:DAYLIGHT
TZOFFSETFROM:-0800
TZOFFSETTO:-0700
TZNAME:PDT
DTSTART:20250309T100000
END:DAYLIGHT
BEGIN:STANDARD
TZOFFSETFROM:-0700
TZOFFSETTO:-0800
TZNAME:PST
DTSTART:20251102T090000
END:STANDARD
BEGIN:DAYLIGHT
TZOFFSETFROM:-0800
TZOFFSETTO:-0700
TZNAME:PDT
DTSTART:20260308T100000
END:DAYLIGHT
BEGIN:STANDARD
TZOFFSETFROM:-0700
TZOFFSETTO:-0800
TZNAME:PST
DTSTART:20261101T090000
END:STANDARD
BEGIN:DAYLIGHT
TZOFFSETFROM:-0800
TZOFFSETTO:-0700
TZNAME:PDT
DTSTART:20270314T100000
END:DAYLIGHT
BEGIN:STANDARD
TZOFFSETFROM:-0700
TZOFFSETTO:-0800
TZNAME:PST
DTSTART:20271107T090000
END:STANDARD
BEGIN:DAYLIGHT
TZOFFSETFROM:-0800
TZOFFSETTO:-0700
TZNAME:PDT
DTSTART:20280312T100000
END:DAYLIGHT
BEGIN:STANDARD
TZOFFSETFROM:-0700
TZOFFSETTO:-0800
TZNAME:PST
DTSTART:20281105T090000
END:STANDARD
END:VTIMEZONE
BEGIN:VEVENT
DTSTART;TZID=America/Los_Angeles:20261230T080000
DTEND;TZID=America/Los_Angeles:20261230T210000
DTSTAMP:20260422T084247
CREATED:20250301T002511Z
LAST-MODIFIED:20250301T002511Z
UID:10022021-1798617600-1798664400@bosd3.sbcounty.gov
SUMMARY:Farmers Market - Twentynine Palms
DESCRIPTION:Visit the Twentynine Palms Farmers Market\, open year-round\, to shop fresh produce\, local goods\, and handcrafted items. The market operates Wednesdays from 8:00 AM – 9:00 PM and Sundays from 9:00 AM – 9:00 PM at 59700 Twentynine Palms Hwy.\, Joshua Tree\, CA. Enjoy a vibrant community atmosphere while supporting local farmers and artisans!
URL:https://bosd3.sbcounty.gov/event/farmers-market-twentynine-palms/2026-12-30/
LOCATION:Joshua Tree Retreat Center\, 59700 Twentynine Palms Hwy\, Joshua Tree\, CA\, United States
END:VEVENT
BEGIN:VEVENT
DTSTART;TZID=America/Los_Angeles:20270103T090000
DTEND;TZID=America/Los_Angeles:20270103T210000
DTSTAMP:20260422T084247
CREATED:20250301T002702Z
LAST-MODIFIED:20250301T002702Z
UID:10022804-1798966800-1799010000@bosd3.sbcounty.gov
SUMMARY:Farmers Market - Twentynine Palms
DESCRIPTION:Visit the Twentynine Palms Farmers Market\, open year-round\, to shop fresh produce\, local goods\, and handcrafted items. The market operates Wednesdays from 8:00 AM – 9:00 PM and Sundays from 9:00 AM – 9:00 PM at 59700 Twentynine Palms Hwy.\, Joshua Tree\, CA. Enjoy a vibrant community atmosphere while supporting local farmers and artisans!
URL:https://bosd3.sbcounty.gov/event/farmers-market-twentynine-palms-2/2027-01-03/
LOCATION:Joshua Tree Retreat Center\, 59700 Twentynine Palms Hwy\, Joshua Tree\, CA\, United States
END:VEVENT
BEGIN:VEVENT
DTSTART;TZID=America/Los_Angeles:20270106T080000
DTEND;TZID=America/Los_Angeles:20270106T210000
DTSTAMP:20260422T084247
CREATED:20250301T002511Z
LAST-MODIFIED:20250301T002511Z
UID:10022024-1799222400-1799269200@bosd3.sbcounty.gov
SUMMARY:Farmers Market - Twentynine Palms
DESCRIPTION:Visit the Twentynine Palms Farmers Market\, open year-round\, to shop fresh produce\, local goods\, and handcrafted items. The market operates Wednesdays from 8:00 AM – 9:00 PM and Sundays from 9:00 AM – 9:00 PM at 59700 Twentynine Palms Hwy.\, Joshua Tree\, CA. Enjoy a vibrant community atmosphere while supporting local farmers and artisans!
URL:https://bosd3.sbcounty.gov/event/farmers-market-twentynine-palms/2027-01-06/
LOCATION:Joshua Tree Retreat Center\, 59700 Twentynine Palms Hwy\, Joshua Tree\, CA\, United States
END:VEVENT
BEGIN:VEVENT
DTSTART;TZID=America/Los_Angeles:20270110T090000
DTEND;TZID=America/Los_Angeles:20270110T210000
DTSTAMP:20260422T084247
CREATED:20250301T002702Z
LAST-MODIFIED:20250301T002702Z
UID:10022807-1799571600-1799614800@bosd3.sbcounty.gov
SUMMARY:Farmers Market - Twentynine Palms
DESCRIPTION:Visit the Twentynine Palms Farmers Market\, open year-round\, to shop fresh produce\, local goods\, and handcrafted items. The market operates Wednesdays from 8:00 AM – 9:00 PM and Sundays from 9:00 AM – 9:00 PM at 59700 Twentynine Palms Hwy.\, Joshua Tree\, CA. Enjoy a vibrant community atmosphere while supporting local farmers and artisans!
URL:https://bosd3.sbcounty.gov/event/farmers-market-twentynine-palms-2/2027-01-10/
LOCATION:Joshua Tree Retreat Center\, 59700 Twentynine Palms Hwy\, Joshua Tree\, CA\, United States
END:VEVENT
BEGIN:VEVENT
DTSTART;TZID=America/Los_Angeles:20270113T080000
DTEND;TZID=America/Los_Angeles:20270113T210000
DTSTAMP:20260422T084247
CREATED:20250301T002511Z
LAST-MODIFIED:20250301T002511Z
UID:10022027-1799827200-1799874000@bosd3.sbcounty.gov
SUMMARY:Farmers Market - Twentynine Palms
DESCRIPTION:Visit the Twentynine Palms Farmers Market\, open year-round\, to shop fresh produce\, local goods\, and handcrafted items. The market operates Wednesdays from 8:00 AM – 9:00 PM and Sundays from 9:00 AM – 9:00 PM at 59700 Twentynine Palms Hwy.\, Joshua Tree\, CA. Enjoy a vibrant community atmosphere while supporting local farmers and artisans!
URL:https://bosd3.sbcounty.gov/event/farmers-market-twentynine-palms/2027-01-13/
LOCATION:Joshua Tree Retreat Center\, 59700 Twentynine Palms Hwy\, Joshua Tree\, CA\, United States
END:VEVENT
BEGIN:VEVENT
DTSTART;TZID=America/Los_Angeles:20270117T090000
DTEND;TZID=America/Los_Angeles:20270117T210000
DTSTAMP:20260422T084247
CREATED:20250301T002702Z
LAST-MODIFIED:20250301T002702Z
UID:10022810-1800176400-1800219600@bosd3.sbcounty.gov
SUMMARY:Farmers Market - Twentynine Palms
DESCRIPTION:Visit the Twentynine Palms Farmers Market\, open year-round\, to shop fresh produce\, local goods\, and handcrafted items. The market operates Wednesdays from 8:00 AM – 9:00 PM and Sundays from 9:00 AM – 9:00 PM at 59700 Twentynine Palms Hwy.\, Joshua Tree\, CA. Enjoy a vibrant community atmosphere while supporting local farmers and artisans!
URL:https://bosd3.sbcounty.gov/event/farmers-market-twentynine-palms-2/2027-01-17/
LOCATION:Joshua Tree Retreat Center\, 59700 Twentynine Palms Hwy\, Joshua Tree\, CA\, United States
END:VEVENT
BEGIN:VEVENT
DTSTART;TZID=America/Los_Angeles:20270120T080000
DTEND;TZID=America/Los_Angeles:20270120T210000
DTSTAMP:20260422T084247
CREATED:20250301T002511Z
LAST-MODIFIED:20250301T002511Z
UID:10022030-1800432000-1800478800@bosd3.sbcounty.gov
SUMMARY:Farmers Market - Twentynine Palms
DESCRIPTION:Visit the Twentynine Palms Farmers Market\, open year-round\, to shop fresh produce\, local goods\, and handcrafted items. The market operates Wednesdays from 8:00 AM – 9:00 PM and Sundays from 9:00 AM – 9:00 PM at 59700 Twentynine Palms Hwy.\, Joshua Tree\, CA. Enjoy a vibrant community atmosphere while supporting local farmers and artisans!
URL:https://bosd3.sbcounty.gov/event/farmers-market-twentynine-palms/2027-01-20/
LOCATION:Joshua Tree Retreat Center\, 59700 Twentynine Palms Hwy\, Joshua Tree\, CA\, United States
END:VEVENT
BEGIN:VEVENT
DTSTART;TZID=America/Los_Angeles:20270124T090000
DTEND;TZID=America/Los_Angeles:20270124T210000
DTSTAMP:20260422T084247
CREATED:20250301T002702Z
LAST-MODIFIED:20250301T002702Z
UID:10022813-1800781200-1800824400@bosd3.sbcounty.gov
SUMMARY:Farmers Market - Twentynine Palms
DESCRIPTION:Visit the Twentynine Palms Farmers Market\, open year-round\, to shop fresh produce\, local goods\, and handcrafted items. The market operates Wednesdays from 8:00 AM – 9:00 PM and Sundays from 9:00 AM – 9:00 PM at 59700 Twentynine Palms Hwy.\, Joshua Tree\, CA. Enjoy a vibrant community atmosphere while supporting local farmers and artisans!
URL:https://bosd3.sbcounty.gov/event/farmers-market-twentynine-palms-2/2027-01-24/
LOCATION:Joshua Tree Retreat Center\, 59700 Twentynine Palms Hwy\, Joshua Tree\, CA\, United States
END:VEVENT
BEGIN:VEVENT
DTSTART;TZID=America/Los_Angeles:20270127T080000
DTEND;TZID=America/Los_Angeles:20270127T210000
DTSTAMP:20260422T084247
CREATED:20250301T002511Z
LAST-MODIFIED:20250301T002511Z
UID:10022033-1801036800-1801083600@bosd3.sbcounty.gov
SUMMARY:Farmers Market - Twentynine Palms
DESCRIPTION:Visit the Twentynine Palms Farmers Market\, open year-round\, to shop fresh produce\, local goods\, and handcrafted items. The market operates Wednesdays from 8:00 AM – 9:00 PM and Sundays from 9:00 AM – 9:00 PM at 59700 Twentynine Palms Hwy.\, Joshua Tree\, CA. Enjoy a vibrant community atmosphere while supporting local farmers and artisans!
URL:https://bosd3.sbcounty.gov/event/farmers-market-twentynine-palms/2027-01-27/
LOCATION:Joshua Tree Retreat Center\, 59700 Twentynine Palms Hwy\, Joshua Tree\, CA\, United States
END:VEVENT
BEGIN:VEVENT
DTSTART;TZID=America/Los_Angeles:20270131T090000
DTEND;TZID=America/Los_Angeles:20270131T210000
DTSTAMP:20260422T084247
CREATED:20250301T002702Z
LAST-MODIFIED:20250301T002702Z
UID:10022816-1801386000-1801429200@bosd3.sbcounty.gov
SUMMARY:Farmers Market - Twentynine Palms
DESCRIPTION:Visit the Twentynine Palms Farmers Market\, open year-round\, to shop fresh produce\, local goods\, and handcrafted items. The market operates Wednesdays from 8:00 AM – 9:00 PM and Sundays from 9:00 AM – 9:00 PM at 59700 Twentynine Palms Hwy.\, Joshua Tree\, CA. Enjoy a vibrant community atmosphere while supporting local farmers and artisans!
URL:https://bosd3.sbcounty.gov/event/farmers-market-twentynine-palms-2/2027-01-31/
LOCATION:Joshua Tree Retreat Center\, 59700 Twentynine Palms Hwy\, Joshua Tree\, CA\, United States
END:VEVENT
BEGIN:VEVENT
DTSTART;TZID=America/Los_Angeles:20270203T080000
DTEND;TZID=America/Los_Angeles:20270203T210000
DTSTAMP:20260422T084247
CREATED:20250301T002511Z
LAST-MODIFIED:20250301T002511Z
UID:10022036-1801641600-1801688400@bosd3.sbcounty.gov
SUMMARY:Farmers Market - Twentynine Palms
DESCRIPTION:Visit the Twentynine Palms Farmers Market\, open year-round\, to shop fresh produce\, local goods\, and handcrafted items. The market operates Wednesdays from 8:00 AM – 9:00 PM and Sundays from 9:00 AM – 9:00 PM at 59700 Twentynine Palms Hwy.\, Joshua Tree\, CA. Enjoy a vibrant community atmosphere while supporting local farmers and artisans!
URL:https://bosd3.sbcounty.gov/event/farmers-market-twentynine-palms/2027-02-03/
LOCATION:Joshua Tree Retreat Center\, 59700 Twentynine Palms Hwy\, Joshua Tree\, CA\, United States
END:VEVENT
BEGIN:VEVENT
DTSTART;TZID=America/Los_Angeles:20270207T090000
DTEND;TZID=America/Los_Angeles:20270207T210000
DTSTAMP:20260422T084247
CREATED:20250301T002702Z
LAST-MODIFIED:20250301T002702Z
UID:10022819-1801990800-1802034000@bosd3.sbcounty.gov
SUMMARY:Farmers Market - Twentynine Palms
DESCRIPTION:Visit the Twentynine Palms Farmers Market\, open year-round\, to shop fresh produce\, local goods\, and handcrafted items. The market operates Wednesdays from 8:00 AM – 9:00 PM and Sundays from 9:00 AM – 9:00 PM at 59700 Twentynine Palms Hwy.\, Joshua Tree\, CA. Enjoy a vibrant community atmosphere while supporting local farmers and artisans!
URL:https://bosd3.sbcounty.gov/event/farmers-market-twentynine-palms-2/2027-02-07/
LOCATION:Joshua Tree Retreat Center\, 59700 Twentynine Palms Hwy\, Joshua Tree\, CA\, United States
END:VEVENT
BEGIN:VEVENT
DTSTART;TZID=America/Los_Angeles:20270210T080000
DTEND;TZID=America/Los_Angeles:20270210T210000
DTSTAMP:20260422T084247
CREATED:20250301T002511Z
LAST-MODIFIED:20250301T002511Z
UID:10022039-1802246400-1802293200@bosd3.sbcounty.gov
SUMMARY:Farmers Market - Twentynine Palms
DESCRIPTION:Visit the Twentynine Palms Farmers Market\, open year-round\, to shop fresh produce\, local goods\, and handcrafted items. The market operates Wednesdays from 8:00 AM – 9:00 PM and Sundays from 9:00 AM – 9:00 PM at 59700 Twentynine Palms Hwy.\, Joshua Tree\, CA. Enjoy a vibrant community atmosphere while supporting local farmers and artisans!
URL:https://bosd3.sbcounty.gov/event/farmers-market-twentynine-palms/2027-02-10/
LOCATION:Joshua Tree Retreat Center\, 59700 Twentynine Palms Hwy\, Joshua Tree\, CA\, United States
END:VEVENT
BEGIN:VEVENT
DTSTART;TZID=America/Los_Angeles:20270214T090000
DTEND;TZID=America/Los_Angeles:20270214T210000
DTSTAMP:20260422T084247
CREATED:20250301T002702Z
LAST-MODIFIED:20250301T002702Z
UID:10022822-1802595600-1802638800@bosd3.sbcounty.gov
SUMMARY:Farmers Market - Twentynine Palms
DESCRIPTION:Visit the Twentynine Palms Farmers Market\, open year-round\, to shop fresh produce\, local goods\, and handcrafted items. The market operates Wednesdays from 8:00 AM – 9:00 PM and Sundays from 9:00 AM – 9:00 PM at 59700 Twentynine Palms Hwy.\, Joshua Tree\, CA. Enjoy a vibrant community atmosphere while supporting local farmers and artisans!
URL:https://bosd3.sbcounty.gov/event/farmers-market-twentynine-palms-2/2027-02-14/
LOCATION:Joshua Tree Retreat Center\, 59700 Twentynine Palms Hwy\, Joshua Tree\, CA\, United States
END:VEVENT
BEGIN:VEVENT
DTSTART;TZID=America/Los_Angeles:20270217T080000
DTEND;TZID=America/Los_Angeles:20270217T210000
DTSTAMP:20260422T084247
CREATED:20250301T002511Z
LAST-MODIFIED:20250301T002511Z
UID:10022042-1802851200-1802898000@bosd3.sbcounty.gov
SUMMARY:Farmers Market - Twentynine Palms
DESCRIPTION:Visit the Twentynine Palms Farmers Market\, open year-round\, to shop fresh produce\, local goods\, and handcrafted items. The market operates Wednesdays from 8:00 AM – 9:00 PM and Sundays from 9:00 AM – 9:00 PM at 59700 Twentynine Palms Hwy.\, Joshua Tree\, CA. Enjoy a vibrant community atmosphere while supporting local farmers and artisans!
URL:https://bosd3.sbcounty.gov/event/farmers-market-twentynine-palms/2027-02-17/
LOCATION:Joshua Tree Retreat Center\, 59700 Twentynine Palms Hwy\, Joshua Tree\, CA\, United States
END:VEVENT
BEGIN:VEVENT
DTSTART;TZID=America/Los_Angeles:20270221T090000
DTEND;TZID=America/Los_Angeles:20270221T210000
DTSTAMP:20260422T084247
CREATED:20250301T002702Z
LAST-MODIFIED:20250301T002702Z
UID:10022825-1803200400-1803243600@bosd3.sbcounty.gov
SUMMARY:Farmers Market - Twentynine Palms
DESCRIPTION:Visit the Twentynine Palms Farmers Market\, open year-round\, to shop fresh produce\, local goods\, and handcrafted items. The market operates Wednesdays from 8:00 AM – 9:00 PM and Sundays from 9:00 AM – 9:00 PM at 59700 Twentynine Palms Hwy.\, Joshua Tree\, CA. Enjoy a vibrant community atmosphere while supporting local farmers and artisans!
URL:https://bosd3.sbcounty.gov/event/farmers-market-twentynine-palms-2/2027-02-21/
LOCATION:Joshua Tree Retreat Center\, 59700 Twentynine Palms Hwy\, Joshua Tree\, CA\, United States
END:VEVENT
BEGIN:VEVENT
DTSTART;TZID=America/Los_Angeles:20270224T080000
DTEND;TZID=America/Los_Angeles:20270224T210000
DTSTAMP:20260422T084247
CREATED:20250301T002511Z
LAST-MODIFIED:20250301T002511Z
UID:10022045-1803456000-1803502800@bosd3.sbcounty.gov
SUMMARY:Farmers Market - Twentynine Palms
DESCRIPTION:Visit the Twentynine Palms Farmers Market\, open year-round\, to shop fresh produce\, local goods\, and handcrafted items. The market operates Wednesdays from 8:00 AM – 9:00 PM and Sundays from 9:00 AM – 9:00 PM at 59700 Twentynine Palms Hwy.\, Joshua Tree\, CA. Enjoy a vibrant community atmosphere while supporting local farmers and artisans!
URL:https://bosd3.sbcounty.gov/event/farmers-market-twentynine-palms/2027-02-24/
LOCATION:Joshua Tree Retreat Center\, 59700 Twentynine Palms Hwy\, Joshua Tree\, CA\, United States
END:VEVENT
BEGIN:VEVENT
DTSTART;TZID=America/Los_Angeles:20270228T090000
DTEND;TZID=America/Los_Angeles:20270228T210000
DTSTAMP:20260422T084247
CREATED:20250301T002702Z
LAST-MODIFIED:20250301T002702Z
UID:10022828-1803805200-1803848400@bosd3.sbcounty.gov
SUMMARY:Farmers Market - Twentynine Palms
DESCRIPTION:Visit the Twentynine Palms Farmers Market\, open year-round\, to shop fresh produce\, local goods\, and handcrafted items. The market operates Wednesdays from 8:00 AM – 9:00 PM and Sundays from 9:00 AM – 9:00 PM at 59700 Twentynine Palms Hwy.\, Joshua Tree\, CA. Enjoy a vibrant community atmosphere while supporting local farmers and artisans!
URL:https://bosd3.sbcounty.gov/event/farmers-market-twentynine-palms-2/2027-02-28/
LOCATION:Joshua Tree Retreat Center\, 59700 Twentynine Palms Hwy\, Joshua Tree\, CA\, United States
END:VEVENT
BEGIN:VEVENT
DTSTART;TZID=America/Los_Angeles:20270303T080000
DTEND;TZID=America/Los_Angeles:20270303T210000
DTSTAMP:20260422T084247
CREATED:20250301T002511Z
LAST-MODIFIED:20250301T002511Z
UID:10022048-1804060800-1804107600@bosd3.sbcounty.gov
SUMMARY:Farmers Market - Twentynine Palms
DESCRIPTION:Visit the Twentynine Palms Farmers Market\, open year-round\, to shop fresh produce\, local goods\, and handcrafted items. The market operates Wednesdays from 8:00 AM – 9:00 PM and Sundays from 9:00 AM – 9:00 PM at 59700 Twentynine Palms Hwy.\, Joshua Tree\, CA. Enjoy a vibrant community atmosphere while supporting local farmers and artisans!
URL:https://bosd3.sbcounty.gov/event/farmers-market-twentynine-palms/2027-03-03/
LOCATION:Joshua Tree Retreat Center\, 59700 Twentynine Palms Hwy\, Joshua Tree\, CA\, United States
END:VEVENT
BEGIN:VEVENT
DTSTART;TZID=America/Los_Angeles:20270307T090000
DTEND;TZID=America/Los_Angeles:20270307T210000
DTSTAMP:20260422T084247
CREATED:20250301T002702Z
LAST-MODIFIED:20250301T002702Z
UID:10022831-1804410000-1804453200@bosd3.sbcounty.gov
SUMMARY:Farmers Market - Twentynine Palms
DESCRIPTION:Visit the Twentynine Palms Farmers Market\, open year-round\, to shop fresh produce\, local goods\, and handcrafted items. The market operates Wednesdays from 8:00 AM – 9:00 PM and Sundays from 9:00 AM – 9:00 PM at 59700 Twentynine Palms Hwy.\, Joshua Tree\, CA. Enjoy a vibrant community atmosphere while supporting local farmers and artisans!
URL:https://bosd3.sbcounty.gov/event/farmers-market-twentynine-palms-2/2027-03-07/
LOCATION:Joshua Tree Retreat Center\, 59700 Twentynine Palms Hwy\, Joshua Tree\, CA\, United States
END:VEVENT
BEGIN:VEVENT
DTSTART;TZID=America/Los_Angeles:20270310T080000
DTEND;TZID=America/Los_Angeles:20270310T210000
DTSTAMP:20260422T084247
CREATED:20250301T002511Z
LAST-MODIFIED:20250301T002511Z
UID:10022051-1804665600-1804712400@bosd3.sbcounty.gov
SUMMARY:Farmers Market - Twentynine Palms
DESCRIPTION:Visit the Twentynine Palms Farmers Market\, open year-round\, to shop fresh produce\, local goods\, and handcrafted items. The market operates Wednesdays from 8:00 AM – 9:00 PM and Sundays from 9:00 AM – 9:00 PM at 59700 Twentynine Palms Hwy.\, Joshua Tree\, CA. Enjoy a vibrant community atmosphere while supporting local farmers and artisans!
URL:https://bosd3.sbcounty.gov/event/farmers-market-twentynine-palms/2027-03-10/
LOCATION:Joshua Tree Retreat Center\, 59700 Twentynine Palms Hwy\, Joshua Tree\, CA\, United States
END:VEVENT
BEGIN:VEVENT
DTSTART;TZID=America/Los_Angeles:20270314T090000
DTEND;TZID=America/Los_Angeles:20270314T210000
DTSTAMP:20260422T084247
CREATED:20250301T002702Z
LAST-MODIFIED:20250301T002702Z
UID:10022834-1805014800-1805058000@bosd3.sbcounty.gov
SUMMARY:Farmers Market - Twentynine Palms
DESCRIPTION:Visit the Twentynine Palms Farmers Market\, open year-round\, to shop fresh produce\, local goods\, and handcrafted items. The market operates Wednesdays from 8:00 AM – 9:00 PM and Sundays from 9:00 AM – 9:00 PM at 59700 Twentynine Palms Hwy.\, Joshua Tree\, CA. Enjoy a vibrant community atmosphere while supporting local farmers and artisans!
URL:https://bosd3.sbcounty.gov/event/farmers-market-twentynine-palms-2/2027-03-14/
LOCATION:Joshua Tree Retreat Center\, 59700 Twentynine Palms Hwy\, Joshua Tree\, CA\, United States
END:VEVENT
BEGIN:VEVENT
DTSTART;TZID=America/Los_Angeles:20270317T080000
DTEND;TZID=America/Los_Angeles:20270317T210000
DTSTAMP:20260422T084247
CREATED:20250301T002511Z
LAST-MODIFIED:20250301T002511Z
UID:10022054-1805270400-1805317200@bosd3.sbcounty.gov
SUMMARY:Farmers Market - Twentynine Palms
DESCRIPTION:Visit the Twentynine Palms Farmers Market\, open year-round\, to shop fresh produce\, local goods\, and handcrafted items. The market operates Wednesdays from 8:00 AM – 9:00 PM and Sundays from 9:00 AM – 9:00 PM at 59700 Twentynine Palms Hwy.\, Joshua Tree\, CA. Enjoy a vibrant community atmosphere while supporting local farmers and artisans!
URL:https://bosd3.sbcounty.gov/event/farmers-market-twentynine-palms/2027-03-17/
LOCATION:Joshua Tree Retreat Center\, 59700 Twentynine Palms Hwy\, Joshua Tree\, CA\, United States
END:VEVENT
BEGIN:VEVENT
DTSTART;TZID=America/Los_Angeles:20270321T090000
DTEND;TZID=America/Los_Angeles:20270321T210000
DTSTAMP:20260422T084248
CREATED:20250301T002702Z
LAST-MODIFIED:20250301T002702Z
UID:10022837-1805619600-1805662800@bosd3.sbcounty.gov
SUMMARY:Farmers Market - Twentynine Palms
DESCRIPTION:Visit the Twentynine Palms Farmers Market\, open year-round\, to shop fresh produce\, local goods\, and handcrafted items. The market operates Wednesdays from 8:00 AM – 9:00 PM and Sundays from 9:00 AM – 9:00 PM at 59700 Twentynine Palms Hwy.\, Joshua Tree\, CA. Enjoy a vibrant community atmosphere while supporting local farmers and artisans!
URL:https://bosd3.sbcounty.gov/event/farmers-market-twentynine-palms-2/2027-03-21/
LOCATION:Joshua Tree Retreat Center\, 59700 Twentynine Palms Hwy\, Joshua Tree\, CA\, United States
END:VEVENT
BEGIN:VEVENT
DTSTART;TZID=America/Los_Angeles:20270324T080000
DTEND;TZID=America/Los_Angeles:20270324T210000
DTSTAMP:20260422T084248
CREATED:20250301T002511Z
LAST-MODIFIED:20250301T002511Z
UID:10022057-1805875200-1805922000@bosd3.sbcounty.gov
SUMMARY:Farmers Market - Twentynine Palms
DESCRIPTION:Visit the Twentynine Palms Farmers Market\, open year-round\, to shop fresh produce\, local goods\, and handcrafted items. The market operates Wednesdays from 8:00 AM – 9:00 PM and Sundays from 9:00 AM – 9:00 PM at 59700 Twentynine Palms Hwy.\, Joshua Tree\, CA. Enjoy a vibrant community atmosphere while supporting local farmers and artisans!
URL:https://bosd3.sbcounty.gov/event/farmers-market-twentynine-palms/2027-03-24/
LOCATION:Joshua Tree Retreat Center\, 59700 Twentynine Palms Hwy\, Joshua Tree\, CA\, United States
END:VEVENT
BEGIN:VEVENT
DTSTART;TZID=America/Los_Angeles:20270328T090000
DTEND;TZID=America/Los_Angeles:20270328T210000
DTSTAMP:20260422T084248
CREATED:20250301T002702Z
LAST-MODIFIED:20250301T002702Z
UID:10022840-1806224400-1806267600@bosd3.sbcounty.gov
SUMMARY:Farmers Market - Twentynine Palms
DESCRIPTION:Visit the Twentynine Palms Farmers Market\, open year-round\, to shop fresh produce\, local goods\, and handcrafted items. The market operates Wednesdays from 8:00 AM – 9:00 PM and Sundays from 9:00 AM – 9:00 PM at 59700 Twentynine Palms Hwy.\, Joshua Tree\, CA. Enjoy a vibrant community atmosphere while supporting local farmers and artisans!
URL:https://bosd3.sbcounty.gov/event/farmers-market-twentynine-palms-2/2027-03-28/
LOCATION:Joshua Tree Retreat Center\, 59700 Twentynine Palms Hwy\, Joshua Tree\, CA\, United States
END:VEVENT
BEGIN:VEVENT
DTSTART;TZID=America/Los_Angeles:20270331T080000
DTEND;TZID=America/Los_Angeles:20270331T210000
DTSTAMP:20260422T084248
CREATED:20250301T002511Z
LAST-MODIFIED:20250301T002511Z
UID:10022060-1806480000-1806526800@bosd3.sbcounty.gov
SUMMARY:Farmers Market - Twentynine Palms
DESCRIPTION:Visit the Twentynine Palms Farmers Market\, open year-round\, to shop fresh produce\, local goods\, and handcrafted items. The market operates Wednesdays from 8:00 AM – 9:00 PM and Sundays from 9:00 AM – 9:00 PM at 59700 Twentynine Palms Hwy.\, Joshua Tree\, CA. Enjoy a vibrant community atmosphere while supporting local farmers and artisans!
URL:https://bosd3.sbcounty.gov/event/farmers-market-twentynine-palms/2027-03-31/
LOCATION:Joshua Tree Retreat Center\, 59700 Twentynine Palms Hwy\, Joshua Tree\, CA\, United States
END:VEVENT
BEGIN:VEVENT
DTSTART;TZID=America/Los_Angeles:20270404T090000
DTEND;TZID=America/Los_Angeles:20270404T210000
DTSTAMP:20260422T084248
CREATED:20250301T002702Z
LAST-MODIFIED:20250301T002702Z
UID:10022843-1806829200-1806872400@bosd3.sbcounty.gov
SUMMARY:Farmers Market - Twentynine Palms
DESCRIPTION:Visit the Twentynine Palms Farmers Market\, open year-round\, to shop fresh produce\, local goods\, and handcrafted items. The market operates Wednesdays from 8:00 AM – 9:00 PM and Sundays from 9:00 AM – 9:00 PM at 59700 Twentynine Palms Hwy.\, Joshua Tree\, CA. Enjoy a vibrant community atmosphere while supporting local farmers and artisans!
URL:https://bosd3.sbcounty.gov/event/farmers-market-twentynine-palms-2/2027-04-04/
LOCATION:Joshua Tree Retreat Center\, 59700 Twentynine Palms Hwy\, Joshua Tree\, CA\, United States
END:VEVENT
BEGIN:VEVENT
DTSTART;TZID=America/Los_Angeles:20270407T080000
DTEND;TZID=America/Los_Angeles:20270407T210000
DTSTAMP:20260422T084248
CREATED:20250301T002511Z
LAST-MODIFIED:20250301T002511Z
UID:10022063-1807084800-1807131600@bosd3.sbcounty.gov
SUMMARY:Farmers Market - Twentynine Palms
DESCRIPTION:Visit the Twentynine Palms Farmers Market\, open year-round\, to shop fresh produce\, local goods\, and handcrafted items. The market operates Wednesdays from 8:00 AM – 9:00 PM and Sundays from 9:00 AM – 9:00 PM at 59700 Twentynine Palms Hwy.\, Joshua Tree\, CA. Enjoy a vibrant community atmosphere while supporting local farmers and artisans!
URL:https://bosd3.sbcounty.gov/event/farmers-market-twentynine-palms/2027-04-07/
LOCATION:Joshua Tree Retreat Center\, 59700 Twentynine Palms Hwy\, Joshua Tree\, CA\, United States
END:VEVENT
BEGIN:VEVENT
DTSTART;TZID=America/Los_Angeles:20270411T090000
DTEND;TZID=America/Los_Angeles:20270411T210000
DTSTAMP:20260422T084248
CREATED:20250301T002702Z
LAST-MODIFIED:20250301T002702Z
UID:10022846-1807434000-1807477200@bosd3.sbcounty.gov
SUMMARY:Farmers Market - Twentynine Palms
DESCRIPTION:Visit the Twentynine Palms Farmers Market\, open year-round\, to shop fresh produce\, local goods\, and handcrafted items. The market operates Wednesdays from 8:00 AM – 9:00 PM and Sundays from 9:00 AM – 9:00 PM at 59700 Twentynine Palms Hwy.\, Joshua Tree\, CA. Enjoy a vibrant community atmosphere while supporting local farmers and artisans!
URL:https://bosd3.sbcounty.gov/event/farmers-market-twentynine-palms-2/2027-04-11/
LOCATION:Joshua Tree Retreat Center\, 59700 Twentynine Palms Hwy\, Joshua Tree\, CA\, United States
END:VEVENT
END:VCALENDAR