BEGIN:VCALENDAR
VERSION:2.0
PRODID:-//Dawn Rowe Third District Supervisor - ECPv6.15.14//NONSGML v1.0//EN
CALSCALE:GREGORIAN
METHOD:PUBLISH
X-ORIGINAL-URL:https://bosd3.sbcounty.gov
X-WR-CALDESC:Events for Dawn Rowe Third District Supervisor
REFRESH-INTERVAL;VALUE=DURATION:PT1H
X-Robots-Tag:noindex
X-PUBLISHED-TTL:PT1H
BEGIN:VTIMEZONE
TZID:America/Los_Angeles
BEGIN:DAYLIGHT
TZOFFSETFROM:-0800
TZOFFSETTO:-0700
TZNAME:PDT
DTSTART:20250309T100000
END:DAYLIGHT
BEGIN:STANDARD
TZOFFSETFROM:-0700
TZOFFSETTO:-0800
TZNAME:PST
DTSTART:20251102T090000
END:STANDARD
BEGIN:DAYLIGHT
TZOFFSETFROM:-0800
TZOFFSETTO:-0700
TZNAME:PDT
DTSTART:20260308T100000
END:DAYLIGHT
BEGIN:STANDARD
TZOFFSETFROM:-0700
TZOFFSETTO:-0800
TZNAME:PST
DTSTART:20261101T090000
END:STANDARD
BEGIN:DAYLIGHT
TZOFFSETFROM:-0800
TZOFFSETTO:-0700
TZNAME:PDT
DTSTART:20270314T100000
END:DAYLIGHT
BEGIN:STANDARD
TZOFFSETFROM:-0700
TZOFFSETTO:-0800
TZNAME:PST
DTSTART:20271107T090000
END:STANDARD
BEGIN:DAYLIGHT
TZOFFSETFROM:-0800
TZOFFSETTO:-0700
TZNAME:PDT
DTSTART:20280312T100000
END:DAYLIGHT
BEGIN:STANDARD
TZOFFSETFROM:-0700
TZOFFSETTO:-0800
TZNAME:PST
DTSTART:20281105T090000
END:STANDARD
END:VTIMEZONE
BEGIN:VEVENT
DTSTART;TZID=America/Los_Angeles:20261231T070000
DTEND;TZID=America/Los_Angeles:20261231T133000
DTSTAMP:20260422T065609
CREATED:20250425T205418Z
LAST-MODIFIED:20250425T205418Z
UID:10024735-1798700400-1798723800@bosd3.sbcounty.gov
SUMMARY:Farmers Market - Loma Linda
DESCRIPTION:Check out the famers market at VA Loma Linda Thursdays from 7am-1:30pm.  Discover what’s fresh each week\, support local farmers\, & enjoy some delicious foodie finds with veterans and people from the neighborhood! Located in front of Jerry L. Pettis Memorial Veterans’ Hospital\, 11201 Benton Street in Loma Linda.
URL:https://bosd3.sbcounty.gov/event/farmers-market-loma-linda/2026-12-31/
LOCATION:Jerry L. Pettis Memorial Veterans Hospital\, 11201 Benton Street\, Loma Linda\, CA\, United States
END:VEVENT
BEGIN:VEVENT
DTSTART;TZID=America/Los_Angeles:20270107T070000
DTEND;TZID=America/Los_Angeles:20270107T133000
DTSTAMP:20260422T065609
CREATED:20250425T205418Z
LAST-MODIFIED:20250425T205418Z
UID:10024738-1799305200-1799328600@bosd3.sbcounty.gov
SUMMARY:Farmers Market - Loma Linda
DESCRIPTION:Check out the famers market at VA Loma Linda Thursdays from 7am-1:30pm.  Discover what’s fresh each week\, support local farmers\, & enjoy some delicious foodie finds with veterans and people from the neighborhood! Located in front of Jerry L. Pettis Memorial Veterans’ Hospital\, 11201 Benton Street in Loma Linda.
URL:https://bosd3.sbcounty.gov/event/farmers-market-loma-linda/2027-01-07/
LOCATION:Jerry L. Pettis Memorial Veterans Hospital\, 11201 Benton Street\, Loma Linda\, CA\, United States
END:VEVENT
BEGIN:VEVENT
DTSTART;TZID=America/Los_Angeles:20270114T070000
DTEND;TZID=America/Los_Angeles:20270114T133000
DTSTAMP:20260422T065609
CREATED:20250425T205418Z
LAST-MODIFIED:20250425T205418Z
UID:10024741-1799910000-1799933400@bosd3.sbcounty.gov
SUMMARY:Farmers Market - Loma Linda
DESCRIPTION:Check out the famers market at VA Loma Linda Thursdays from 7am-1:30pm.  Discover what’s fresh each week\, support local farmers\, & enjoy some delicious foodie finds with veterans and people from the neighborhood! Located in front of Jerry L. Pettis Memorial Veterans’ Hospital\, 11201 Benton Street in Loma Linda.
URL:https://bosd3.sbcounty.gov/event/farmers-market-loma-linda/2027-01-14/
LOCATION:Jerry L. Pettis Memorial Veterans Hospital\, 11201 Benton Street\, Loma Linda\, CA\, United States
END:VEVENT
BEGIN:VEVENT
DTSTART;TZID=America/Los_Angeles:20270121T070000
DTEND;TZID=America/Los_Angeles:20270121T133000
DTSTAMP:20260422T065609
CREATED:20250425T205418Z
LAST-MODIFIED:20250425T205418Z
UID:10024744-1800514800-1800538200@bosd3.sbcounty.gov
SUMMARY:Farmers Market - Loma Linda
DESCRIPTION:Check out the famers market at VA Loma Linda Thursdays from 7am-1:30pm.  Discover what’s fresh each week\, support local farmers\, & enjoy some delicious foodie finds with veterans and people from the neighborhood! Located in front of Jerry L. Pettis Memorial Veterans’ Hospital\, 11201 Benton Street in Loma Linda.
URL:https://bosd3.sbcounty.gov/event/farmers-market-loma-linda/2027-01-21/
LOCATION:Jerry L. Pettis Memorial Veterans Hospital\, 11201 Benton Street\, Loma Linda\, CA\, United States
END:VEVENT
BEGIN:VEVENT
DTSTART;TZID=America/Los_Angeles:20270128T070000
DTEND;TZID=America/Los_Angeles:20270128T133000
DTSTAMP:20260422T065609
CREATED:20250425T205418Z
LAST-MODIFIED:20250425T205418Z
UID:10024747-1801119600-1801143000@bosd3.sbcounty.gov
SUMMARY:Farmers Market - Loma Linda
DESCRIPTION:Check out the famers market at VA Loma Linda Thursdays from 7am-1:30pm.  Discover what’s fresh each week\, support local farmers\, & enjoy some delicious foodie finds with veterans and people from the neighborhood! Located in front of Jerry L. Pettis Memorial Veterans’ Hospital\, 11201 Benton Street in Loma Linda.
URL:https://bosd3.sbcounty.gov/event/farmers-market-loma-linda/2027-01-28/
LOCATION:Jerry L. Pettis Memorial Veterans Hospital\, 11201 Benton Street\, Loma Linda\, CA\, United States
END:VEVENT
BEGIN:VEVENT
DTSTART;TZID=America/Los_Angeles:20270204T070000
DTEND;TZID=America/Los_Angeles:20270204T133000
DTSTAMP:20260422T065609
CREATED:20250425T205418Z
LAST-MODIFIED:20250425T205418Z
UID:10024750-1801724400-1801747800@bosd3.sbcounty.gov
SUMMARY:Farmers Market - Loma Linda
DESCRIPTION:Check out the famers market at VA Loma Linda Thursdays from 7am-1:30pm.  Discover what’s fresh each week\, support local farmers\, & enjoy some delicious foodie finds with veterans and people from the neighborhood! Located in front of Jerry L. Pettis Memorial Veterans’ Hospital\, 11201 Benton Street in Loma Linda.
URL:https://bosd3.sbcounty.gov/event/farmers-market-loma-linda/2027-02-04/
LOCATION:Jerry L. Pettis Memorial Veterans Hospital\, 11201 Benton Street\, Loma Linda\, CA\, United States
END:VEVENT
BEGIN:VEVENT
DTSTART;TZID=America/Los_Angeles:20270211T070000
DTEND;TZID=America/Los_Angeles:20270211T133000
DTSTAMP:20260422T065609
CREATED:20250425T205418Z
LAST-MODIFIED:20250425T205418Z
UID:10024753-1802329200-1802352600@bosd3.sbcounty.gov
SUMMARY:Farmers Market - Loma Linda
DESCRIPTION:Check out the famers market at VA Loma Linda Thursdays from 7am-1:30pm.  Discover what’s fresh each week\, support local farmers\, & enjoy some delicious foodie finds with veterans and people from the neighborhood! Located in front of Jerry L. Pettis Memorial Veterans’ Hospital\, 11201 Benton Street in Loma Linda.
URL:https://bosd3.sbcounty.gov/event/farmers-market-loma-linda/2027-02-11/
LOCATION:Jerry L. Pettis Memorial Veterans Hospital\, 11201 Benton Street\, Loma Linda\, CA\, United States
END:VEVENT
BEGIN:VEVENT
DTSTART;TZID=America/Los_Angeles:20270218T070000
DTEND;TZID=America/Los_Angeles:20270218T133000
DTSTAMP:20260422T065609
CREATED:20250425T205418Z
LAST-MODIFIED:20250425T205418Z
UID:10024756-1802934000-1802957400@bosd3.sbcounty.gov
SUMMARY:Farmers Market - Loma Linda
DESCRIPTION:Check out the famers market at VA Loma Linda Thursdays from 7am-1:30pm.  Discover what’s fresh each week\, support local farmers\, & enjoy some delicious foodie finds with veterans and people from the neighborhood! Located in front of Jerry L. Pettis Memorial Veterans’ Hospital\, 11201 Benton Street in Loma Linda.
URL:https://bosd3.sbcounty.gov/event/farmers-market-loma-linda/2027-02-18/
LOCATION:Jerry L. Pettis Memorial Veterans Hospital\, 11201 Benton Street\, Loma Linda\, CA\, United States
END:VEVENT
BEGIN:VEVENT
DTSTART;TZID=America/Los_Angeles:20270225T070000
DTEND;TZID=America/Los_Angeles:20270225T133000
DTSTAMP:20260422T065609
CREATED:20250425T205418Z
LAST-MODIFIED:20250425T205418Z
UID:10024759-1803538800-1803562200@bosd3.sbcounty.gov
SUMMARY:Farmers Market - Loma Linda
DESCRIPTION:Check out the famers market at VA Loma Linda Thursdays from 7am-1:30pm.  Discover what’s fresh each week\, support local farmers\, & enjoy some delicious foodie finds with veterans and people from the neighborhood! Located in front of Jerry L. Pettis Memorial Veterans’ Hospital\, 11201 Benton Street in Loma Linda.
URL:https://bosd3.sbcounty.gov/event/farmers-market-loma-linda/2027-02-25/
LOCATION:Jerry L. Pettis Memorial Veterans Hospital\, 11201 Benton Street\, Loma Linda\, CA\, United States
END:VEVENT
BEGIN:VEVENT
DTSTART;TZID=America/Los_Angeles:20270304T070000
DTEND;TZID=America/Los_Angeles:20270304T133000
DTSTAMP:20260422T065609
CREATED:20250425T205418Z
LAST-MODIFIED:20250425T205418Z
UID:10024762-1804143600-1804167000@bosd3.sbcounty.gov
SUMMARY:Farmers Market - Loma Linda
DESCRIPTION:Check out the famers market at VA Loma Linda Thursdays from 7am-1:30pm.  Discover what’s fresh each week\, support local farmers\, & enjoy some delicious foodie finds with veterans and people from the neighborhood! Located in front of Jerry L. Pettis Memorial Veterans’ Hospital\, 11201 Benton Street in Loma Linda.
URL:https://bosd3.sbcounty.gov/event/farmers-market-loma-linda/2027-03-04/
LOCATION:Jerry L. Pettis Memorial Veterans Hospital\, 11201 Benton Street\, Loma Linda\, CA\, United States
END:VEVENT
BEGIN:VEVENT
DTSTART;TZID=America/Los_Angeles:20270311T070000
DTEND;TZID=America/Los_Angeles:20270311T133000
DTSTAMP:20260422T065609
CREATED:20250425T205418Z
LAST-MODIFIED:20250425T205418Z
UID:10024765-1804748400-1804771800@bosd3.sbcounty.gov
SUMMARY:Farmers Market - Loma Linda
DESCRIPTION:Check out the famers market at VA Loma Linda Thursdays from 7am-1:30pm.  Discover what’s fresh each week\, support local farmers\, & enjoy some delicious foodie finds with veterans and people from the neighborhood! Located in front of Jerry L. Pettis Memorial Veterans’ Hospital\, 11201 Benton Street in Loma Linda.
URL:https://bosd3.sbcounty.gov/event/farmers-market-loma-linda/2027-03-11/
LOCATION:Jerry L. Pettis Memorial Veterans Hospital\, 11201 Benton Street\, Loma Linda\, CA\, United States
END:VEVENT
BEGIN:VEVENT
DTSTART;TZID=America/Los_Angeles:20270318T070000
DTEND;TZID=America/Los_Angeles:20270318T133000
DTSTAMP:20260422T065609
CREATED:20250425T205418Z
LAST-MODIFIED:20250425T205418Z
UID:10024768-1805353200-1805376600@bosd3.sbcounty.gov
SUMMARY:Farmers Market - Loma Linda
DESCRIPTION:Check out the famers market at VA Loma Linda Thursdays from 7am-1:30pm.  Discover what’s fresh each week\, support local farmers\, & enjoy some delicious foodie finds with veterans and people from the neighborhood! Located in front of Jerry L. Pettis Memorial Veterans’ Hospital\, 11201 Benton Street in Loma Linda.
URL:https://bosd3.sbcounty.gov/event/farmers-market-loma-linda/2027-03-18/
LOCATION:Jerry L. Pettis Memorial Veterans Hospital\, 11201 Benton Street\, Loma Linda\, CA\, United States
END:VEVENT
BEGIN:VEVENT
DTSTART;TZID=America/Los_Angeles:20270325T070000
DTEND;TZID=America/Los_Angeles:20270325T133000
DTSTAMP:20260422T065609
CREATED:20250425T205418Z
LAST-MODIFIED:20250425T205418Z
UID:10024771-1805958000-1805981400@bosd3.sbcounty.gov
SUMMARY:Farmers Market - Loma Linda
DESCRIPTION:Check out the famers market at VA Loma Linda Thursdays from 7am-1:30pm.  Discover what’s fresh each week\, support local farmers\, & enjoy some delicious foodie finds with veterans and people from the neighborhood! Located in front of Jerry L. Pettis Memorial Veterans’ Hospital\, 11201 Benton Street in Loma Linda.
URL:https://bosd3.sbcounty.gov/event/farmers-market-loma-linda/2027-03-25/
LOCATION:Jerry L. Pettis Memorial Veterans Hospital\, 11201 Benton Street\, Loma Linda\, CA\, United States
END:VEVENT
BEGIN:VEVENT
DTSTART;TZID=America/Los_Angeles:20270401T070000
DTEND;TZID=America/Los_Angeles:20270401T133000
DTSTAMP:20260422T065609
CREATED:20250425T205418Z
LAST-MODIFIED:20250425T205418Z
UID:10024774-1806562800-1806586200@bosd3.sbcounty.gov
SUMMARY:Farmers Market - Loma Linda
DESCRIPTION:Check out the famers market at VA Loma Linda Thursdays from 7am-1:30pm.  Discover what’s fresh each week\, support local farmers\, & enjoy some delicious foodie finds with veterans and people from the neighborhood! Located in front of Jerry L. Pettis Memorial Veterans’ Hospital\, 11201 Benton Street in Loma Linda.
URL:https://bosd3.sbcounty.gov/event/farmers-market-loma-linda/2027-04-01/
LOCATION:Jerry L. Pettis Memorial Veterans Hospital\, 11201 Benton Street\, Loma Linda\, CA\, United States
END:VEVENT
BEGIN:VEVENT
DTSTART;TZID=America/Los_Angeles:20270408T070000
DTEND;TZID=America/Los_Angeles:20270408T133000
DTSTAMP:20260422T065609
CREATED:20250425T205418Z
LAST-MODIFIED:20250425T205418Z
UID:10024777-1807167600-1807191000@bosd3.sbcounty.gov
SUMMARY:Farmers Market - Loma Linda
DESCRIPTION:Check out the famers market at VA Loma Linda Thursdays from 7am-1:30pm.  Discover what’s fresh each week\, support local farmers\, & enjoy some delicious foodie finds with veterans and people from the neighborhood! Located in front of Jerry L. Pettis Memorial Veterans’ Hospital\, 11201 Benton Street in Loma Linda.
URL:https://bosd3.sbcounty.gov/event/farmers-market-loma-linda/2027-04-08/
LOCATION:Jerry L. Pettis Memorial Veterans Hospital\, 11201 Benton Street\, Loma Linda\, CA\, United States
END:VEVENT
BEGIN:VEVENT
DTSTART;TZID=America/Los_Angeles:20270415T070000
DTEND;TZID=America/Los_Angeles:20270415T133000
DTSTAMP:20260422T065609
CREATED:20250425T205418Z
LAST-MODIFIED:20250425T205418Z
UID:10024780-1807772400-1807795800@bosd3.sbcounty.gov
SUMMARY:Farmers Market - Loma Linda
DESCRIPTION:Check out the famers market at VA Loma Linda Thursdays from 7am-1:30pm.  Discover what’s fresh each week\, support local farmers\, & enjoy some delicious foodie finds with veterans and people from the neighborhood! Located in front of Jerry L. Pettis Memorial Veterans’ Hospital\, 11201 Benton Street in Loma Linda.
URL:https://bosd3.sbcounty.gov/event/farmers-market-loma-linda/2027-04-15/
LOCATION:Jerry L. Pettis Memorial Veterans Hospital\, 11201 Benton Street\, Loma Linda\, CA\, United States
END:VEVENT
BEGIN:VEVENT
DTSTART;TZID=America/Los_Angeles:20270422T070000
DTEND;TZID=America/Los_Angeles:20270422T133000
DTSTAMP:20260422T065609
CREATED:20250425T205418Z
LAST-MODIFIED:20250425T205418Z
UID:10024783-1808377200-1808400600@bosd3.sbcounty.gov
SUMMARY:Farmers Market - Loma Linda
DESCRIPTION:Check out the famers market at VA Loma Linda Thursdays from 7am-1:30pm.  Discover what’s fresh each week\, support local farmers\, & enjoy some delicious foodie finds with veterans and people from the neighborhood! Located in front of Jerry L. Pettis Memorial Veterans’ Hospital\, 11201 Benton Street in Loma Linda.
URL:https://bosd3.sbcounty.gov/event/farmers-market-loma-linda/2027-04-22/
LOCATION:Jerry L. Pettis Memorial Veterans Hospital\, 11201 Benton Street\, Loma Linda\, CA\, United States
END:VEVENT
BEGIN:VEVENT
DTSTART;TZID=America/Los_Angeles:20270429T070000
DTEND;TZID=America/Los_Angeles:20270429T133000
DTSTAMP:20260422T065609
CREATED:20250425T205418Z
LAST-MODIFIED:20250425T205418Z
UID:10024786-1808982000-1809005400@bosd3.sbcounty.gov
SUMMARY:Farmers Market - Loma Linda
DESCRIPTION:Check out the famers market at VA Loma Linda Thursdays from 7am-1:30pm.  Discover what’s fresh each week\, support local farmers\, & enjoy some delicious foodie finds with veterans and people from the neighborhood! Located in front of Jerry L. Pettis Memorial Veterans’ Hospital\, 11201 Benton Street in Loma Linda.
URL:https://bosd3.sbcounty.gov/event/farmers-market-loma-linda/2027-04-29/
LOCATION:Jerry L. Pettis Memorial Veterans Hospital\, 11201 Benton Street\, Loma Linda\, CA\, United States
END:VEVENT
BEGIN:VEVENT
DTSTART;TZID=America/Los_Angeles:20270506T070000
DTEND;TZID=America/Los_Angeles:20270506T133000
DTSTAMP:20260422T065609
CREATED:20250425T205418Z
LAST-MODIFIED:20250425T205418Z
UID:10024789-1809586800-1809610200@bosd3.sbcounty.gov
SUMMARY:Farmers Market - Loma Linda
DESCRIPTION:Check out the famers market at VA Loma Linda Thursdays from 7am-1:30pm.  Discover what’s fresh each week\, support local farmers\, & enjoy some delicious foodie finds with veterans and people from the neighborhood! Located in front of Jerry L. Pettis Memorial Veterans’ Hospital\, 11201 Benton Street in Loma Linda.
URL:https://bosd3.sbcounty.gov/event/farmers-market-loma-linda/2027-05-06/
LOCATION:Jerry L. Pettis Memorial Veterans Hospital\, 11201 Benton Street\, Loma Linda\, CA\, United States
END:VEVENT
BEGIN:VEVENT
DTSTART;TZID=America/Los_Angeles:20270513T070000
DTEND;TZID=America/Los_Angeles:20270513T133000
DTSTAMP:20260422T065609
CREATED:20250425T205418Z
LAST-MODIFIED:20250425T205418Z
UID:10024792-1810191600-1810215000@bosd3.sbcounty.gov
SUMMARY:Farmers Market - Loma Linda
DESCRIPTION:Check out the famers market at VA Loma Linda Thursdays from 7am-1:30pm.  Discover what’s fresh each week\, support local farmers\, & enjoy some delicious foodie finds with veterans and people from the neighborhood! Located in front of Jerry L. Pettis Memorial Veterans’ Hospital\, 11201 Benton Street in Loma Linda.
URL:https://bosd3.sbcounty.gov/event/farmers-market-loma-linda/2027-05-13/
LOCATION:Jerry L. Pettis Memorial Veterans Hospital\, 11201 Benton Street\, Loma Linda\, CA\, United States
END:VEVENT
BEGIN:VEVENT
DTSTART;TZID=America/Los_Angeles:20270520T070000
DTEND;TZID=America/Los_Angeles:20270520T133000
DTSTAMP:20260422T065609
CREATED:20250425T205418Z
LAST-MODIFIED:20250425T205418Z
UID:10024795-1810796400-1810819800@bosd3.sbcounty.gov
SUMMARY:Farmers Market - Loma Linda
DESCRIPTION:Check out the famers market at VA Loma Linda Thursdays from 7am-1:30pm.  Discover what’s fresh each week\, support local farmers\, & enjoy some delicious foodie finds with veterans and people from the neighborhood! Located in front of Jerry L. Pettis Memorial Veterans’ Hospital\, 11201 Benton Street in Loma Linda.
URL:https://bosd3.sbcounty.gov/event/farmers-market-loma-linda/2027-05-20/
LOCATION:Jerry L. Pettis Memorial Veterans Hospital\, 11201 Benton Street\, Loma Linda\, CA\, United States
END:VEVENT
BEGIN:VEVENT
DTSTART;TZID=America/Los_Angeles:20270527T070000
DTEND;TZID=America/Los_Angeles:20270527T133000
DTSTAMP:20260422T065609
CREATED:20250425T205418Z
LAST-MODIFIED:20250425T205418Z
UID:10024798-1811401200-1811424600@bosd3.sbcounty.gov
SUMMARY:Farmers Market - Loma Linda
DESCRIPTION:Check out the famers market at VA Loma Linda Thursdays from 7am-1:30pm.  Discover what’s fresh each week\, support local farmers\, & enjoy some delicious foodie finds with veterans and people from the neighborhood! Located in front of Jerry L. Pettis Memorial Veterans’ Hospital\, 11201 Benton Street in Loma Linda.
URL:https://bosd3.sbcounty.gov/event/farmers-market-loma-linda/2027-05-27/
LOCATION:Jerry L. Pettis Memorial Veterans Hospital\, 11201 Benton Street\, Loma Linda\, CA\, United States
END:VEVENT
BEGIN:VEVENT
DTSTART;TZID=America/Los_Angeles:20270603T070000
DTEND;TZID=America/Los_Angeles:20270603T133000
DTSTAMP:20260422T065609
CREATED:20250425T205418Z
LAST-MODIFIED:20250425T205418Z
UID:10024801-1812006000-1812029400@bosd3.sbcounty.gov
SUMMARY:Farmers Market - Loma Linda
DESCRIPTION:Check out the famers market at VA Loma Linda Thursdays from 7am-1:30pm.  Discover what’s fresh each week\, support local farmers\, & enjoy some delicious foodie finds with veterans and people from the neighborhood! Located in front of Jerry L. Pettis Memorial Veterans’ Hospital\, 11201 Benton Street in Loma Linda.
URL:https://bosd3.sbcounty.gov/event/farmers-market-loma-linda/2027-06-03/
LOCATION:Jerry L. Pettis Memorial Veterans Hospital\, 11201 Benton Street\, Loma Linda\, CA\, United States
END:VEVENT
BEGIN:VEVENT
DTSTART;TZID=America/Los_Angeles:20270610T070000
DTEND;TZID=America/Los_Angeles:20270610T133000
DTSTAMP:20260422T065609
CREATED:20250425T205418Z
LAST-MODIFIED:20250425T205418Z
UID:10024804-1812610800-1812634200@bosd3.sbcounty.gov
SUMMARY:Farmers Market - Loma Linda
DESCRIPTION:Check out the famers market at VA Loma Linda Thursdays from 7am-1:30pm.  Discover what’s fresh each week\, support local farmers\, & enjoy some delicious foodie finds with veterans and people from the neighborhood! Located in front of Jerry L. Pettis Memorial Veterans’ Hospital\, 11201 Benton Street in Loma Linda.
URL:https://bosd3.sbcounty.gov/event/farmers-market-loma-linda/2027-06-10/
LOCATION:Jerry L. Pettis Memorial Veterans Hospital\, 11201 Benton Street\, Loma Linda\, CA\, United States
END:VEVENT
BEGIN:VEVENT
DTSTART;TZID=America/Los_Angeles:20270617T070000
DTEND;TZID=America/Los_Angeles:20270617T133000
DTSTAMP:20260422T065609
CREATED:20250425T205418Z
LAST-MODIFIED:20250425T205418Z
UID:10024807-1813215600-1813239000@bosd3.sbcounty.gov
SUMMARY:Farmers Market - Loma Linda
DESCRIPTION:Check out the famers market at VA Loma Linda Thursdays from 7am-1:30pm.  Discover what’s fresh each week\, support local farmers\, & enjoy some delicious foodie finds with veterans and people from the neighborhood! Located in front of Jerry L. Pettis Memorial Veterans’ Hospital\, 11201 Benton Street in Loma Linda.
URL:https://bosd3.sbcounty.gov/event/farmers-market-loma-linda/2027-06-17/
LOCATION:Jerry L. Pettis Memorial Veterans Hospital\, 11201 Benton Street\, Loma Linda\, CA\, United States
END:VEVENT
BEGIN:VEVENT
DTSTART;TZID=America/Los_Angeles:20270624T070000
DTEND;TZID=America/Los_Angeles:20270624T133000
DTSTAMP:20260422T065609
CREATED:20250425T205418Z
LAST-MODIFIED:20250425T205418Z
UID:10024810-1813820400-1813843800@bosd3.sbcounty.gov
SUMMARY:Farmers Market - Loma Linda
DESCRIPTION:Check out the famers market at VA Loma Linda Thursdays from 7am-1:30pm.  Discover what’s fresh each week\, support local farmers\, & enjoy some delicious foodie finds with veterans and people from the neighborhood! Located in front of Jerry L. Pettis Memorial Veterans’ Hospital\, 11201 Benton Street in Loma Linda.
URL:https://bosd3.sbcounty.gov/event/farmers-market-loma-linda/2027-06-24/
LOCATION:Jerry L. Pettis Memorial Veterans Hospital\, 11201 Benton Street\, Loma Linda\, CA\, United States
END:VEVENT
BEGIN:VEVENT
DTSTART;TZID=America/Los_Angeles:20270701T070000
DTEND;TZID=America/Los_Angeles:20270701T133000
DTSTAMP:20260422T065609
CREATED:20250425T205418Z
LAST-MODIFIED:20250425T205418Z
UID:10024813-1814425200-1814448600@bosd3.sbcounty.gov
SUMMARY:Farmers Market - Loma Linda
DESCRIPTION:Check out the famers market at VA Loma Linda Thursdays from 7am-1:30pm.  Discover what’s fresh each week\, support local farmers\, & enjoy some delicious foodie finds with veterans and people from the neighborhood! Located in front of Jerry L. Pettis Memorial Veterans’ Hospital\, 11201 Benton Street in Loma Linda.
URL:https://bosd3.sbcounty.gov/event/farmers-market-loma-linda/2027-07-01/
LOCATION:Jerry L. Pettis Memorial Veterans Hospital\, 11201 Benton Street\, Loma Linda\, CA\, United States
END:VEVENT
BEGIN:VEVENT
DTSTART;TZID=America/Los_Angeles:20270708T070000
DTEND;TZID=America/Los_Angeles:20270708T133000
DTSTAMP:20260422T065609
CREATED:20250425T205418Z
LAST-MODIFIED:20250425T205418Z
UID:10024816-1815030000-1815053400@bosd3.sbcounty.gov
SUMMARY:Farmers Market - Loma Linda
DESCRIPTION:Check out the famers market at VA Loma Linda Thursdays from 7am-1:30pm.  Discover what’s fresh each week\, support local farmers\, & enjoy some delicious foodie finds with veterans and people from the neighborhood! Located in front of Jerry L. Pettis Memorial Veterans’ Hospital\, 11201 Benton Street in Loma Linda.
URL:https://bosd3.sbcounty.gov/event/farmers-market-loma-linda/2027-07-08/
LOCATION:Jerry L. Pettis Memorial Veterans Hospital\, 11201 Benton Street\, Loma Linda\, CA\, United States
END:VEVENT
BEGIN:VEVENT
DTSTART;TZID=America/Los_Angeles:20270715T070000
DTEND;TZID=America/Los_Angeles:20270715T133000
DTSTAMP:20260422T065609
CREATED:20250425T205418Z
LAST-MODIFIED:20250425T205418Z
UID:10024819-1815634800-1815658200@bosd3.sbcounty.gov
SUMMARY:Farmers Market - Loma Linda
DESCRIPTION:Check out the famers market at VA Loma Linda Thursdays from 7am-1:30pm.  Discover what’s fresh each week\, support local farmers\, & enjoy some delicious foodie finds with veterans and people from the neighborhood! Located in front of Jerry L. Pettis Memorial Veterans’ Hospital\, 11201 Benton Street in Loma Linda.
URL:https://bosd3.sbcounty.gov/event/farmers-market-loma-linda/2027-07-15/
LOCATION:Jerry L. Pettis Memorial Veterans Hospital\, 11201 Benton Street\, Loma Linda\, CA\, United States
END:VEVENT
BEGIN:VEVENT
DTSTART;TZID=America/Los_Angeles:20270722T070000
DTEND;TZID=America/Los_Angeles:20270722T133000
DTSTAMP:20260422T065609
CREATED:20250425T205418Z
LAST-MODIFIED:20250425T205418Z
UID:10024822-1816239600-1816263000@bosd3.sbcounty.gov
SUMMARY:Farmers Market - Loma Linda
DESCRIPTION:Check out the famers market at VA Loma Linda Thursdays from 7am-1:30pm.  Discover what’s fresh each week\, support local farmers\, & enjoy some delicious foodie finds with veterans and people from the neighborhood! Located in front of Jerry L. Pettis Memorial Veterans’ Hospital\, 11201 Benton Street in Loma Linda.
URL:https://bosd3.sbcounty.gov/event/farmers-market-loma-linda/2027-07-22/
LOCATION:Jerry L. Pettis Memorial Veterans Hospital\, 11201 Benton Street\, Loma Linda\, CA\, United States
END:VEVENT
END:VCALENDAR