BEGIN:VCALENDAR
VERSION:2.0
PRODID:-//Dawn Rowe Third District Supervisor - ECPv6.15.14//NONSGML v1.0//EN
CALSCALE:GREGORIAN
METHOD:PUBLISH
X-ORIGINAL-URL:https://bosd3.sbcounty.gov
X-WR-CALDESC:Events for Dawn Rowe Third District Supervisor
REFRESH-INTERVAL;VALUE=DURATION:PT1H
X-Robots-Tag:noindex
X-PUBLISHED-TTL:PT1H
BEGIN:VTIMEZONE
TZID:America/Los_Angeles
BEGIN:DAYLIGHT
TZOFFSETFROM:-0800
TZOFFSETTO:-0700
TZNAME:PDT
DTSTART:20230312T100000
END:DAYLIGHT
BEGIN:STANDARD
TZOFFSETFROM:-0700
TZOFFSETTO:-0800
TZNAME:PST
DTSTART:20231105T090000
END:STANDARD
BEGIN:DAYLIGHT
TZOFFSETFROM:-0800
TZOFFSETTO:-0700
TZNAME:PDT
DTSTART:20240310T100000
END:DAYLIGHT
BEGIN:STANDARD
TZOFFSETFROM:-0700
TZOFFSETTO:-0800
TZNAME:PST
DTSTART:20241103T090000
END:STANDARD
BEGIN:DAYLIGHT
TZOFFSETFROM:-0800
TZOFFSETTO:-0700
TZNAME:PDT
DTSTART:20250309T100000
END:DAYLIGHT
BEGIN:STANDARD
TZOFFSETFROM:-0700
TZOFFSETTO:-0800
TZNAME:PST
DTSTART:20251102T090000
END:STANDARD
END:VTIMEZONE
BEGIN:VEVENT
DTSTART;TZID=America/Los_Angeles:20241012T090000
DTEND;TZID=America/Los_Angeles:20241012T150000
DTSTAMP:20260422T011036
CREATED:20241007T210049Z
LAST-MODIFIED:20241007T210049Z
UID:10020583-1728723600-1728745200@bosd3.sbcounty.gov
SUMMARY:Main Street USA Festival - Barstow
DESCRIPTION:Get ready for a day filled with vintage cars\, live music\, family-friendly activities\, and a dose of local history at the 25th Annual Main Street USA Festival in Barstow. It occurs on Saturday\, October 12\, along Historic Route 66 in Downtown Barstow. The festival will showcase a variety of classic vehicles and celebrate Barstow’s connection to the “Main Street of America.”
URL:https://bosd3.sbcounty.gov/event/main-street-usa-festival-barstow/
LOCATION:Downtown Barstow\, Barstow\, CA\, United States
ORGANIZER;CN="Barstow Area Chamber of Commerce":MAILTO:bacc@barstowchamber.com
END:VEVENT
END:VCALENDAR