BEGIN:VCALENDAR
VERSION:2.0
PRODID:-//Dawn Rowe Third District Supervisor - ECPv6.15.14//NONSGML v1.0//EN
CALSCALE:GREGORIAN
METHOD:PUBLISH
X-WR-CALNAME:Dawn Rowe Third District Supervisor
X-ORIGINAL-URL:https://bosd3.sbcounty.gov
X-WR-CALDESC:Events for Dawn Rowe Third District Supervisor
REFRESH-INTERVAL;VALUE=DURATION:PT1H
X-Robots-Tag:noindex
X-PUBLISHED-TTL:PT1H
BEGIN:VTIMEZONE
TZID:America/Los_Angeles
BEGIN:DAYLIGHT
TZOFFSETFROM:-0800
TZOFFSETTO:-0700
TZNAME:PDT
DTSTART:20260308T100000
END:DAYLIGHT
BEGIN:STANDARD
TZOFFSETFROM:-0700
TZOFFSETTO:-0800
TZNAME:PST
DTSTART:20261101T090000
END:STANDARD
BEGIN:DAYLIGHT
TZOFFSETFROM:-0800
TZOFFSETTO:-0700
TZNAME:PDT
DTSTART:20270314T100000
END:DAYLIGHT
BEGIN:STANDARD
TZOFFSETFROM:-0700
TZOFFSETTO:-0800
TZNAME:PST
DTSTART:20271107T090000
END:STANDARD
BEGIN:DAYLIGHT
TZOFFSETFROM:-0800
TZOFFSETTO:-0700
TZNAME:PDT
DTSTART:20280312T100000
END:DAYLIGHT
BEGIN:STANDARD
TZOFFSETFROM:-0700
TZOFFSETTO:-0800
TZNAME:PST
DTSTART:20281105T090000
END:STANDARD
BEGIN:DAYLIGHT
TZOFFSETFROM:-0800
TZOFFSETTO:-0700
TZNAME:PDT
DTSTART:20290311T100000
END:DAYLIGHT
BEGIN:STANDARD
TZOFFSETFROM:-0700
TZOFFSETTO:-0800
TZNAME:PST
DTSTART:20291104T090000
END:STANDARD
END:VTIMEZONE
BEGIN:VEVENT
DTSTART;TZID=America/Los_Angeles:20270624T070000
DTEND;TZID=America/Los_Angeles:20270624T133000
DTSTAMP:20260423T192922
CREATED:20250425T205418Z
LAST-MODIFIED:20250425T205418Z
UID:10024810-1813820400-1813843800@bosd3.sbcounty.gov
SUMMARY:Farmers Market - Loma Linda
DESCRIPTION:Check out the famers market at VA Loma Linda Thursdays from 7am-1:30pm.  Discover what’s fresh each week\, support local farmers\, & enjoy some delicious foodie finds with veterans and people from the neighborhood! Located in front of Jerry L. Pettis Memorial Veterans’ Hospital\, 11201 Benton Street in Loma Linda.
URL:https://bosd3.sbcounty.gov/event/farmers-market-loma-linda/2027-06-24/
LOCATION:Jerry L. Pettis Memorial Veterans Hospital\, 11201 Benton Street\, Loma Linda\, CA\, United States
END:VEVENT
BEGIN:VEVENT
DTSTART;TZID=America/Los_Angeles:20270701T070000
DTEND;TZID=America/Los_Angeles:20270701T133000
DTSTAMP:20260423T192922
CREATED:20250425T205418Z
LAST-MODIFIED:20250425T205418Z
UID:10024813-1814425200-1814448600@bosd3.sbcounty.gov
SUMMARY:Farmers Market - Loma Linda
DESCRIPTION:Check out the famers market at VA Loma Linda Thursdays from 7am-1:30pm.  Discover what’s fresh each week\, support local farmers\, & enjoy some delicious foodie finds with veterans and people from the neighborhood! Located in front of Jerry L. Pettis Memorial Veterans’ Hospital\, 11201 Benton Street in Loma Linda.
URL:https://bosd3.sbcounty.gov/event/farmers-market-loma-linda/2027-07-01/
LOCATION:Jerry L. Pettis Memorial Veterans Hospital\, 11201 Benton Street\, Loma Linda\, CA\, United States
END:VEVENT
BEGIN:VEVENT
DTSTART;TZID=America/Los_Angeles:20270708T070000
DTEND;TZID=America/Los_Angeles:20270708T133000
DTSTAMP:20260423T192922
CREATED:20250425T205418Z
LAST-MODIFIED:20250425T205418Z
UID:10024816-1815030000-1815053400@bosd3.sbcounty.gov
SUMMARY:Farmers Market - Loma Linda
DESCRIPTION:Check out the famers market at VA Loma Linda Thursdays from 7am-1:30pm.  Discover what’s fresh each week\, support local farmers\, & enjoy some delicious foodie finds with veterans and people from the neighborhood! Located in front of Jerry L. Pettis Memorial Veterans’ Hospital\, 11201 Benton Street in Loma Linda.
URL:https://bosd3.sbcounty.gov/event/farmers-market-loma-linda/2027-07-08/
LOCATION:Jerry L. Pettis Memorial Veterans Hospital\, 11201 Benton Street\, Loma Linda\, CA\, United States
END:VEVENT
BEGIN:VEVENT
DTSTART;TZID=America/Los_Angeles:20270715T070000
DTEND;TZID=America/Los_Angeles:20270715T133000
DTSTAMP:20260423T192922
CREATED:20250425T205418Z
LAST-MODIFIED:20250425T205418Z
UID:10024819-1815634800-1815658200@bosd3.sbcounty.gov
SUMMARY:Farmers Market - Loma Linda
DESCRIPTION:Check out the famers market at VA Loma Linda Thursdays from 7am-1:30pm.  Discover what’s fresh each week\, support local farmers\, & enjoy some delicious foodie finds with veterans and people from the neighborhood! Located in front of Jerry L. Pettis Memorial Veterans’ Hospital\, 11201 Benton Street in Loma Linda.
URL:https://bosd3.sbcounty.gov/event/farmers-market-loma-linda/2027-07-15/
LOCATION:Jerry L. Pettis Memorial Veterans Hospital\, 11201 Benton Street\, Loma Linda\, CA\, United States
END:VEVENT
BEGIN:VEVENT
DTSTART;TZID=America/Los_Angeles:20270722T070000
DTEND;TZID=America/Los_Angeles:20270722T133000
DTSTAMP:20260423T192922
CREATED:20250425T205418Z
LAST-MODIFIED:20250425T205418Z
UID:10024822-1816239600-1816263000@bosd3.sbcounty.gov
SUMMARY:Farmers Market - Loma Linda
DESCRIPTION:Check out the famers market at VA Loma Linda Thursdays from 7am-1:30pm.  Discover what’s fresh each week\, support local farmers\, & enjoy some delicious foodie finds with veterans and people from the neighborhood! Located in front of Jerry L. Pettis Memorial Veterans’ Hospital\, 11201 Benton Street in Loma Linda.
URL:https://bosd3.sbcounty.gov/event/farmers-market-loma-linda/2027-07-22/
LOCATION:Jerry L. Pettis Memorial Veterans Hospital\, 11201 Benton Street\, Loma Linda\, CA\, United States
END:VEVENT
BEGIN:VEVENT
DTSTART;TZID=America/Los_Angeles:20270729T070000
DTEND;TZID=America/Los_Angeles:20270729T133000
DTSTAMP:20260423T192922
CREATED:20250425T205418Z
LAST-MODIFIED:20250425T205418Z
UID:10024825-1816844400-1816867800@bosd3.sbcounty.gov
SUMMARY:Farmers Market - Loma Linda
DESCRIPTION:Check out the famers market at VA Loma Linda Thursdays from 7am-1:30pm.  Discover what’s fresh each week\, support local farmers\, & enjoy some delicious foodie finds with veterans and people from the neighborhood! Located in front of Jerry L. Pettis Memorial Veterans’ Hospital\, 11201 Benton Street in Loma Linda.
URL:https://bosd3.sbcounty.gov/event/farmers-market-loma-linda/2027-07-29/
LOCATION:Jerry L. Pettis Memorial Veterans Hospital\, 11201 Benton Street\, Loma Linda\, CA\, United States
END:VEVENT
BEGIN:VEVENT
DTSTART;TZID=America/Los_Angeles:20270805T070000
DTEND;TZID=America/Los_Angeles:20270805T133000
DTSTAMP:20260423T192922
CREATED:20250425T205418Z
LAST-MODIFIED:20250425T205418Z
UID:10024828-1817449200-1817472600@bosd3.sbcounty.gov
SUMMARY:Farmers Market - Loma Linda
DESCRIPTION:Check out the famers market at VA Loma Linda Thursdays from 7am-1:30pm.  Discover what’s fresh each week\, support local farmers\, & enjoy some delicious foodie finds with veterans and people from the neighborhood! Located in front of Jerry L. Pettis Memorial Veterans’ Hospital\, 11201 Benton Street in Loma Linda.
URL:https://bosd3.sbcounty.gov/event/farmers-market-loma-linda/2027-08-05/
LOCATION:Jerry L. Pettis Memorial Veterans Hospital\, 11201 Benton Street\, Loma Linda\, CA\, United States
END:VEVENT
BEGIN:VEVENT
DTSTART;TZID=America/Los_Angeles:20270812T070000
DTEND;TZID=America/Los_Angeles:20270812T133000
DTSTAMP:20260423T192922
CREATED:20250425T205418Z
LAST-MODIFIED:20250425T205418Z
UID:10024831-1818054000-1818077400@bosd3.sbcounty.gov
SUMMARY:Farmers Market - Loma Linda
DESCRIPTION:Check out the famers market at VA Loma Linda Thursdays from 7am-1:30pm.  Discover what’s fresh each week\, support local farmers\, & enjoy some delicious foodie finds with veterans and people from the neighborhood! Located in front of Jerry L. Pettis Memorial Veterans’ Hospital\, 11201 Benton Street in Loma Linda.
URL:https://bosd3.sbcounty.gov/event/farmers-market-loma-linda/2027-08-12/
LOCATION:Jerry L. Pettis Memorial Veterans Hospital\, 11201 Benton Street\, Loma Linda\, CA\, United States
END:VEVENT
BEGIN:VEVENT
DTSTART;TZID=America/Los_Angeles:20270819T070000
DTEND;TZID=America/Los_Angeles:20270819T133000
DTSTAMP:20260423T192922
CREATED:20250425T205418Z
LAST-MODIFIED:20250425T205418Z
UID:10024834-1818658800-1818682200@bosd3.sbcounty.gov
SUMMARY:Farmers Market - Loma Linda
DESCRIPTION:Check out the famers market at VA Loma Linda Thursdays from 7am-1:30pm.  Discover what’s fresh each week\, support local farmers\, & enjoy some delicious foodie finds with veterans and people from the neighborhood! Located in front of Jerry L. Pettis Memorial Veterans’ Hospital\, 11201 Benton Street in Loma Linda.
URL:https://bosd3.sbcounty.gov/event/farmers-market-loma-linda/2027-08-19/
LOCATION:Jerry L. Pettis Memorial Veterans Hospital\, 11201 Benton Street\, Loma Linda\, CA\, United States
END:VEVENT
BEGIN:VEVENT
DTSTART;TZID=America/Los_Angeles:20270826T070000
DTEND;TZID=America/Los_Angeles:20270826T133000
DTSTAMP:20260423T192922
CREATED:20250425T205418Z
LAST-MODIFIED:20250425T205418Z
UID:10024837-1819263600-1819287000@bosd3.sbcounty.gov
SUMMARY:Farmers Market - Loma Linda
DESCRIPTION:Check out the famers market at VA Loma Linda Thursdays from 7am-1:30pm.  Discover what’s fresh each week\, support local farmers\, & enjoy some delicious foodie finds with veterans and people from the neighborhood! Located in front of Jerry L. Pettis Memorial Veterans’ Hospital\, 11201 Benton Street in Loma Linda.
URL:https://bosd3.sbcounty.gov/event/farmers-market-loma-linda/2027-08-26/
LOCATION:Jerry L. Pettis Memorial Veterans Hospital\, 11201 Benton Street\, Loma Linda\, CA\, United States
END:VEVENT
BEGIN:VEVENT
DTSTART;TZID=America/Los_Angeles:20270902T070000
DTEND;TZID=America/Los_Angeles:20270902T133000
DTSTAMP:20260423T192922
CREATED:20250425T205418Z
LAST-MODIFIED:20250425T205418Z
UID:10024840-1819868400-1819891800@bosd3.sbcounty.gov
SUMMARY:Farmers Market - Loma Linda
DESCRIPTION:Check out the famers market at VA Loma Linda Thursdays from 7am-1:30pm.  Discover what’s fresh each week\, support local farmers\, & enjoy some delicious foodie finds with veterans and people from the neighborhood! Located in front of Jerry L. Pettis Memorial Veterans’ Hospital\, 11201 Benton Street in Loma Linda.
URL:https://bosd3.sbcounty.gov/event/farmers-market-loma-linda/2027-09-02/
LOCATION:Jerry L. Pettis Memorial Veterans Hospital\, 11201 Benton Street\, Loma Linda\, CA\, United States
END:VEVENT
BEGIN:VEVENT
DTSTART;TZID=America/Los_Angeles:20270909T070000
DTEND;TZID=America/Los_Angeles:20270909T133000
DTSTAMP:20260423T192922
CREATED:20250425T205418Z
LAST-MODIFIED:20250425T205418Z
UID:10024843-1820473200-1820496600@bosd3.sbcounty.gov
SUMMARY:Farmers Market - Loma Linda
DESCRIPTION:Check out the famers market at VA Loma Linda Thursdays from 7am-1:30pm.  Discover what’s fresh each week\, support local farmers\, & enjoy some delicious foodie finds with veterans and people from the neighborhood! Located in front of Jerry L. Pettis Memorial Veterans’ Hospital\, 11201 Benton Street in Loma Linda.
URL:https://bosd3.sbcounty.gov/event/farmers-market-loma-linda/2027-09-09/
LOCATION:Jerry L. Pettis Memorial Veterans Hospital\, 11201 Benton Street\, Loma Linda\, CA\, United States
END:VEVENT
BEGIN:VEVENT
DTSTART;TZID=America/Los_Angeles:20270916T070000
DTEND;TZID=America/Los_Angeles:20270916T133000
DTSTAMP:20260423T192922
CREATED:20250425T205418Z
LAST-MODIFIED:20250425T205418Z
UID:10024846-1821078000-1821101400@bosd3.sbcounty.gov
SUMMARY:Farmers Market - Loma Linda
DESCRIPTION:Check out the famers market at VA Loma Linda Thursdays from 7am-1:30pm.  Discover what’s fresh each week\, support local farmers\, & enjoy some delicious foodie finds with veterans and people from the neighborhood! Located in front of Jerry L. Pettis Memorial Veterans’ Hospital\, 11201 Benton Street in Loma Linda.
URL:https://bosd3.sbcounty.gov/event/farmers-market-loma-linda/2027-09-16/
LOCATION:Jerry L. Pettis Memorial Veterans Hospital\, 11201 Benton Street\, Loma Linda\, CA\, United States
END:VEVENT
BEGIN:VEVENT
DTSTART;TZID=America/Los_Angeles:20270923T070000
DTEND;TZID=America/Los_Angeles:20270923T133000
DTSTAMP:20260423T192922
CREATED:20250425T205418Z
LAST-MODIFIED:20250425T205418Z
UID:10024849-1821682800-1821706200@bosd3.sbcounty.gov
SUMMARY:Farmers Market - Loma Linda
DESCRIPTION:Check out the famers market at VA Loma Linda Thursdays from 7am-1:30pm.  Discover what’s fresh each week\, support local farmers\, & enjoy some delicious foodie finds with veterans and people from the neighborhood! Located in front of Jerry L. Pettis Memorial Veterans’ Hospital\, 11201 Benton Street in Loma Linda.
URL:https://bosd3.sbcounty.gov/event/farmers-market-loma-linda/2027-09-23/
LOCATION:Jerry L. Pettis Memorial Veterans Hospital\, 11201 Benton Street\, Loma Linda\, CA\, United States
END:VEVENT
BEGIN:VEVENT
DTSTART;TZID=America/Los_Angeles:20270930T070000
DTEND;TZID=America/Los_Angeles:20270930T133000
DTSTAMP:20260423T192922
CREATED:20250425T205418Z
LAST-MODIFIED:20250425T205418Z
UID:10024852-1822287600-1822311000@bosd3.sbcounty.gov
SUMMARY:Farmers Market - Loma Linda
DESCRIPTION:Check out the famers market at VA Loma Linda Thursdays from 7am-1:30pm.  Discover what’s fresh each week\, support local farmers\, & enjoy some delicious foodie finds with veterans and people from the neighborhood! Located in front of Jerry L. Pettis Memorial Veterans’ Hospital\, 11201 Benton Street in Loma Linda.
URL:https://bosd3.sbcounty.gov/event/farmers-market-loma-linda/2027-09-30/
LOCATION:Jerry L. Pettis Memorial Veterans Hospital\, 11201 Benton Street\, Loma Linda\, CA\, United States
END:VEVENT
BEGIN:VEVENT
DTSTART;TZID=America/Los_Angeles:20271007T070000
DTEND;TZID=America/Los_Angeles:20271007T133000
DTSTAMP:20260423T192922
CREATED:20250425T205418Z
LAST-MODIFIED:20250425T205418Z
UID:10024855-1822892400-1822915800@bosd3.sbcounty.gov
SUMMARY:Farmers Market - Loma Linda
DESCRIPTION:Check out the famers market at VA Loma Linda Thursdays from 7am-1:30pm.  Discover what’s fresh each week\, support local farmers\, & enjoy some delicious foodie finds with veterans and people from the neighborhood! Located in front of Jerry L. Pettis Memorial Veterans’ Hospital\, 11201 Benton Street in Loma Linda.
URL:https://bosd3.sbcounty.gov/event/farmers-market-loma-linda/2027-10-07/
LOCATION:Jerry L. Pettis Memorial Veterans Hospital\, 11201 Benton Street\, Loma Linda\, CA\, United States
END:VEVENT
BEGIN:VEVENT
DTSTART;TZID=America/Los_Angeles:20271014T070000
DTEND;TZID=America/Los_Angeles:20271014T133000
DTSTAMP:20260423T192922
CREATED:20250425T205418Z
LAST-MODIFIED:20250425T205418Z
UID:10024858-1823497200-1823520600@bosd3.sbcounty.gov
SUMMARY:Farmers Market - Loma Linda
DESCRIPTION:Check out the famers market at VA Loma Linda Thursdays from 7am-1:30pm.  Discover what’s fresh each week\, support local farmers\, & enjoy some delicious foodie finds with veterans and people from the neighborhood! Located in front of Jerry L. Pettis Memorial Veterans’ Hospital\, 11201 Benton Street in Loma Linda.
URL:https://bosd3.sbcounty.gov/event/farmers-market-loma-linda/2027-10-14/
LOCATION:Jerry L. Pettis Memorial Veterans Hospital\, 11201 Benton Street\, Loma Linda\, CA\, United States
END:VEVENT
BEGIN:VEVENT
DTSTART;TZID=America/Los_Angeles:20271021T070000
DTEND;TZID=America/Los_Angeles:20271021T133000
DTSTAMP:20260423T192922
CREATED:20250425T205418Z
LAST-MODIFIED:20250425T205418Z
UID:10024861-1824102000-1824125400@bosd3.sbcounty.gov
SUMMARY:Farmers Market - Loma Linda
DESCRIPTION:Check out the famers market at VA Loma Linda Thursdays from 7am-1:30pm.  Discover what’s fresh each week\, support local farmers\, & enjoy some delicious foodie finds with veterans and people from the neighborhood! Located in front of Jerry L. Pettis Memorial Veterans’ Hospital\, 11201 Benton Street in Loma Linda.
URL:https://bosd3.sbcounty.gov/event/farmers-market-loma-linda/2027-10-21/
LOCATION:Jerry L. Pettis Memorial Veterans Hospital\, 11201 Benton Street\, Loma Linda\, CA\, United States
END:VEVENT
BEGIN:VEVENT
DTSTART;TZID=America/Los_Angeles:20271028T070000
DTEND;TZID=America/Los_Angeles:20271028T133000
DTSTAMP:20260423T192922
CREATED:20250425T205418Z
LAST-MODIFIED:20250425T205418Z
UID:10024864-1824706800-1824730200@bosd3.sbcounty.gov
SUMMARY:Farmers Market - Loma Linda
DESCRIPTION:Check out the famers market at VA Loma Linda Thursdays from 7am-1:30pm.  Discover what’s fresh each week\, support local farmers\, & enjoy some delicious foodie finds with veterans and people from the neighborhood! Located in front of Jerry L. Pettis Memorial Veterans’ Hospital\, 11201 Benton Street in Loma Linda.
URL:https://bosd3.sbcounty.gov/event/farmers-market-loma-linda/2027-10-28/
LOCATION:Jerry L. Pettis Memorial Veterans Hospital\, 11201 Benton Street\, Loma Linda\, CA\, United States
END:VEVENT
BEGIN:VEVENT
DTSTART;TZID=America/Los_Angeles:20271104T070000
DTEND;TZID=America/Los_Angeles:20271104T133000
DTSTAMP:20260423T192922
CREATED:20250425T205418Z
LAST-MODIFIED:20250425T205418Z
UID:10024867-1825311600-1825335000@bosd3.sbcounty.gov
SUMMARY:Farmers Market - Loma Linda
DESCRIPTION:Check out the famers market at VA Loma Linda Thursdays from 7am-1:30pm.  Discover what’s fresh each week\, support local farmers\, & enjoy some delicious foodie finds with veterans and people from the neighborhood! Located in front of Jerry L. Pettis Memorial Veterans’ Hospital\, 11201 Benton Street in Loma Linda.
URL:https://bosd3.sbcounty.gov/event/farmers-market-loma-linda/2027-11-04/
LOCATION:Jerry L. Pettis Memorial Veterans Hospital\, 11201 Benton Street\, Loma Linda\, CA\, United States
END:VEVENT
BEGIN:VEVENT
DTSTART;TZID=America/Los_Angeles:20271111T070000
DTEND;TZID=America/Los_Angeles:20271111T133000
DTSTAMP:20260423T192922
CREATED:20250425T205418Z
LAST-MODIFIED:20250425T205418Z
UID:10024870-1825916400-1825939800@bosd3.sbcounty.gov
SUMMARY:Farmers Market - Loma Linda
DESCRIPTION:Check out the famers market at VA Loma Linda Thursdays from 7am-1:30pm.  Discover what’s fresh each week\, support local farmers\, & enjoy some delicious foodie finds with veterans and people from the neighborhood! Located in front of Jerry L. Pettis Memorial Veterans’ Hospital\, 11201 Benton Street in Loma Linda.
URL:https://bosd3.sbcounty.gov/event/farmers-market-loma-linda/2027-11-11/
LOCATION:Jerry L. Pettis Memorial Veterans Hospital\, 11201 Benton Street\, Loma Linda\, CA\, United States
END:VEVENT
BEGIN:VEVENT
DTSTART;TZID=America/Los_Angeles:20271118T070000
DTEND;TZID=America/Los_Angeles:20271118T133000
DTSTAMP:20260423T192922
CREATED:20250425T205418Z
LAST-MODIFIED:20250425T205418Z
UID:10024873-1826521200-1826544600@bosd3.sbcounty.gov
SUMMARY:Farmers Market - Loma Linda
DESCRIPTION:Check out the famers market at VA Loma Linda Thursdays from 7am-1:30pm.  Discover what’s fresh each week\, support local farmers\, & enjoy some delicious foodie finds with veterans and people from the neighborhood! Located in front of Jerry L. Pettis Memorial Veterans’ Hospital\, 11201 Benton Street in Loma Linda.
URL:https://bosd3.sbcounty.gov/event/farmers-market-loma-linda/2027-11-18/
LOCATION:Jerry L. Pettis Memorial Veterans Hospital\, 11201 Benton Street\, Loma Linda\, CA\, United States
END:VEVENT
BEGIN:VEVENT
DTSTART;TZID=America/Los_Angeles:20271125T070000
DTEND;TZID=America/Los_Angeles:20271125T133000
DTSTAMP:20260423T192922
CREATED:20250425T205418Z
LAST-MODIFIED:20250425T205418Z
UID:10024876-1827126000-1827149400@bosd3.sbcounty.gov
SUMMARY:Farmers Market - Loma Linda
DESCRIPTION:Check out the famers market at VA Loma Linda Thursdays from 7am-1:30pm.  Discover what’s fresh each week\, support local farmers\, & enjoy some delicious foodie finds with veterans and people from the neighborhood! Located in front of Jerry L. Pettis Memorial Veterans’ Hospital\, 11201 Benton Street in Loma Linda.
URL:https://bosd3.sbcounty.gov/event/farmers-market-loma-linda/2027-11-25/
LOCATION:Jerry L. Pettis Memorial Veterans Hospital\, 11201 Benton Street\, Loma Linda\, CA\, United States
END:VEVENT
BEGIN:VEVENT
DTSTART;TZID=America/Los_Angeles:20271202T070000
DTEND;TZID=America/Los_Angeles:20271202T133000
DTSTAMP:20260423T192922
CREATED:20250425T205418Z
LAST-MODIFIED:20250425T205418Z
UID:10024879-1827730800-1827754200@bosd3.sbcounty.gov
SUMMARY:Farmers Market - Loma Linda
DESCRIPTION:Check out the famers market at VA Loma Linda Thursdays from 7am-1:30pm.  Discover what’s fresh each week\, support local farmers\, & enjoy some delicious foodie finds with veterans and people from the neighborhood! Located in front of Jerry L. Pettis Memorial Veterans’ Hospital\, 11201 Benton Street in Loma Linda.
URL:https://bosd3.sbcounty.gov/event/farmers-market-loma-linda/2027-12-02/
LOCATION:Jerry L. Pettis Memorial Veterans Hospital\, 11201 Benton Street\, Loma Linda\, CA\, United States
END:VEVENT
BEGIN:VEVENT
DTSTART;TZID=America/Los_Angeles:20271209T070000
DTEND;TZID=America/Los_Angeles:20271209T133000
DTSTAMP:20260423T192922
CREATED:20250425T205418Z
LAST-MODIFIED:20250425T205418Z
UID:10024882-1828335600-1828359000@bosd3.sbcounty.gov
SUMMARY:Farmers Market - Loma Linda
DESCRIPTION:Check out the famers market at VA Loma Linda Thursdays from 7am-1:30pm.  Discover what’s fresh each week\, support local farmers\, & enjoy some delicious foodie finds with veterans and people from the neighborhood! Located in front of Jerry L. Pettis Memorial Veterans’ Hospital\, 11201 Benton Street in Loma Linda.
URL:https://bosd3.sbcounty.gov/event/farmers-market-loma-linda/2027-12-09/
LOCATION:Jerry L. Pettis Memorial Veterans Hospital\, 11201 Benton Street\, Loma Linda\, CA\, United States
END:VEVENT
BEGIN:VEVENT
DTSTART;TZID=America/Los_Angeles:20271216T070000
DTEND;TZID=America/Los_Angeles:20271216T133000
DTSTAMP:20260423T192922
CREATED:20250425T205418Z
LAST-MODIFIED:20250425T205418Z
UID:10024885-1828940400-1828963800@bosd3.sbcounty.gov
SUMMARY:Farmers Market - Loma Linda
DESCRIPTION:Check out the famers market at VA Loma Linda Thursdays from 7am-1:30pm.  Discover what’s fresh each week\, support local farmers\, & enjoy some delicious foodie finds with veterans and people from the neighborhood! Located in front of Jerry L. Pettis Memorial Veterans’ Hospital\, 11201 Benton Street in Loma Linda.
URL:https://bosd3.sbcounty.gov/event/farmers-market-loma-linda/2027-12-16/
LOCATION:Jerry L. Pettis Memorial Veterans Hospital\, 11201 Benton Street\, Loma Linda\, CA\, United States
END:VEVENT
BEGIN:VEVENT
DTSTART;TZID=America/Los_Angeles:20271223T070000
DTEND;TZID=America/Los_Angeles:20271223T133000
DTSTAMP:20260423T192922
CREATED:20250425T205418Z
LAST-MODIFIED:20250425T205418Z
UID:10024888-1829545200-1829568600@bosd3.sbcounty.gov
SUMMARY:Farmers Market - Loma Linda
DESCRIPTION:Check out the famers market at VA Loma Linda Thursdays from 7am-1:30pm.  Discover what’s fresh each week\, support local farmers\, & enjoy some delicious foodie finds with veterans and people from the neighborhood! Located in front of Jerry L. Pettis Memorial Veterans’ Hospital\, 11201 Benton Street in Loma Linda.
URL:https://bosd3.sbcounty.gov/event/farmers-market-loma-linda/2027-12-23/
LOCATION:Jerry L. Pettis Memorial Veterans Hospital\, 11201 Benton Street\, Loma Linda\, CA\, United States
END:VEVENT
BEGIN:VEVENT
DTSTART;TZID=America/Los_Angeles:20271230T070000
DTEND;TZID=America/Los_Angeles:20271230T133000
DTSTAMP:20260423T192922
CREATED:20250425T205418Z
LAST-MODIFIED:20250425T205418Z
UID:10024891-1830150000-1830173400@bosd3.sbcounty.gov
SUMMARY:Farmers Market - Loma Linda
DESCRIPTION:Check out the famers market at VA Loma Linda Thursdays from 7am-1:30pm.  Discover what’s fresh each week\, support local farmers\, & enjoy some delicious foodie finds with veterans and people from the neighborhood! Located in front of Jerry L. Pettis Memorial Veterans’ Hospital\, 11201 Benton Street in Loma Linda.
URL:https://bosd3.sbcounty.gov/event/farmers-market-loma-linda/2027-12-30/
LOCATION:Jerry L. Pettis Memorial Veterans Hospital\, 11201 Benton Street\, Loma Linda\, CA\, United States
END:VEVENT
BEGIN:VEVENT
DTSTART;TZID=America/Los_Angeles:20280106T070000
DTEND;TZID=America/Los_Angeles:20280106T133000
DTSTAMP:20260423T192922
CREATED:20250425T205418Z
LAST-MODIFIED:20250425T205418Z
UID:10024894-1830754800-1830778200@bosd3.sbcounty.gov
SUMMARY:Farmers Market - Loma Linda
DESCRIPTION:Check out the famers market at VA Loma Linda Thursdays from 7am-1:30pm.  Discover what’s fresh each week\, support local farmers\, & enjoy some delicious foodie finds with veterans and people from the neighborhood! Located in front of Jerry L. Pettis Memorial Veterans’ Hospital\, 11201 Benton Street in Loma Linda.
URL:https://bosd3.sbcounty.gov/event/farmers-market-loma-linda/2028-01-06/
LOCATION:Jerry L. Pettis Memorial Veterans Hospital\, 11201 Benton Street\, Loma Linda\, CA\, United States
END:VEVENT
BEGIN:VEVENT
DTSTART;TZID=America/Los_Angeles:20280113T070000
DTEND;TZID=America/Los_Angeles:20280113T133000
DTSTAMP:20260423T192922
CREATED:20250425T205418Z
LAST-MODIFIED:20250425T205418Z
UID:10024897-1831359600-1831383000@bosd3.sbcounty.gov
SUMMARY:Farmers Market - Loma Linda
DESCRIPTION:Check out the famers market at VA Loma Linda Thursdays from 7am-1:30pm.  Discover what’s fresh each week\, support local farmers\, & enjoy some delicious foodie finds with veterans and people from the neighborhood! Located in front of Jerry L. Pettis Memorial Veterans’ Hospital\, 11201 Benton Street in Loma Linda.
URL:https://bosd3.sbcounty.gov/event/farmers-market-loma-linda/2028-01-13/
LOCATION:Jerry L. Pettis Memorial Veterans Hospital\, 11201 Benton Street\, Loma Linda\, CA\, United States
END:VEVENT
END:VCALENDAR