BEGIN:VCALENDAR
VERSION:2.0
PRODID:-//Dawn Rowe Third District Supervisor - ECPv6.15.14//NONSGML v1.0//EN
CALSCALE:GREGORIAN
METHOD:PUBLISH
X-ORIGINAL-URL:https://bosd3.sbcounty.gov
X-WR-CALDESC:Events for Dawn Rowe Third District Supervisor
REFRESH-INTERVAL;VALUE=DURATION:PT1H
X-Robots-Tag:noindex
X-PUBLISHED-TTL:PT1H
BEGIN:VTIMEZONE
TZID:America/Los_Angeles
BEGIN:DAYLIGHT
TZOFFSETFROM:-0800
TZOFFSETTO:-0700
TZNAME:PDT
DTSTART:20270314T100000
END:DAYLIGHT
BEGIN:STANDARD
TZOFFSETFROM:-0700
TZOFFSETTO:-0800
TZNAME:PST
DTSTART:20271107T090000
END:STANDARD
BEGIN:DAYLIGHT
TZOFFSETFROM:-0800
TZOFFSETTO:-0700
TZNAME:PDT
DTSTART:20280312T100000
END:DAYLIGHT
BEGIN:STANDARD
TZOFFSETFROM:-0700
TZOFFSETTO:-0800
TZNAME:PST
DTSTART:20281105T090000
END:STANDARD
BEGIN:DAYLIGHT
TZOFFSETFROM:-0800
TZOFFSETTO:-0700
TZNAME:PDT
DTSTART:20290311T100000
END:DAYLIGHT
BEGIN:STANDARD
TZOFFSETFROM:-0700
TZOFFSETTO:-0800
TZNAME:PST
DTSTART:20291104T090000
END:STANDARD
BEGIN:DAYLIGHT
TZOFFSETFROM:-0800
TZOFFSETTO:-0700
TZNAME:PDT
DTSTART:20300310T100000
END:DAYLIGHT
BEGIN:STANDARD
TZOFFSETFROM:-0700
TZOFFSETTO:-0800
TZNAME:PST
DTSTART:20301103T090000
END:STANDARD
END:VTIMEZONE
BEGIN:VEVENT
DTSTART;TZID=America/Los_Angeles:20281109T070000
DTEND;TZID=America/Los_Angeles:20281109T133000
DTSTAMP:20260425T174721
CREATED:20250425T205418Z
LAST-MODIFIED:20250425T205418Z
UID:10025026-1857366000-1857389400@bosd3.sbcounty.gov
SUMMARY:Farmers Market - Loma Linda
DESCRIPTION:Check out the famers market at VA Loma Linda Thursdays from 7am-1:30pm.  Discover what’s fresh each week\, support local farmers\, & enjoy some delicious foodie finds with veterans and people from the neighborhood! Located in front of Jerry L. Pettis Memorial Veterans’ Hospital\, 11201 Benton Street in Loma Linda.
URL:https://bosd3.sbcounty.gov/event/farmers-market-loma-linda/2028-11-09/
LOCATION:Jerry L. Pettis Memorial Veterans Hospital\, 11201 Benton Street\, Loma Linda\, CA\, United States
END:VEVENT
BEGIN:VEVENT
DTSTART;TZID=America/Los_Angeles:20281116T070000
DTEND;TZID=America/Los_Angeles:20281116T133000
DTSTAMP:20260425T174721
CREATED:20250425T205418Z
LAST-MODIFIED:20250425T205418Z
UID:10025029-1857970800-1857994200@bosd3.sbcounty.gov
SUMMARY:Farmers Market - Loma Linda
DESCRIPTION:Check out the famers market at VA Loma Linda Thursdays from 7am-1:30pm.  Discover what’s fresh each week\, support local farmers\, & enjoy some delicious foodie finds with veterans and people from the neighborhood! Located in front of Jerry L. Pettis Memorial Veterans’ Hospital\, 11201 Benton Street in Loma Linda.
URL:https://bosd3.sbcounty.gov/event/farmers-market-loma-linda/2028-11-16/
LOCATION:Jerry L. Pettis Memorial Veterans Hospital\, 11201 Benton Street\, Loma Linda\, CA\, United States
END:VEVENT
BEGIN:VEVENT
DTSTART;TZID=America/Los_Angeles:20281123T070000
DTEND;TZID=America/Los_Angeles:20281123T133000
DTSTAMP:20260425T174721
CREATED:20250425T205418Z
LAST-MODIFIED:20250425T205418Z
UID:10025032-1858575600-1858599000@bosd3.sbcounty.gov
SUMMARY:Farmers Market - Loma Linda
DESCRIPTION:Check out the famers market at VA Loma Linda Thursdays from 7am-1:30pm.  Discover what’s fresh each week\, support local farmers\, & enjoy some delicious foodie finds with veterans and people from the neighborhood! Located in front of Jerry L. Pettis Memorial Veterans’ Hospital\, 11201 Benton Street in Loma Linda.
URL:https://bosd3.sbcounty.gov/event/farmers-market-loma-linda/2028-11-23/
LOCATION:Jerry L. Pettis Memorial Veterans Hospital\, 11201 Benton Street\, Loma Linda\, CA\, United States
END:VEVENT
BEGIN:VEVENT
DTSTART;TZID=America/Los_Angeles:20281130T070000
DTEND;TZID=America/Los_Angeles:20281130T133000
DTSTAMP:20260425T174721
CREATED:20250425T205418Z
LAST-MODIFIED:20250425T205418Z
UID:10025035-1859180400-1859203800@bosd3.sbcounty.gov
SUMMARY:Farmers Market - Loma Linda
DESCRIPTION:Check out the famers market at VA Loma Linda Thursdays from 7am-1:30pm.  Discover what’s fresh each week\, support local farmers\, & enjoy some delicious foodie finds with veterans and people from the neighborhood! Located in front of Jerry L. Pettis Memorial Veterans’ Hospital\, 11201 Benton Street in Loma Linda.
URL:https://bosd3.sbcounty.gov/event/farmers-market-loma-linda/2028-11-30/
LOCATION:Jerry L. Pettis Memorial Veterans Hospital\, 11201 Benton Street\, Loma Linda\, CA\, United States
END:VEVENT
BEGIN:VEVENT
DTSTART;TZID=America/Los_Angeles:20281207T070000
DTEND;TZID=America/Los_Angeles:20281207T133000
DTSTAMP:20260425T174721
CREATED:20250425T205418Z
LAST-MODIFIED:20250425T205418Z
UID:10025038-1859785200-1859808600@bosd3.sbcounty.gov
SUMMARY:Farmers Market - Loma Linda
DESCRIPTION:Check out the famers market at VA Loma Linda Thursdays from 7am-1:30pm.  Discover what’s fresh each week\, support local farmers\, & enjoy some delicious foodie finds with veterans and people from the neighborhood! Located in front of Jerry L. Pettis Memorial Veterans’ Hospital\, 11201 Benton Street in Loma Linda.
URL:https://bosd3.sbcounty.gov/event/farmers-market-loma-linda/2028-12-07/
LOCATION:Jerry L. Pettis Memorial Veterans Hospital\, 11201 Benton Street\, Loma Linda\, CA\, United States
END:VEVENT
BEGIN:VEVENT
DTSTART;TZID=America/Los_Angeles:20281214T070000
DTEND;TZID=America/Los_Angeles:20281214T133000
DTSTAMP:20260425T174721
CREATED:20250425T205418Z
LAST-MODIFIED:20250425T205418Z
UID:10025041-1860390000-1860413400@bosd3.sbcounty.gov
SUMMARY:Farmers Market - Loma Linda
DESCRIPTION:Check out the famers market at VA Loma Linda Thursdays from 7am-1:30pm.  Discover what’s fresh each week\, support local farmers\, & enjoy some delicious foodie finds with veterans and people from the neighborhood! Located in front of Jerry L. Pettis Memorial Veterans’ Hospital\, 11201 Benton Street in Loma Linda.
URL:https://bosd3.sbcounty.gov/event/farmers-market-loma-linda/2028-12-14/
LOCATION:Jerry L. Pettis Memorial Veterans Hospital\, 11201 Benton Street\, Loma Linda\, CA\, United States
END:VEVENT
BEGIN:VEVENT
DTSTART;TZID=America/Los_Angeles:20281221T070000
DTEND;TZID=America/Los_Angeles:20281221T133000
DTSTAMP:20260425T174721
CREATED:20250425T205418Z
LAST-MODIFIED:20250425T205418Z
UID:10025044-1860994800-1861018200@bosd3.sbcounty.gov
SUMMARY:Farmers Market - Loma Linda
DESCRIPTION:Check out the famers market at VA Loma Linda Thursdays from 7am-1:30pm.  Discover what’s fresh each week\, support local farmers\, & enjoy some delicious foodie finds with veterans and people from the neighborhood! Located in front of Jerry L. Pettis Memorial Veterans’ Hospital\, 11201 Benton Street in Loma Linda.
URL:https://bosd3.sbcounty.gov/event/farmers-market-loma-linda/2028-12-21/
LOCATION:Jerry L. Pettis Memorial Veterans Hospital\, 11201 Benton Street\, Loma Linda\, CA\, United States
END:VEVENT
BEGIN:VEVENT
DTSTART;TZID=America/Los_Angeles:20281228T070000
DTEND;TZID=America/Los_Angeles:20281228T133000
DTSTAMP:20260425T174721
CREATED:20250425T205418Z
LAST-MODIFIED:20250425T205418Z
UID:10025047-1861599600-1861623000@bosd3.sbcounty.gov
SUMMARY:Farmers Market - Loma Linda
DESCRIPTION:Check out the famers market at VA Loma Linda Thursdays from 7am-1:30pm.  Discover what’s fresh each week\, support local farmers\, & enjoy some delicious foodie finds with veterans and people from the neighborhood! Located in front of Jerry L. Pettis Memorial Veterans’ Hospital\, 11201 Benton Street in Loma Linda.
URL:https://bosd3.sbcounty.gov/event/farmers-market-loma-linda/2028-12-28/
LOCATION:Jerry L. Pettis Memorial Veterans Hospital\, 11201 Benton Street\, Loma Linda\, CA\, United States
END:VEVENT
BEGIN:VEVENT
DTSTART;TZID=America/Los_Angeles:20290104T070000
DTEND;TZID=America/Los_Angeles:20290104T133000
DTSTAMP:20260425T174721
CREATED:20250425T205418Z
LAST-MODIFIED:20250425T205418Z
UID:10025050-1862204400-1862227800@bosd3.sbcounty.gov
SUMMARY:Farmers Market - Loma Linda
DESCRIPTION:Check out the famers market at VA Loma Linda Thursdays from 7am-1:30pm.  Discover what’s fresh each week\, support local farmers\, & enjoy some delicious foodie finds with veterans and people from the neighborhood! Located in front of Jerry L. Pettis Memorial Veterans’ Hospital\, 11201 Benton Street in Loma Linda.
URL:https://bosd3.sbcounty.gov/event/farmers-market-loma-linda/2029-01-04/
LOCATION:Jerry L. Pettis Memorial Veterans Hospital\, 11201 Benton Street\, Loma Linda\, CA\, United States
END:VEVENT
BEGIN:VEVENT
DTSTART;TZID=America/Los_Angeles:20290111T070000
DTEND;TZID=America/Los_Angeles:20290111T133000
DTSTAMP:20260425T174721
CREATED:20250425T205418Z
LAST-MODIFIED:20250425T205418Z
UID:10025053-1862809200-1862832600@bosd3.sbcounty.gov
SUMMARY:Farmers Market - Loma Linda
DESCRIPTION:Check out the famers market at VA Loma Linda Thursdays from 7am-1:30pm.  Discover what’s fresh each week\, support local farmers\, & enjoy some delicious foodie finds with veterans and people from the neighborhood! Located in front of Jerry L. Pettis Memorial Veterans’ Hospital\, 11201 Benton Street in Loma Linda.
URL:https://bosd3.sbcounty.gov/event/farmers-market-loma-linda/2029-01-11/
LOCATION:Jerry L. Pettis Memorial Veterans Hospital\, 11201 Benton Street\, Loma Linda\, CA\, United States
END:VEVENT
BEGIN:VEVENT
DTSTART;TZID=America/Los_Angeles:20290118T070000
DTEND;TZID=America/Los_Angeles:20290118T133000
DTSTAMP:20260425T174721
CREATED:20250425T205418Z
LAST-MODIFIED:20250425T205418Z
UID:10025056-1863414000-1863437400@bosd3.sbcounty.gov
SUMMARY:Farmers Market - Loma Linda
DESCRIPTION:Check out the famers market at VA Loma Linda Thursdays from 7am-1:30pm.  Discover what’s fresh each week\, support local farmers\, & enjoy some delicious foodie finds with veterans and people from the neighborhood! Located in front of Jerry L. Pettis Memorial Veterans’ Hospital\, 11201 Benton Street in Loma Linda.
URL:https://bosd3.sbcounty.gov/event/farmers-market-loma-linda/2029-01-18/
LOCATION:Jerry L. Pettis Memorial Veterans Hospital\, 11201 Benton Street\, Loma Linda\, CA\, United States
END:VEVENT
BEGIN:VEVENT
DTSTART;TZID=America/Los_Angeles:20290125T070000
DTEND;TZID=America/Los_Angeles:20290125T133000
DTSTAMP:20260425T174721
CREATED:20250425T205418Z
LAST-MODIFIED:20250425T205418Z
UID:10025059-1864018800-1864042200@bosd3.sbcounty.gov
SUMMARY:Farmers Market - Loma Linda
DESCRIPTION:Check out the famers market at VA Loma Linda Thursdays from 7am-1:30pm.  Discover what’s fresh each week\, support local farmers\, & enjoy some delicious foodie finds with veterans and people from the neighborhood! Located in front of Jerry L. Pettis Memorial Veterans’ Hospital\, 11201 Benton Street in Loma Linda.
URL:https://bosd3.sbcounty.gov/event/farmers-market-loma-linda/2029-01-25/
LOCATION:Jerry L. Pettis Memorial Veterans Hospital\, 11201 Benton Street\, Loma Linda\, CA\, United States
END:VEVENT
BEGIN:VEVENT
DTSTART;TZID=America/Los_Angeles:20290201T070000
DTEND;TZID=America/Los_Angeles:20290201T133000
DTSTAMP:20260425T174721
CREATED:20250425T205418Z
LAST-MODIFIED:20250425T205418Z
UID:10025062-1864623600-1864647000@bosd3.sbcounty.gov
SUMMARY:Farmers Market - Loma Linda
DESCRIPTION:Check out the famers market at VA Loma Linda Thursdays from 7am-1:30pm.  Discover what’s fresh each week\, support local farmers\, & enjoy some delicious foodie finds with veterans and people from the neighborhood! Located in front of Jerry L. Pettis Memorial Veterans’ Hospital\, 11201 Benton Street in Loma Linda.
URL:https://bosd3.sbcounty.gov/event/farmers-market-loma-linda/2029-02-01/
LOCATION:Jerry L. Pettis Memorial Veterans Hospital\, 11201 Benton Street\, Loma Linda\, CA\, United States
END:VEVENT
BEGIN:VEVENT
DTSTART;TZID=America/Los_Angeles:20290208T070000
DTEND;TZID=America/Los_Angeles:20290208T133000
DTSTAMP:20260425T174721
CREATED:20250425T205418Z
LAST-MODIFIED:20250425T205418Z
UID:10025065-1865228400-1865251800@bosd3.sbcounty.gov
SUMMARY:Farmers Market - Loma Linda
DESCRIPTION:Check out the famers market at VA Loma Linda Thursdays from 7am-1:30pm.  Discover what’s fresh each week\, support local farmers\, & enjoy some delicious foodie finds with veterans and people from the neighborhood! Located in front of Jerry L. Pettis Memorial Veterans’ Hospital\, 11201 Benton Street in Loma Linda.
URL:https://bosd3.sbcounty.gov/event/farmers-market-loma-linda/2029-02-08/
LOCATION:Jerry L. Pettis Memorial Veterans Hospital\, 11201 Benton Street\, Loma Linda\, CA\, United States
END:VEVENT
BEGIN:VEVENT
DTSTART;TZID=America/Los_Angeles:20290215T070000
DTEND;TZID=America/Los_Angeles:20290215T133000
DTSTAMP:20260425T174721
CREATED:20250425T205418Z
LAST-MODIFIED:20250425T205418Z
UID:10025068-1865833200-1865856600@bosd3.sbcounty.gov
SUMMARY:Farmers Market - Loma Linda
DESCRIPTION:Check out the famers market at VA Loma Linda Thursdays from 7am-1:30pm.  Discover what’s fresh each week\, support local farmers\, & enjoy some delicious foodie finds with veterans and people from the neighborhood! Located in front of Jerry L. Pettis Memorial Veterans’ Hospital\, 11201 Benton Street in Loma Linda.
URL:https://bosd3.sbcounty.gov/event/farmers-market-loma-linda/2029-02-15/
LOCATION:Jerry L. Pettis Memorial Veterans Hospital\, 11201 Benton Street\, Loma Linda\, CA\, United States
END:VEVENT
BEGIN:VEVENT
DTSTART;TZID=America/Los_Angeles:20290222T070000
DTEND;TZID=America/Los_Angeles:20290222T133000
DTSTAMP:20260425T174721
CREATED:20250425T205418Z
LAST-MODIFIED:20250425T205418Z
UID:10025071-1866438000-1866461400@bosd3.sbcounty.gov
SUMMARY:Farmers Market - Loma Linda
DESCRIPTION:Check out the famers market at VA Loma Linda Thursdays from 7am-1:30pm.  Discover what’s fresh each week\, support local farmers\, & enjoy some delicious foodie finds with veterans and people from the neighborhood! Located in front of Jerry L. Pettis Memorial Veterans’ Hospital\, 11201 Benton Street in Loma Linda.
URL:https://bosd3.sbcounty.gov/event/farmers-market-loma-linda/2029-02-22/
LOCATION:Jerry L. Pettis Memorial Veterans Hospital\, 11201 Benton Street\, Loma Linda\, CA\, United States
END:VEVENT
BEGIN:VEVENT
DTSTART;TZID=America/Los_Angeles:20290301T070000
DTEND;TZID=America/Los_Angeles:20290301T133000
DTSTAMP:20260425T174721
CREATED:20250425T205418Z
LAST-MODIFIED:20250425T205418Z
UID:10025074-1867042800-1867066200@bosd3.sbcounty.gov
SUMMARY:Farmers Market - Loma Linda
DESCRIPTION:Check out the famers market at VA Loma Linda Thursdays from 7am-1:30pm.  Discover what’s fresh each week\, support local farmers\, & enjoy some delicious foodie finds with veterans and people from the neighborhood! Located in front of Jerry L. Pettis Memorial Veterans’ Hospital\, 11201 Benton Street in Loma Linda.
URL:https://bosd3.sbcounty.gov/event/farmers-market-loma-linda/2029-03-01/
LOCATION:Jerry L. Pettis Memorial Veterans Hospital\, 11201 Benton Street\, Loma Linda\, CA\, United States
END:VEVENT
BEGIN:VEVENT
DTSTART;TZID=America/Los_Angeles:20290308T070000
DTEND;TZID=America/Los_Angeles:20290308T133000
DTSTAMP:20260425T174721
CREATED:20250425T205418Z
LAST-MODIFIED:20250425T205418Z
UID:10025077-1867647600-1867671000@bosd3.sbcounty.gov
SUMMARY:Farmers Market - Loma Linda
DESCRIPTION:Check out the famers market at VA Loma Linda Thursdays from 7am-1:30pm.  Discover what’s fresh each week\, support local farmers\, & enjoy some delicious foodie finds with veterans and people from the neighborhood! Located in front of Jerry L. Pettis Memorial Veterans’ Hospital\, 11201 Benton Street in Loma Linda.
URL:https://bosd3.sbcounty.gov/event/farmers-market-loma-linda/2029-03-08/
LOCATION:Jerry L. Pettis Memorial Veterans Hospital\, 11201 Benton Street\, Loma Linda\, CA\, United States
END:VEVENT
BEGIN:VEVENT
DTSTART;TZID=America/Los_Angeles:20290315T070000
DTEND;TZID=America/Los_Angeles:20290315T133000
DTSTAMP:20260425T174721
CREATED:20250425T205418Z
LAST-MODIFIED:20250425T205418Z
UID:10025080-1868252400-1868275800@bosd3.sbcounty.gov
SUMMARY:Farmers Market - Loma Linda
DESCRIPTION:Check out the famers market at VA Loma Linda Thursdays from 7am-1:30pm.  Discover what’s fresh each week\, support local farmers\, & enjoy some delicious foodie finds with veterans and people from the neighborhood! Located in front of Jerry L. Pettis Memorial Veterans’ Hospital\, 11201 Benton Street in Loma Linda.
URL:https://bosd3.sbcounty.gov/event/farmers-market-loma-linda/2029-03-15/
LOCATION:Jerry L. Pettis Memorial Veterans Hospital\, 11201 Benton Street\, Loma Linda\, CA\, United States
END:VEVENT
BEGIN:VEVENT
DTSTART;TZID=America/Los_Angeles:20290322T070000
DTEND;TZID=America/Los_Angeles:20290322T133000
DTSTAMP:20260425T174721
CREATED:20250425T205418Z
LAST-MODIFIED:20250425T205418Z
UID:10025083-1868857200-1868880600@bosd3.sbcounty.gov
SUMMARY:Farmers Market - Loma Linda
DESCRIPTION:Check out the famers market at VA Loma Linda Thursdays from 7am-1:30pm.  Discover what’s fresh each week\, support local farmers\, & enjoy some delicious foodie finds with veterans and people from the neighborhood! Located in front of Jerry L. Pettis Memorial Veterans’ Hospital\, 11201 Benton Street in Loma Linda.
URL:https://bosd3.sbcounty.gov/event/farmers-market-loma-linda/2029-03-22/
LOCATION:Jerry L. Pettis Memorial Veterans Hospital\, 11201 Benton Street\, Loma Linda\, CA\, United States
END:VEVENT
BEGIN:VEVENT
DTSTART;TZID=America/Los_Angeles:20290329T070000
DTEND;TZID=America/Los_Angeles:20290329T133000
DTSTAMP:20260425T174721
CREATED:20250425T205418Z
LAST-MODIFIED:20250425T205418Z
UID:10025086-1869462000-1869485400@bosd3.sbcounty.gov
SUMMARY:Farmers Market - Loma Linda
DESCRIPTION:Check out the famers market at VA Loma Linda Thursdays from 7am-1:30pm.  Discover what’s fresh each week\, support local farmers\, & enjoy some delicious foodie finds with veterans and people from the neighborhood! Located in front of Jerry L. Pettis Memorial Veterans’ Hospital\, 11201 Benton Street in Loma Linda.
URL:https://bosd3.sbcounty.gov/event/farmers-market-loma-linda/2029-03-29/
LOCATION:Jerry L. Pettis Memorial Veterans Hospital\, 11201 Benton Street\, Loma Linda\, CA\, United States
END:VEVENT
BEGIN:VEVENT
DTSTART;TZID=America/Los_Angeles:20290405T070000
DTEND;TZID=America/Los_Angeles:20290405T133000
DTSTAMP:20260425T174721
CREATED:20250425T205418Z
LAST-MODIFIED:20250425T205418Z
UID:10025089-1870066800-1870090200@bosd3.sbcounty.gov
SUMMARY:Farmers Market - Loma Linda
DESCRIPTION:Check out the famers market at VA Loma Linda Thursdays from 7am-1:30pm.  Discover what’s fresh each week\, support local farmers\, & enjoy some delicious foodie finds with veterans and people from the neighborhood! Located in front of Jerry L. Pettis Memorial Veterans’ Hospital\, 11201 Benton Street in Loma Linda.
URL:https://bosd3.sbcounty.gov/event/farmers-market-loma-linda/2029-04-05/
LOCATION:Jerry L. Pettis Memorial Veterans Hospital\, 11201 Benton Street\, Loma Linda\, CA\, United States
END:VEVENT
BEGIN:VEVENT
DTSTART;TZID=America/Los_Angeles:20290412T070000
DTEND;TZID=America/Los_Angeles:20290412T133000
DTSTAMP:20260425T174721
CREATED:20250425T205418Z
LAST-MODIFIED:20250425T205418Z
UID:10025092-1870671600-1870695000@bosd3.sbcounty.gov
SUMMARY:Farmers Market - Loma Linda
DESCRIPTION:Check out the famers market at VA Loma Linda Thursdays from 7am-1:30pm.  Discover what’s fresh each week\, support local farmers\, & enjoy some delicious foodie finds with veterans and people from the neighborhood! Located in front of Jerry L. Pettis Memorial Veterans’ Hospital\, 11201 Benton Street in Loma Linda.
URL:https://bosd3.sbcounty.gov/event/farmers-market-loma-linda/2029-04-12/
LOCATION:Jerry L. Pettis Memorial Veterans Hospital\, 11201 Benton Street\, Loma Linda\, CA\, United States
END:VEVENT
BEGIN:VEVENT
DTSTART;TZID=America/Los_Angeles:20290419T070000
DTEND;TZID=America/Los_Angeles:20290419T133000
DTSTAMP:20260425T174721
CREATED:20250425T205418Z
LAST-MODIFIED:20250425T205418Z
UID:10025095-1871276400-1871299800@bosd3.sbcounty.gov
SUMMARY:Farmers Market - Loma Linda
DESCRIPTION:Check out the famers market at VA Loma Linda Thursdays from 7am-1:30pm.  Discover what’s fresh each week\, support local farmers\, & enjoy some delicious foodie finds with veterans and people from the neighborhood! Located in front of Jerry L. Pettis Memorial Veterans’ Hospital\, 11201 Benton Street in Loma Linda.
URL:https://bosd3.sbcounty.gov/event/farmers-market-loma-linda/2029-04-19/
LOCATION:Jerry L. Pettis Memorial Veterans Hospital\, 11201 Benton Street\, Loma Linda\, CA\, United States
END:VEVENT
BEGIN:VEVENT
DTSTART;TZID=America/Los_Angeles:20290426T070000
DTEND;TZID=America/Los_Angeles:20290426T133000
DTSTAMP:20260425T174721
CREATED:20250425T205418Z
LAST-MODIFIED:20250425T205418Z
UID:10025098-1871881200-1871904600@bosd3.sbcounty.gov
SUMMARY:Farmers Market - Loma Linda
DESCRIPTION:Check out the famers market at VA Loma Linda Thursdays from 7am-1:30pm.  Discover what’s fresh each week\, support local farmers\, & enjoy some delicious foodie finds with veterans and people from the neighborhood! Located in front of Jerry L. Pettis Memorial Veterans’ Hospital\, 11201 Benton Street in Loma Linda.
URL:https://bosd3.sbcounty.gov/event/farmers-market-loma-linda/2029-04-26/
LOCATION:Jerry L. Pettis Memorial Veterans Hospital\, 11201 Benton Street\, Loma Linda\, CA\, United States
END:VEVENT
BEGIN:VEVENT
DTSTART;TZID=America/Los_Angeles:20290503T070000
DTEND;TZID=America/Los_Angeles:20290503T133000
DTSTAMP:20260425T174721
CREATED:20250425T205418Z
LAST-MODIFIED:20250425T205418Z
UID:10025101-1872486000-1872509400@bosd3.sbcounty.gov
SUMMARY:Farmers Market - Loma Linda
DESCRIPTION:Check out the famers market at VA Loma Linda Thursdays from 7am-1:30pm.  Discover what’s fresh each week\, support local farmers\, & enjoy some delicious foodie finds with veterans and people from the neighborhood! Located in front of Jerry L. Pettis Memorial Veterans’ Hospital\, 11201 Benton Street in Loma Linda.
URL:https://bosd3.sbcounty.gov/event/farmers-market-loma-linda/2029-05-03/
LOCATION:Jerry L. Pettis Memorial Veterans Hospital\, 11201 Benton Street\, Loma Linda\, CA\, United States
END:VEVENT
BEGIN:VEVENT
DTSTART;TZID=America/Los_Angeles:20290510T070000
DTEND;TZID=America/Los_Angeles:20290510T133000
DTSTAMP:20260425T174721
CREATED:20250425T205418Z
LAST-MODIFIED:20250425T205418Z
UID:10025104-1873090800-1873114200@bosd3.sbcounty.gov
SUMMARY:Farmers Market - Loma Linda
DESCRIPTION:Check out the famers market at VA Loma Linda Thursdays from 7am-1:30pm.  Discover what’s fresh each week\, support local farmers\, & enjoy some delicious foodie finds with veterans and people from the neighborhood! Located in front of Jerry L. Pettis Memorial Veterans’ Hospital\, 11201 Benton Street in Loma Linda.
URL:https://bosd3.sbcounty.gov/event/farmers-market-loma-linda/2029-05-10/
LOCATION:Jerry L. Pettis Memorial Veterans Hospital\, 11201 Benton Street\, Loma Linda\, CA\, United States
END:VEVENT
BEGIN:VEVENT
DTSTART;TZID=America/Los_Angeles:20290517T070000
DTEND;TZID=America/Los_Angeles:20290517T133000
DTSTAMP:20260425T174721
CREATED:20250425T205418Z
LAST-MODIFIED:20250425T205418Z
UID:10025107-1873695600-1873719000@bosd3.sbcounty.gov
SUMMARY:Farmers Market - Loma Linda
DESCRIPTION:Check out the famers market at VA Loma Linda Thursdays from 7am-1:30pm.  Discover what’s fresh each week\, support local farmers\, & enjoy some delicious foodie finds with veterans and people from the neighborhood! Located in front of Jerry L. Pettis Memorial Veterans’ Hospital\, 11201 Benton Street in Loma Linda.
URL:https://bosd3.sbcounty.gov/event/farmers-market-loma-linda/2029-05-17/
LOCATION:Jerry L. Pettis Memorial Veterans Hospital\, 11201 Benton Street\, Loma Linda\, CA\, United States
END:VEVENT
BEGIN:VEVENT
DTSTART;TZID=America/Los_Angeles:20290524T070000
DTEND;TZID=America/Los_Angeles:20290524T133000
DTSTAMP:20260425T174721
CREATED:20250425T205418Z
LAST-MODIFIED:20250425T205418Z
UID:10025110-1874300400-1874323800@bosd3.sbcounty.gov
SUMMARY:Farmers Market - Loma Linda
DESCRIPTION:Check out the famers market at VA Loma Linda Thursdays from 7am-1:30pm.  Discover what’s fresh each week\, support local farmers\, & enjoy some delicious foodie finds with veterans and people from the neighborhood! Located in front of Jerry L. Pettis Memorial Veterans’ Hospital\, 11201 Benton Street in Loma Linda.
URL:https://bosd3.sbcounty.gov/event/farmers-market-loma-linda/2029-05-24/
LOCATION:Jerry L. Pettis Memorial Veterans Hospital\, 11201 Benton Street\, Loma Linda\, CA\, United States
END:VEVENT
BEGIN:VEVENT
DTSTART;TZID=America/Los_Angeles:20290531T070000
DTEND;TZID=America/Los_Angeles:20290531T133000
DTSTAMP:20260425T174721
CREATED:20250425T205418Z
LAST-MODIFIED:20250425T205418Z
UID:10025113-1874905200-1874928600@bosd3.sbcounty.gov
SUMMARY:Farmers Market - Loma Linda
DESCRIPTION:Check out the famers market at VA Loma Linda Thursdays from 7am-1:30pm.  Discover what’s fresh each week\, support local farmers\, & enjoy some delicious foodie finds with veterans and people from the neighborhood! Located in front of Jerry L. Pettis Memorial Veterans’ Hospital\, 11201 Benton Street in Loma Linda.
URL:https://bosd3.sbcounty.gov/event/farmers-market-loma-linda/2029-05-31/
LOCATION:Jerry L. Pettis Memorial Veterans Hospital\, 11201 Benton Street\, Loma Linda\, CA\, United States
END:VEVENT
END:VCALENDAR