BEGIN:VCALENDAR
VERSION:2.0
PRODID:-//Dawn Rowe Third District Supervisor - ECPv6.15.14//NONSGML v1.0//EN
CALSCALE:GREGORIAN
METHOD:PUBLISH
X-ORIGINAL-URL:https://bosd3.sbcounty.gov
X-WR-CALDESC:Events for Dawn Rowe Third District Supervisor
REFRESH-INTERVAL;VALUE=DURATION:PT1H
X-Robots-Tag:noindex
X-PUBLISHED-TTL:PT1H
BEGIN:VTIMEZONE
TZID:America/Los_Angeles
BEGIN:DAYLIGHT
TZOFFSETFROM:-0800
TZOFFSETTO:-0700
TZNAME:PDT
DTSTART:20250309T100000
END:DAYLIGHT
BEGIN:STANDARD
TZOFFSETFROM:-0700
TZOFFSETTO:-0800
TZNAME:PST
DTSTART:20251102T090000
END:STANDARD
BEGIN:DAYLIGHT
TZOFFSETFROM:-0800
TZOFFSETTO:-0700
TZNAME:PDT
DTSTART:20260308T100000
END:DAYLIGHT
BEGIN:STANDARD
TZOFFSETFROM:-0700
TZOFFSETTO:-0800
TZNAME:PST
DTSTART:20261101T090000
END:STANDARD
BEGIN:DAYLIGHT
TZOFFSETFROM:-0800
TZOFFSETTO:-0700
TZNAME:PDT
DTSTART:20270314T100000
END:DAYLIGHT
BEGIN:STANDARD
TZOFFSETFROM:-0700
TZOFFSETTO:-0800
TZNAME:PST
DTSTART:20271107T090000
END:STANDARD
END:VTIMEZONE
BEGIN:VEVENT
DTSTART;TZID=America/Los_Angeles:20260621T143000
DTEND;TZID=America/Los_Angeles:20260621T170000
DTSTAMP:20260423T160158
CREATED:20260402T171352Z
LAST-MODIFIED:20260402T171352Z
UID:10026651-1782052200-1782061200@bosd3.sbcounty.gov
SUMMARY:Fortressed (An Original Play) - Twentynine Palms
DESCRIPTION:Fortressed is a sharp-witted political comedy set in a fairy-tale version of old England — where the peasants are starving\, the nobles are clueless\, and the riots are rolling in fast. With Monty Python flair and a modern political edge\, Fortressed is a hilarious takedown of the powerful\, wrapped in midnight snacks\, superstitions\, and vaguely worded proclamations.
URL:https://bosd3.sbcounty.gov/event/fortressed-an-original-play-twentynine-palms/2026-06-21/
LOCATION:Theatre 29\, 73637 Sullivan Road\, Twentynine Palms\, CA\, 92277\, United States
END:VEVENT
BEGIN:VEVENT
DTSTART;TZID=America/Los_Angeles:20260626T190000
DTEND;TZID=America/Los_Angeles:20260626T210000
DTSTAMP:20260423T160158
CREATED:20260402T171352Z
LAST-MODIFIED:20260402T171352Z
UID:10026654-1782500400-1782507600@bosd3.sbcounty.gov
SUMMARY:Fortressed (An Original Play) - Twentynine Palms
DESCRIPTION:Fortressed is a sharp-witted political comedy set in a fairy-tale version of old England — where the peasants are starving\, the nobles are clueless\, and the riots are rolling in fast. With Monty Python flair and a modern political edge\, Fortressed is a hilarious takedown of the powerful\, wrapped in midnight snacks\, superstitions\, and vaguely worded proclamations.
URL:https://bosd3.sbcounty.gov/event/fortressed-an-original-play-twentynine-palms/2026-06-26/
LOCATION:Theatre 29\, 73637 Sullivan Road\, Twentynine Palms\, CA\, 92277\, United States
END:VEVENT
BEGIN:VEVENT
DTSTART;TZID=America/Los_Angeles:20260627T190000
DTEND;TZID=America/Los_Angeles:20260627T210000
DTSTAMP:20260423T160158
CREATED:20260402T171352Z
LAST-MODIFIED:20260402T171352Z
UID:10026657-1782586800-1782594000@bosd3.sbcounty.gov
SUMMARY:Fortressed (An Original Play) - Twentynine Palms
DESCRIPTION:Fortressed is a sharp-witted political comedy set in a fairy-tale version of old England — where the peasants are starving\, the nobles are clueless\, and the riots are rolling in fast. With Monty Python flair and a modern political edge\, Fortressed is a hilarious takedown of the powerful\, wrapped in midnight snacks\, superstitions\, and vaguely worded proclamations.
URL:https://bosd3.sbcounty.gov/event/fortressed-an-original-play-twentynine-palms/2026-06-27/
LOCATION:Theatre 29\, 73637 Sullivan Road\, Twentynine Palms\, CA\, 92277\, United States
END:VEVENT
BEGIN:VEVENT
DTSTART;TZID=America/Los_Angeles:20260628T143000
DTEND;TZID=America/Los_Angeles:20260628T170000
DTSTAMP:20260423T160158
CREATED:20260402T171352Z
LAST-MODIFIED:20260402T171352Z
UID:10026660-1782657000-1782666000@bosd3.sbcounty.gov
SUMMARY:Fortressed (An Original Play) - Twentynine Palms
DESCRIPTION:Fortressed is a sharp-witted political comedy set in a fairy-tale version of old England — where the peasants are starving\, the nobles are clueless\, and the riots are rolling in fast. With Monty Python flair and a modern political edge\, Fortressed is a hilarious takedown of the powerful\, wrapped in midnight snacks\, superstitions\, and vaguely worded proclamations.
URL:https://bosd3.sbcounty.gov/event/fortressed-an-original-play-twentynine-palms/2026-06-28/
LOCATION:Theatre 29\, 73637 Sullivan Road\, Twentynine Palms\, CA\, 92277\, United States
END:VEVENT
END:VCALENDAR