BEGIN:VCALENDAR
VERSION:2.0
PRODID:-//Dawn Rowe Third District Supervisor - ECPv6.15.14//NONSGML v1.0//EN
CALSCALE:GREGORIAN
METHOD:PUBLISH
X-ORIGINAL-URL:https://bosd3.sbcounty.gov
X-WR-CALDESC:Events for Dawn Rowe Third District Supervisor
REFRESH-INTERVAL;VALUE=DURATION:PT1H
X-Robots-Tag:noindex
X-PUBLISHED-TTL:PT1H
BEGIN:VTIMEZONE
TZID:America/Los_Angeles
BEGIN:DAYLIGHT
TZOFFSETFROM:-0800
TZOFFSETTO:-0700
TZNAME:PDT
DTSTART:20210314T100000
END:DAYLIGHT
BEGIN:STANDARD
TZOFFSETFROM:-0700
TZOFFSETTO:-0800
TZNAME:PST
DTSTART:20211107T090000
END:STANDARD
BEGIN:DAYLIGHT
TZOFFSETFROM:-0800
TZOFFSETTO:-0700
TZNAME:PDT
DTSTART:20220313T100000
END:DAYLIGHT
BEGIN:STANDARD
TZOFFSETFROM:-0700
TZOFFSETTO:-0800
TZNAME:PST
DTSTART:20221106T090000
END:STANDARD
BEGIN:DAYLIGHT
TZOFFSETFROM:-0800
TZOFFSETTO:-0700
TZNAME:PDT
DTSTART:20230312T100000
END:DAYLIGHT
BEGIN:STANDARD
TZOFFSETFROM:-0700
TZOFFSETTO:-0800
TZNAME:PST
DTSTART:20231105T090000
END:STANDARD
BEGIN:DAYLIGHT
TZOFFSETFROM:-0800
TZOFFSETTO:-0700
TZNAME:PDT
DTSTART:20240310T100000
END:DAYLIGHT
BEGIN:STANDARD
TZOFFSETFROM:-0700
TZOFFSETTO:-0800
TZNAME:PST
DTSTART:20241103T090000
END:STANDARD
END:VTIMEZONE
BEGIN:VEVENT
DTSTART;TZID=America/Los_Angeles:20230715T193000
DTEND;TZID=America/Los_Angeles:20230715T213000
DTSTAMP:20260423T191307
CREATED:20230623T220716Z
LAST-MODIFIED:20230623T220716Z
UID:10017930-1689449400-1689456600@bosd3.sbcounty.gov
SUMMARY:Movies In the Park - Yucaipa
DESCRIPTION:Enjoy some popcorn and watch the animated movie “Scooby Doo: Spooky Island” under the stars at Yucaipa Regional Park!
URL:https://bosd3.sbcounty.gov/event/movies-in-the-park-yucaipa/
LOCATION:Yucaipa Regional Park\, 33900 Oak Glen Road\, Yucaipa\, CA\, 92399\, United States
ORGANIZER;CN="San Bernardino County Regional Parks":MAILTO:parks@parks.sbcounty.gov
END:VEVENT
BEGIN:VEVENT
DTSTART;TZID=America/Los_Angeles:20230711T193000
DTEND;TZID=America/Los_Angeles:20230711T213000
DTSTAMP:20260423T191307
CREATED:20230623T220445Z
LAST-MODIFIED:20230623T220445Z
UID:10017927-1689103800-1689111000@bosd3.sbcounty.gov
SUMMARY:Movie In The Park - Yermo
DESCRIPTION:Enjoy some popcorn and watch the animated movie “RANGO” under the stars at Calico Ghost Town Regional Park in Yermo!
URL:https://bosd3.sbcounty.gov/event/movie-in-the-park-yermo/
LOCATION:Calico Ghost Town\, 36600 Ghost Town Road\, Yermo\, CA\, 92398\, United States
ORGANIZER;CN="San Bernardino County Regional Parks":MAILTO:parks@parks.sbcounty.gov
END:VEVENT
BEGIN:VEVENT
DTSTART;TZID=America/Los_Angeles:20230626T200000
DTEND;TZID=America/Los_Angeles:20230626T220000
DTSTAMP:20260423T191307
CREATED:20230621T184642Z
LAST-MODIFIED:20230621T184642Z
UID:10017822-1687809600-1687816800@bosd3.sbcounty.gov
SUMMARY:Campfire Stories & S'mores - Yermo
DESCRIPTION:Take your family to Calico Ghost Town in Yermo for a special night of story telling and s’more making around the campfire!
URL:https://bosd3.sbcounty.gov/event/campfire-stories-smores-yermo/
LOCATION:Calico Ghost Town\, 36600 Ghost Town Road\, Yermo\, CA\, 92398\, United States
ORGANIZER;CN="San Bernardino County Regional Parks":MAILTO:parks@parks.sbcounty.gov
END:VEVENT
BEGIN:VEVENT
DTSTART;TZID=America/Los_Angeles:20230131T100000
DTEND;TZID=America/Los_Angeles:20230131T110000
DTSTAMP:20260423T191307
CREATED:20230118T221646Z
LAST-MODIFIED:20230118T221646Z
UID:10017426-1675159200-1675162800@bosd3.sbcounty.gov
SUMMARY:Santa Ana River Trail Phase III Groundbreaking Ceremony
DESCRIPTION:This phase of the trail consists of a 3.8 mile segment on the south side of the Santa Ana River from Waterman Avenue in the city of San Bernardino to California Street in the city of Redlands.
URL:https://bosd3.sbcounty.gov/event/santa-ana-river-trail-phase-iii-groundbreaking-ceremony/
LOCATION:Santa Ana River Trail Phase III\, California and Mill Street\, Redlands\, CA\, 92374\, United States
ORGANIZER;CN="San Bernardino County Regional Parks":MAILTO:parks@parks.sbcounty.gov
END:VEVENT
BEGIN:VEVENT
DTSTART;TZID=America/Los_Angeles:20220830T150000
DTEND;TZID=America/Los_Angeles:20220830T163000
DTSTAMP:20260423T191307
CREATED:20220827T002544Z
LAST-MODIFIED:20220827T002544Z
UID:10017186-1661871600-1661877000@bosd3.sbcounty.gov
SUMMARY:Chalk Your Walk-Yucaipa
DESCRIPTION:Chalk Your Walk will park walkways with artwork AND award prizes for the many different categories. It’s happening at Yucaipa Regional Park on Tuesday\, Aug. 30 from 3:00 PM to 4:30 PM. The event is free with park admission of $8 per vehicle. Chalk will be provided. All ages can participate.
URL:https://bosd3.sbcounty.gov/event/chalk-your-walk-yucaipa/
LOCATION:Yucaipa Regional Park\, 33900 Oak Glen Road\, Yucaipa\, CA\, 92399\, United States
ORGANIZER;CN="San Bernardino County Regional Parks":MAILTO:parks@parks.sbcounty.gov
END:VEVENT
END:VCALENDAR