BEGIN:VCALENDAR
VERSION:2.0
PRODID:-//Dawn Rowe Third District Supervisor - ECPv6.15.14//NONSGML v1.0//EN
CALSCALE:GREGORIAN
METHOD:PUBLISH
X-ORIGINAL-URL:https://bosd3.sbcounty.gov
X-WR-CALDESC:Events for Dawn Rowe Third District Supervisor
REFRESH-INTERVAL;VALUE=DURATION:PT1H
X-Robots-Tag:noindex
X-PUBLISHED-TTL:PT1H
BEGIN:VTIMEZONE
TZID:America/Los_Angeles
BEGIN:DAYLIGHT
TZOFFSETFROM:-0800
TZOFFSETTO:-0700
TZNAME:PDT
DTSTART:20260308T100000
END:DAYLIGHT
BEGIN:STANDARD
TZOFFSETFROM:-0700
TZOFFSETTO:-0800
TZNAME:PST
DTSTART:20261101T090000
END:STANDARD
BEGIN:DAYLIGHT
TZOFFSETFROM:-0800
TZOFFSETTO:-0700
TZNAME:PDT
DTSTART:20270314T100000
END:DAYLIGHT
BEGIN:STANDARD
TZOFFSETFROM:-0700
TZOFFSETTO:-0800
TZNAME:PST
DTSTART:20271107T090000
END:STANDARD
BEGIN:DAYLIGHT
TZOFFSETFROM:-0800
TZOFFSETTO:-0700
TZNAME:PDT
DTSTART:20280312T100000
END:DAYLIGHT
BEGIN:STANDARD
TZOFFSETFROM:-0700
TZOFFSETTO:-0800
TZNAME:PST
DTSTART:20281105T090000
END:STANDARD
BEGIN:DAYLIGHT
TZOFFSETFROM:-0800
TZOFFSETTO:-0700
TZNAME:PDT
DTSTART:20290311T100000
END:DAYLIGHT
BEGIN:STANDARD
TZOFFSETFROM:-0700
TZOFFSETTO:-0800
TZNAME:PST
DTSTART:20291104T090000
END:STANDARD
END:VTIMEZONE
BEGIN:VEVENT
DTSTART;TZID=America/Los_Angeles:20271204T080000
DTEND;TZID=America/Los_Angeles:20271204T130000
DTSTAMP:20260424T053714
CREATED:20250508T162128Z
LAST-MODIFIED:20250508T162128Z
UID:10025701-1827907200-1827925200@bosd3.sbcounty.gov
SUMMARY:Countyline Farmers Market - Yucaipa
DESCRIPTION:Open: Year-Round\nTime: Saturday\, 8:00 AM – 1:00 PM \nOpen: July-December\nTime: Thursday\, 5:00 PM – 8:00 PM
URL:https://bosd3.sbcounty.gov/event/countyline-farmers-market-yucaipa/2027-12-04/
LOCATION:Yucaipa Community Park\, 34900 Oak Glen Road\, Yucaipa\, CA\, 92399\, United States
ORGANIZER;CN="Countyline Farmers Market":MAILTO:countylinefarmersmarket1@gmail.com
END:VEVENT
BEGIN:VEVENT
DTSTART;TZID=America/Los_Angeles:20271211T080000
DTEND;TZID=America/Los_Angeles:20271211T130000
DTSTAMP:20260424T053714
CREATED:20250508T162128Z
LAST-MODIFIED:20250508T162128Z
UID:10025704-1828512000-1828530000@bosd3.sbcounty.gov
SUMMARY:Countyline Farmers Market - Yucaipa
DESCRIPTION:Open: Year-Round\nTime: Saturday\, 8:00 AM – 1:00 PM \nOpen: July-December\nTime: Thursday\, 5:00 PM – 8:00 PM
URL:https://bosd3.sbcounty.gov/event/countyline-farmers-market-yucaipa/2027-12-11/
LOCATION:Yucaipa Community Park\, 34900 Oak Glen Road\, Yucaipa\, CA\, 92399\, United States
ORGANIZER;CN="Countyline Farmers Market":MAILTO:countylinefarmersmarket1@gmail.com
END:VEVENT
BEGIN:VEVENT
DTSTART;TZID=America/Los_Angeles:20271218T080000
DTEND;TZID=America/Los_Angeles:20271218T130000
DTSTAMP:20260424T053714
CREATED:20250508T162128Z
LAST-MODIFIED:20250508T162128Z
UID:10025707-1829116800-1829134800@bosd3.sbcounty.gov
SUMMARY:Countyline Farmers Market - Yucaipa
DESCRIPTION:Open: Year-Round\nTime: Saturday\, 8:00 AM – 1:00 PM \nOpen: July-December\nTime: Thursday\, 5:00 PM – 8:00 PM
URL:https://bosd3.sbcounty.gov/event/countyline-farmers-market-yucaipa/2027-12-18/
LOCATION:Yucaipa Community Park\, 34900 Oak Glen Road\, Yucaipa\, CA\, 92399\, United States
ORGANIZER;CN="Countyline Farmers Market":MAILTO:countylinefarmersmarket1@gmail.com
END:VEVENT
BEGIN:VEVENT
DTSTART;TZID=America/Los_Angeles:20271225T080000
DTEND;TZID=America/Los_Angeles:20271225T130000
DTSTAMP:20260424T053714
CREATED:20250508T162128Z
LAST-MODIFIED:20250508T162128Z
UID:10025710-1829721600-1829739600@bosd3.sbcounty.gov
SUMMARY:Countyline Farmers Market - Yucaipa
DESCRIPTION:Open: Year-Round\nTime: Saturday\, 8:00 AM – 1:00 PM \nOpen: July-December\nTime: Thursday\, 5:00 PM – 8:00 PM
URL:https://bosd3.sbcounty.gov/event/countyline-farmers-market-yucaipa/2027-12-25/
LOCATION:Yucaipa Community Park\, 34900 Oak Glen Road\, Yucaipa\, CA\, 92399\, United States
ORGANIZER;CN="Countyline Farmers Market":MAILTO:countylinefarmersmarket1@gmail.com
END:VEVENT
BEGIN:VEVENT
DTSTART;TZID=America/Los_Angeles:20280101T080000
DTEND;TZID=America/Los_Angeles:20280101T130000
DTSTAMP:20260424T053714
CREATED:20250508T162128Z
LAST-MODIFIED:20250508T162128Z
UID:10025713-1830326400-1830344400@bosd3.sbcounty.gov
SUMMARY:Countyline Farmers Market - Yucaipa
DESCRIPTION:Open: Year-Round\nTime: Saturday\, 8:00 AM – 1:00 PM \nOpen: July-December\nTime: Thursday\, 5:00 PM – 8:00 PM
URL:https://bosd3.sbcounty.gov/event/countyline-farmers-market-yucaipa/2028-01-01/
LOCATION:Yucaipa Community Park\, 34900 Oak Glen Road\, Yucaipa\, CA\, 92399\, United States
ORGANIZER;CN="Countyline Farmers Market":MAILTO:countylinefarmersmarket1@gmail.com
END:VEVENT
BEGIN:VEVENT
DTSTART;TZID=America/Los_Angeles:20280108T080000
DTEND;TZID=America/Los_Angeles:20280108T130000
DTSTAMP:20260424T053714
CREATED:20250508T162128Z
LAST-MODIFIED:20250508T162128Z
UID:10025716-1830931200-1830949200@bosd3.sbcounty.gov
SUMMARY:Countyline Farmers Market - Yucaipa
DESCRIPTION:Open: Year-Round\nTime: Saturday\, 8:00 AM – 1:00 PM \nOpen: July-December\nTime: Thursday\, 5:00 PM – 8:00 PM
URL:https://bosd3.sbcounty.gov/event/countyline-farmers-market-yucaipa/2028-01-08/
LOCATION:Yucaipa Community Park\, 34900 Oak Glen Road\, Yucaipa\, CA\, 92399\, United States
ORGANIZER;CN="Countyline Farmers Market":MAILTO:countylinefarmersmarket1@gmail.com
END:VEVENT
BEGIN:VEVENT
DTSTART;TZID=America/Los_Angeles:20280115T080000
DTEND;TZID=America/Los_Angeles:20280115T130000
DTSTAMP:20260424T053714
CREATED:20250508T162128Z
LAST-MODIFIED:20250508T162128Z
UID:10025719-1831536000-1831554000@bosd3.sbcounty.gov
SUMMARY:Countyline Farmers Market - Yucaipa
DESCRIPTION:Open: Year-Round\nTime: Saturday\, 8:00 AM – 1:00 PM \nOpen: July-December\nTime: Thursday\, 5:00 PM – 8:00 PM
URL:https://bosd3.sbcounty.gov/event/countyline-farmers-market-yucaipa/2028-01-15/
LOCATION:Yucaipa Community Park\, 34900 Oak Glen Road\, Yucaipa\, CA\, 92399\, United States
ORGANIZER;CN="Countyline Farmers Market":MAILTO:countylinefarmersmarket1@gmail.com
END:VEVENT
BEGIN:VEVENT
DTSTART;TZID=America/Los_Angeles:20280122T080000
DTEND;TZID=America/Los_Angeles:20280122T130000
DTSTAMP:20260424T053714
CREATED:20250508T162128Z
LAST-MODIFIED:20250508T162128Z
UID:10025722-1832140800-1832158800@bosd3.sbcounty.gov
SUMMARY:Countyline Farmers Market - Yucaipa
DESCRIPTION:Open: Year-Round\nTime: Saturday\, 8:00 AM – 1:00 PM \nOpen: July-December\nTime: Thursday\, 5:00 PM – 8:00 PM
URL:https://bosd3.sbcounty.gov/event/countyline-farmers-market-yucaipa/2028-01-22/
LOCATION:Yucaipa Community Park\, 34900 Oak Glen Road\, Yucaipa\, CA\, 92399\, United States
ORGANIZER;CN="Countyline Farmers Market":MAILTO:countylinefarmersmarket1@gmail.com
END:VEVENT
BEGIN:VEVENT
DTSTART;TZID=America/Los_Angeles:20280129T080000
DTEND;TZID=America/Los_Angeles:20280129T130000
DTSTAMP:20260424T053714
CREATED:20250508T162128Z
LAST-MODIFIED:20250508T162128Z
UID:10025725-1832745600-1832763600@bosd3.sbcounty.gov
SUMMARY:Countyline Farmers Market - Yucaipa
DESCRIPTION:Open: Year-Round\nTime: Saturday\, 8:00 AM – 1:00 PM \nOpen: July-December\nTime: Thursday\, 5:00 PM – 8:00 PM
URL:https://bosd3.sbcounty.gov/event/countyline-farmers-market-yucaipa/2028-01-29/
LOCATION:Yucaipa Community Park\, 34900 Oak Glen Road\, Yucaipa\, CA\, 92399\, United States
ORGANIZER;CN="Countyline Farmers Market":MAILTO:countylinefarmersmarket1@gmail.com
END:VEVENT
BEGIN:VEVENT
DTSTART;TZID=America/Los_Angeles:20280205T080000
DTEND;TZID=America/Los_Angeles:20280205T130000
DTSTAMP:20260424T053714
CREATED:20250508T162128Z
LAST-MODIFIED:20250508T162128Z
UID:10025728-1833350400-1833368400@bosd3.sbcounty.gov
SUMMARY:Countyline Farmers Market - Yucaipa
DESCRIPTION:Open: Year-Round\nTime: Saturday\, 8:00 AM – 1:00 PM \nOpen: July-December\nTime: Thursday\, 5:00 PM – 8:00 PM
URL:https://bosd3.sbcounty.gov/event/countyline-farmers-market-yucaipa/2028-02-05/
LOCATION:Yucaipa Community Park\, 34900 Oak Glen Road\, Yucaipa\, CA\, 92399\, United States
ORGANIZER;CN="Countyline Farmers Market":MAILTO:countylinefarmersmarket1@gmail.com
END:VEVENT
BEGIN:VEVENT
DTSTART;TZID=America/Los_Angeles:20280212T080000
DTEND;TZID=America/Los_Angeles:20280212T130000
DTSTAMP:20260424T053714
CREATED:20250508T162128Z
LAST-MODIFIED:20250508T162128Z
UID:10025731-1833955200-1833973200@bosd3.sbcounty.gov
SUMMARY:Countyline Farmers Market - Yucaipa
DESCRIPTION:Open: Year-Round\nTime: Saturday\, 8:00 AM – 1:00 PM \nOpen: July-December\nTime: Thursday\, 5:00 PM – 8:00 PM
URL:https://bosd3.sbcounty.gov/event/countyline-farmers-market-yucaipa/2028-02-12/
LOCATION:Yucaipa Community Park\, 34900 Oak Glen Road\, Yucaipa\, CA\, 92399\, United States
ORGANIZER;CN="Countyline Farmers Market":MAILTO:countylinefarmersmarket1@gmail.com
END:VEVENT
BEGIN:VEVENT
DTSTART;TZID=America/Los_Angeles:20280219T080000
DTEND;TZID=America/Los_Angeles:20280219T130000
DTSTAMP:20260424T053714
CREATED:20250508T162128Z
LAST-MODIFIED:20250508T162128Z
UID:10025734-1834560000-1834578000@bosd3.sbcounty.gov
SUMMARY:Countyline Farmers Market - Yucaipa
DESCRIPTION:Open: Year-Round\nTime: Saturday\, 8:00 AM – 1:00 PM \nOpen: July-December\nTime: Thursday\, 5:00 PM – 8:00 PM
URL:https://bosd3.sbcounty.gov/event/countyline-farmers-market-yucaipa/2028-02-19/
LOCATION:Yucaipa Community Park\, 34900 Oak Glen Road\, Yucaipa\, CA\, 92399\, United States
ORGANIZER;CN="Countyline Farmers Market":MAILTO:countylinefarmersmarket1@gmail.com
END:VEVENT
BEGIN:VEVENT
DTSTART;TZID=America/Los_Angeles:20280226T080000
DTEND;TZID=America/Los_Angeles:20280226T130000
DTSTAMP:20260424T053714
CREATED:20250508T162128Z
LAST-MODIFIED:20250508T162128Z
UID:10025737-1835164800-1835182800@bosd3.sbcounty.gov
SUMMARY:Countyline Farmers Market - Yucaipa
DESCRIPTION:Open: Year-Round\nTime: Saturday\, 8:00 AM – 1:00 PM \nOpen: July-December\nTime: Thursday\, 5:00 PM – 8:00 PM
URL:https://bosd3.sbcounty.gov/event/countyline-farmers-market-yucaipa/2028-02-26/
LOCATION:Yucaipa Community Park\, 34900 Oak Glen Road\, Yucaipa\, CA\, 92399\, United States
ORGANIZER;CN="Countyline Farmers Market":MAILTO:countylinefarmersmarket1@gmail.com
END:VEVENT
BEGIN:VEVENT
DTSTART;TZID=America/Los_Angeles:20280304T080000
DTEND;TZID=America/Los_Angeles:20280304T130000
DTSTAMP:20260424T053714
CREATED:20250508T162128Z
LAST-MODIFIED:20250508T162128Z
UID:10025740-1835769600-1835787600@bosd3.sbcounty.gov
SUMMARY:Countyline Farmers Market - Yucaipa
DESCRIPTION:Open: Year-Round\nTime: Saturday\, 8:00 AM – 1:00 PM \nOpen: July-December\nTime: Thursday\, 5:00 PM – 8:00 PM
URL:https://bosd3.sbcounty.gov/event/countyline-farmers-market-yucaipa/2028-03-04/
LOCATION:Yucaipa Community Park\, 34900 Oak Glen Road\, Yucaipa\, CA\, 92399\, United States
ORGANIZER;CN="Countyline Farmers Market":MAILTO:countylinefarmersmarket1@gmail.com
END:VEVENT
BEGIN:VEVENT
DTSTART;TZID=America/Los_Angeles:20280311T080000
DTEND;TZID=America/Los_Angeles:20280311T130000
DTSTAMP:20260424T053714
CREATED:20250508T162128Z
LAST-MODIFIED:20250508T162128Z
UID:10025743-1836374400-1836392400@bosd3.sbcounty.gov
SUMMARY:Countyline Farmers Market - Yucaipa
DESCRIPTION:Open: Year-Round\nTime: Saturday\, 8:00 AM – 1:00 PM \nOpen: July-December\nTime: Thursday\, 5:00 PM – 8:00 PM
URL:https://bosd3.sbcounty.gov/event/countyline-farmers-market-yucaipa/2028-03-11/
LOCATION:Yucaipa Community Park\, 34900 Oak Glen Road\, Yucaipa\, CA\, 92399\, United States
ORGANIZER;CN="Countyline Farmers Market":MAILTO:countylinefarmersmarket1@gmail.com
END:VEVENT
BEGIN:VEVENT
DTSTART;TZID=America/Los_Angeles:20280318T080000
DTEND;TZID=America/Los_Angeles:20280318T130000
DTSTAMP:20260424T053714
CREATED:20250508T162128Z
LAST-MODIFIED:20250508T162128Z
UID:10025746-1836979200-1836997200@bosd3.sbcounty.gov
SUMMARY:Countyline Farmers Market - Yucaipa
DESCRIPTION:Open: Year-Round\nTime: Saturday\, 8:00 AM – 1:00 PM \nOpen: July-December\nTime: Thursday\, 5:00 PM – 8:00 PM
URL:https://bosd3.sbcounty.gov/event/countyline-farmers-market-yucaipa/2028-03-18/
LOCATION:Yucaipa Community Park\, 34900 Oak Glen Road\, Yucaipa\, CA\, 92399\, United States
ORGANIZER;CN="Countyline Farmers Market":MAILTO:countylinefarmersmarket1@gmail.com
END:VEVENT
BEGIN:VEVENT
DTSTART;TZID=America/Los_Angeles:20280325T080000
DTEND;TZID=America/Los_Angeles:20280325T130000
DTSTAMP:20260424T053714
CREATED:20250508T162128Z
LAST-MODIFIED:20250508T162128Z
UID:10025749-1837584000-1837602000@bosd3.sbcounty.gov
SUMMARY:Countyline Farmers Market - Yucaipa
DESCRIPTION:Open: Year-Round\nTime: Saturday\, 8:00 AM – 1:00 PM \nOpen: July-December\nTime: Thursday\, 5:00 PM – 8:00 PM
URL:https://bosd3.sbcounty.gov/event/countyline-farmers-market-yucaipa/2028-03-25/
LOCATION:Yucaipa Community Park\, 34900 Oak Glen Road\, Yucaipa\, CA\, 92399\, United States
ORGANIZER;CN="Countyline Farmers Market":MAILTO:countylinefarmersmarket1@gmail.com
END:VEVENT
BEGIN:VEVENT
DTSTART;TZID=America/Los_Angeles:20280401T080000
DTEND;TZID=America/Los_Angeles:20280401T130000
DTSTAMP:20260424T053714
CREATED:20250508T162128Z
LAST-MODIFIED:20250508T162128Z
UID:10025752-1838188800-1838206800@bosd3.sbcounty.gov
SUMMARY:Countyline Farmers Market - Yucaipa
DESCRIPTION:Open: Year-Round\nTime: Saturday\, 8:00 AM – 1:00 PM \nOpen: July-December\nTime: Thursday\, 5:00 PM – 8:00 PM
URL:https://bosd3.sbcounty.gov/event/countyline-farmers-market-yucaipa/2028-04-01/
LOCATION:Yucaipa Community Park\, 34900 Oak Glen Road\, Yucaipa\, CA\, 92399\, United States
ORGANIZER;CN="Countyline Farmers Market":MAILTO:countylinefarmersmarket1@gmail.com
END:VEVENT
BEGIN:VEVENT
DTSTART;TZID=America/Los_Angeles:20280408T080000
DTEND;TZID=America/Los_Angeles:20280408T130000
DTSTAMP:20260424T053714
CREATED:20250508T162128Z
LAST-MODIFIED:20250508T162128Z
UID:10025755-1838793600-1838811600@bosd3.sbcounty.gov
SUMMARY:Countyline Farmers Market - Yucaipa
DESCRIPTION:Open: Year-Round\nTime: Saturday\, 8:00 AM – 1:00 PM \nOpen: July-December\nTime: Thursday\, 5:00 PM – 8:00 PM
URL:https://bosd3.sbcounty.gov/event/countyline-farmers-market-yucaipa/2028-04-08/
LOCATION:Yucaipa Community Park\, 34900 Oak Glen Road\, Yucaipa\, CA\, 92399\, United States
ORGANIZER;CN="Countyline Farmers Market":MAILTO:countylinefarmersmarket1@gmail.com
END:VEVENT
BEGIN:VEVENT
DTSTART;TZID=America/Los_Angeles:20280415T080000
DTEND;TZID=America/Los_Angeles:20280415T130000
DTSTAMP:20260424T053714
CREATED:20250508T162128Z
LAST-MODIFIED:20250508T162128Z
UID:10025758-1839398400-1839416400@bosd3.sbcounty.gov
SUMMARY:Countyline Farmers Market - Yucaipa
DESCRIPTION:Open: Year-Round\nTime: Saturday\, 8:00 AM – 1:00 PM \nOpen: July-December\nTime: Thursday\, 5:00 PM – 8:00 PM
URL:https://bosd3.sbcounty.gov/event/countyline-farmers-market-yucaipa/2028-04-15/
LOCATION:Yucaipa Community Park\, 34900 Oak Glen Road\, Yucaipa\, CA\, 92399\, United States
ORGANIZER;CN="Countyline Farmers Market":MAILTO:countylinefarmersmarket1@gmail.com
END:VEVENT
BEGIN:VEVENT
DTSTART;TZID=America/Los_Angeles:20280422T080000
DTEND;TZID=America/Los_Angeles:20280422T130000
DTSTAMP:20260424T053714
CREATED:20250508T162128Z
LAST-MODIFIED:20250508T162128Z
UID:10025761-1840003200-1840021200@bosd3.sbcounty.gov
SUMMARY:Countyline Farmers Market - Yucaipa
DESCRIPTION:Open: Year-Round\nTime: Saturday\, 8:00 AM – 1:00 PM \nOpen: July-December\nTime: Thursday\, 5:00 PM – 8:00 PM
URL:https://bosd3.sbcounty.gov/event/countyline-farmers-market-yucaipa/2028-04-22/
LOCATION:Yucaipa Community Park\, 34900 Oak Glen Road\, Yucaipa\, CA\, 92399\, United States
ORGANIZER;CN="Countyline Farmers Market":MAILTO:countylinefarmersmarket1@gmail.com
END:VEVENT
BEGIN:VEVENT
DTSTART;TZID=America/Los_Angeles:20280429T080000
DTEND;TZID=America/Los_Angeles:20280429T130000
DTSTAMP:20260424T053714
CREATED:20250508T162128Z
LAST-MODIFIED:20250508T162128Z
UID:10025764-1840608000-1840626000@bosd3.sbcounty.gov
SUMMARY:Countyline Farmers Market - Yucaipa
DESCRIPTION:Open: Year-Round\nTime: Saturday\, 8:00 AM – 1:00 PM \nOpen: July-December\nTime: Thursday\, 5:00 PM – 8:00 PM
URL:https://bosd3.sbcounty.gov/event/countyline-farmers-market-yucaipa/2028-04-29/
LOCATION:Yucaipa Community Park\, 34900 Oak Glen Road\, Yucaipa\, CA\, 92399\, United States
ORGANIZER;CN="Countyline Farmers Market":MAILTO:countylinefarmersmarket1@gmail.com
END:VEVENT
BEGIN:VEVENT
DTSTART;TZID=America/Los_Angeles:20280506T080000
DTEND;TZID=America/Los_Angeles:20280506T130000
DTSTAMP:20260424T053714
CREATED:20250508T162128Z
LAST-MODIFIED:20250508T162128Z
UID:10025767-1841212800-1841230800@bosd3.sbcounty.gov
SUMMARY:Countyline Farmers Market - Yucaipa
DESCRIPTION:Open: Year-Round\nTime: Saturday\, 8:00 AM – 1:00 PM \nOpen: July-December\nTime: Thursday\, 5:00 PM – 8:00 PM
URL:https://bosd3.sbcounty.gov/event/countyline-farmers-market-yucaipa/2028-05-06/
LOCATION:Yucaipa Community Park\, 34900 Oak Glen Road\, Yucaipa\, CA\, 92399\, United States
ORGANIZER;CN="Countyline Farmers Market":MAILTO:countylinefarmersmarket1@gmail.com
END:VEVENT
BEGIN:VEVENT
DTSTART;TZID=America/Los_Angeles:20280513T080000
DTEND;TZID=America/Los_Angeles:20280513T130000
DTSTAMP:20260424T053714
CREATED:20250508T162128Z
LAST-MODIFIED:20250508T162128Z
UID:10025770-1841817600-1841835600@bosd3.sbcounty.gov
SUMMARY:Countyline Farmers Market - Yucaipa
DESCRIPTION:Open: Year-Round\nTime: Saturday\, 8:00 AM – 1:00 PM \nOpen: July-December\nTime: Thursday\, 5:00 PM – 8:00 PM
URL:https://bosd3.sbcounty.gov/event/countyline-farmers-market-yucaipa/2028-05-13/
LOCATION:Yucaipa Community Park\, 34900 Oak Glen Road\, Yucaipa\, CA\, 92399\, United States
ORGANIZER;CN="Countyline Farmers Market":MAILTO:countylinefarmersmarket1@gmail.com
END:VEVENT
BEGIN:VEVENT
DTSTART;TZID=America/Los_Angeles:20280520T080000
DTEND;TZID=America/Los_Angeles:20280520T130000
DTSTAMP:20260424T053714
CREATED:20250508T162128Z
LAST-MODIFIED:20250508T162128Z
UID:10025773-1842422400-1842440400@bosd3.sbcounty.gov
SUMMARY:Countyline Farmers Market - Yucaipa
DESCRIPTION:Open: Year-Round\nTime: Saturday\, 8:00 AM – 1:00 PM \nOpen: July-December\nTime: Thursday\, 5:00 PM – 8:00 PM
URL:https://bosd3.sbcounty.gov/event/countyline-farmers-market-yucaipa/2028-05-20/
LOCATION:Yucaipa Community Park\, 34900 Oak Glen Road\, Yucaipa\, CA\, 92399\, United States
ORGANIZER;CN="Countyline Farmers Market":MAILTO:countylinefarmersmarket1@gmail.com
END:VEVENT
BEGIN:VEVENT
DTSTART;TZID=America/Los_Angeles:20280527T080000
DTEND;TZID=America/Los_Angeles:20280527T130000
DTSTAMP:20260424T053714
CREATED:20250508T162128Z
LAST-MODIFIED:20250508T162128Z
UID:10025776-1843027200-1843045200@bosd3.sbcounty.gov
SUMMARY:Countyline Farmers Market - Yucaipa
DESCRIPTION:Open: Year-Round\nTime: Saturday\, 8:00 AM – 1:00 PM \nOpen: July-December\nTime: Thursday\, 5:00 PM – 8:00 PM
URL:https://bosd3.sbcounty.gov/event/countyline-farmers-market-yucaipa/2028-05-27/
LOCATION:Yucaipa Community Park\, 34900 Oak Glen Road\, Yucaipa\, CA\, 92399\, United States
ORGANIZER;CN="Countyline Farmers Market":MAILTO:countylinefarmersmarket1@gmail.com
END:VEVENT
BEGIN:VEVENT
DTSTART;TZID=America/Los_Angeles:20280603T080000
DTEND;TZID=America/Los_Angeles:20280603T130000
DTSTAMP:20260424T053714
CREATED:20250508T162128Z
LAST-MODIFIED:20250508T162128Z
UID:10025779-1843632000-1843650000@bosd3.sbcounty.gov
SUMMARY:Countyline Farmers Market - Yucaipa
DESCRIPTION:Open: Year-Round\nTime: Saturday\, 8:00 AM – 1:00 PM \nOpen: July-December\nTime: Thursday\, 5:00 PM – 8:00 PM
URL:https://bosd3.sbcounty.gov/event/countyline-farmers-market-yucaipa/2028-06-03/
LOCATION:Yucaipa Community Park\, 34900 Oak Glen Road\, Yucaipa\, CA\, 92399\, United States
ORGANIZER;CN="Countyline Farmers Market":MAILTO:countylinefarmersmarket1@gmail.com
END:VEVENT
BEGIN:VEVENT
DTSTART;TZID=America/Los_Angeles:20280610T080000
DTEND;TZID=America/Los_Angeles:20280610T130000
DTSTAMP:20260424T053714
CREATED:20250508T162128Z
LAST-MODIFIED:20250508T162128Z
UID:10025782-1844236800-1844254800@bosd3.sbcounty.gov
SUMMARY:Countyline Farmers Market - Yucaipa
DESCRIPTION:Open: Year-Round\nTime: Saturday\, 8:00 AM – 1:00 PM \nOpen: July-December\nTime: Thursday\, 5:00 PM – 8:00 PM
URL:https://bosd3.sbcounty.gov/event/countyline-farmers-market-yucaipa/2028-06-10/
LOCATION:Yucaipa Community Park\, 34900 Oak Glen Road\, Yucaipa\, CA\, 92399\, United States
ORGANIZER;CN="Countyline Farmers Market":MAILTO:countylinefarmersmarket1@gmail.com
END:VEVENT
BEGIN:VEVENT
DTSTART;TZID=America/Los_Angeles:20280617T080000
DTEND;TZID=America/Los_Angeles:20280617T130000
DTSTAMP:20260424T053714
CREATED:20250508T162128Z
LAST-MODIFIED:20250508T162128Z
UID:10025785-1844841600-1844859600@bosd3.sbcounty.gov
SUMMARY:Countyline Farmers Market - Yucaipa
DESCRIPTION:Open: Year-Round\nTime: Saturday\, 8:00 AM – 1:00 PM \nOpen: July-December\nTime: Thursday\, 5:00 PM – 8:00 PM
URL:https://bosd3.sbcounty.gov/event/countyline-farmers-market-yucaipa/2028-06-17/
LOCATION:Yucaipa Community Park\, 34900 Oak Glen Road\, Yucaipa\, CA\, 92399\, United States
ORGANIZER;CN="Countyline Farmers Market":MAILTO:countylinefarmersmarket1@gmail.com
END:VEVENT
BEGIN:VEVENT
DTSTART;TZID=America/Los_Angeles:20280624T080000
DTEND;TZID=America/Los_Angeles:20280624T130000
DTSTAMP:20260424T053714
CREATED:20250508T162128Z
LAST-MODIFIED:20250508T162128Z
UID:10025788-1845446400-1845464400@bosd3.sbcounty.gov
SUMMARY:Countyline Farmers Market - Yucaipa
DESCRIPTION:Open: Year-Round\nTime: Saturday\, 8:00 AM – 1:00 PM \nOpen: July-December\nTime: Thursday\, 5:00 PM – 8:00 PM
URL:https://bosd3.sbcounty.gov/event/countyline-farmers-market-yucaipa/2028-06-24/
LOCATION:Yucaipa Community Park\, 34900 Oak Glen Road\, Yucaipa\, CA\, 92399\, United States
ORGANIZER;CN="Countyline Farmers Market":MAILTO:countylinefarmersmarket1@gmail.com
END:VEVENT
END:VCALENDAR