BEGIN:VCALENDAR
VERSION:2.0
PRODID:-//Dawn Rowe Third District Supervisor - ECPv6.15.14//NONSGML v1.0//EN
CALSCALE:GREGORIAN
METHOD:PUBLISH
X-ORIGINAL-URL:https://bosd3.sbcounty.gov
X-WR-CALDESC:Events for Dawn Rowe Third District Supervisor
REFRESH-INTERVAL;VALUE=DURATION:PT1H
X-Robots-Tag:noindex
X-PUBLISHED-TTL:PT1H
BEGIN:VTIMEZONE
TZID:America/Los_Angeles
BEGIN:DAYLIGHT
TZOFFSETFROM:-0800
TZOFFSETTO:-0700
TZNAME:PDT
DTSTART:20260308T100000
END:DAYLIGHT
BEGIN:STANDARD
TZOFFSETFROM:-0700
TZOFFSETTO:-0800
TZNAME:PST
DTSTART:20261101T090000
END:STANDARD
BEGIN:DAYLIGHT
TZOFFSETFROM:-0800
TZOFFSETTO:-0700
TZNAME:PDT
DTSTART:20270314T100000
END:DAYLIGHT
BEGIN:STANDARD
TZOFFSETFROM:-0700
TZOFFSETTO:-0800
TZNAME:PST
DTSTART:20271107T090000
END:STANDARD
BEGIN:DAYLIGHT
TZOFFSETFROM:-0800
TZOFFSETTO:-0700
TZNAME:PDT
DTSTART:20280312T100000
END:DAYLIGHT
BEGIN:STANDARD
TZOFFSETFROM:-0700
TZOFFSETTO:-0800
TZNAME:PST
DTSTART:20281105T090000
END:STANDARD
BEGIN:DAYLIGHT
TZOFFSETFROM:-0800
TZOFFSETTO:-0700
TZNAME:PDT
DTSTART:20290311T100000
END:DAYLIGHT
BEGIN:STANDARD
TZOFFSETFROM:-0700
TZOFFSETTO:-0800
TZNAME:PST
DTSTART:20291104T090000
END:STANDARD
END:VTIMEZONE
BEGIN:VEVENT
DTSTART;TZID=America/Los_Angeles:20270619T080000
DTEND;TZID=America/Los_Angeles:20270619T130000
DTSTAMP:20260424T011851
CREATED:20250508T162128Z
LAST-MODIFIED:20250508T162128Z
UID:10025629-1813392000-1813410000@bosd3.sbcounty.gov
SUMMARY:Countyline Farmers Market - Yucaipa
DESCRIPTION:Open: Year-Round\nTime: Saturday\, 8:00 AM – 1:00 PM \nOpen: July-December\nTime: Thursday\, 5:00 PM – 8:00 PM
URL:https://bosd3.sbcounty.gov/event/countyline-farmers-market-yucaipa/2027-06-19/
LOCATION:Yucaipa Community Park\, 34900 Oak Glen Road\, Yucaipa\, CA\, 92399\, United States
ORGANIZER;CN="Countyline Farmers Market":MAILTO:countylinefarmersmarket1@gmail.com
END:VEVENT
BEGIN:VEVENT
DTSTART;TZID=America/Los_Angeles:20270626T080000
DTEND;TZID=America/Los_Angeles:20270626T130000
DTSTAMP:20260424T011851
CREATED:20250508T162128Z
LAST-MODIFIED:20250508T162128Z
UID:10025632-1813996800-1814014800@bosd3.sbcounty.gov
SUMMARY:Countyline Farmers Market - Yucaipa
DESCRIPTION:Open: Year-Round\nTime: Saturday\, 8:00 AM – 1:00 PM \nOpen: July-December\nTime: Thursday\, 5:00 PM – 8:00 PM
URL:https://bosd3.sbcounty.gov/event/countyline-farmers-market-yucaipa/2027-06-26/
LOCATION:Yucaipa Community Park\, 34900 Oak Glen Road\, Yucaipa\, CA\, 92399\, United States
ORGANIZER;CN="Countyline Farmers Market":MAILTO:countylinefarmersmarket1@gmail.com
END:VEVENT
BEGIN:VEVENT
DTSTART;TZID=America/Los_Angeles:20270703T080000
DTEND;TZID=America/Los_Angeles:20270703T130000
DTSTAMP:20260424T011851
CREATED:20250508T162128Z
LAST-MODIFIED:20250508T162128Z
UID:10025635-1814601600-1814619600@bosd3.sbcounty.gov
SUMMARY:Countyline Farmers Market - Yucaipa
DESCRIPTION:Open: Year-Round\nTime: Saturday\, 8:00 AM – 1:00 PM \nOpen: July-December\nTime: Thursday\, 5:00 PM – 8:00 PM
URL:https://bosd3.sbcounty.gov/event/countyline-farmers-market-yucaipa/2027-07-03/
LOCATION:Yucaipa Community Park\, 34900 Oak Glen Road\, Yucaipa\, CA\, 92399\, United States
ORGANIZER;CN="Countyline Farmers Market":MAILTO:countylinefarmersmarket1@gmail.com
END:VEVENT
BEGIN:VEVENT
DTSTART;TZID=America/Los_Angeles:20270710T080000
DTEND;TZID=America/Los_Angeles:20270710T130000
DTSTAMP:20260424T011851
CREATED:20250508T162128Z
LAST-MODIFIED:20250508T162128Z
UID:10025638-1815206400-1815224400@bosd3.sbcounty.gov
SUMMARY:Countyline Farmers Market - Yucaipa
DESCRIPTION:Open: Year-Round\nTime: Saturday\, 8:00 AM – 1:00 PM \nOpen: July-December\nTime: Thursday\, 5:00 PM – 8:00 PM
URL:https://bosd3.sbcounty.gov/event/countyline-farmers-market-yucaipa/2027-07-10/
LOCATION:Yucaipa Community Park\, 34900 Oak Glen Road\, Yucaipa\, CA\, 92399\, United States
ORGANIZER;CN="Countyline Farmers Market":MAILTO:countylinefarmersmarket1@gmail.com
END:VEVENT
BEGIN:VEVENT
DTSTART;TZID=America/Los_Angeles:20270717T080000
DTEND;TZID=America/Los_Angeles:20270717T130000
DTSTAMP:20260424T011851
CREATED:20250508T162128Z
LAST-MODIFIED:20250508T162128Z
UID:10025641-1815811200-1815829200@bosd3.sbcounty.gov
SUMMARY:Countyline Farmers Market - Yucaipa
DESCRIPTION:Open: Year-Round\nTime: Saturday\, 8:00 AM – 1:00 PM \nOpen: July-December\nTime: Thursday\, 5:00 PM – 8:00 PM
URL:https://bosd3.sbcounty.gov/event/countyline-farmers-market-yucaipa/2027-07-17/
LOCATION:Yucaipa Community Park\, 34900 Oak Glen Road\, Yucaipa\, CA\, 92399\, United States
ORGANIZER;CN="Countyline Farmers Market":MAILTO:countylinefarmersmarket1@gmail.com
END:VEVENT
BEGIN:VEVENT
DTSTART;TZID=America/Los_Angeles:20270724T080000
DTEND;TZID=America/Los_Angeles:20270724T130000
DTSTAMP:20260424T011851
CREATED:20250508T162128Z
LAST-MODIFIED:20250508T162128Z
UID:10025644-1816416000-1816434000@bosd3.sbcounty.gov
SUMMARY:Countyline Farmers Market - Yucaipa
DESCRIPTION:Open: Year-Round\nTime: Saturday\, 8:00 AM – 1:00 PM \nOpen: July-December\nTime: Thursday\, 5:00 PM – 8:00 PM
URL:https://bosd3.sbcounty.gov/event/countyline-farmers-market-yucaipa/2027-07-24/
LOCATION:Yucaipa Community Park\, 34900 Oak Glen Road\, Yucaipa\, CA\, 92399\, United States
ORGANIZER;CN="Countyline Farmers Market":MAILTO:countylinefarmersmarket1@gmail.com
END:VEVENT
BEGIN:VEVENT
DTSTART;TZID=America/Los_Angeles:20270731T080000
DTEND;TZID=America/Los_Angeles:20270731T130000
DTSTAMP:20260424T011851
CREATED:20250508T162128Z
LAST-MODIFIED:20250508T162128Z
UID:10025647-1817020800-1817038800@bosd3.sbcounty.gov
SUMMARY:Countyline Farmers Market - Yucaipa
DESCRIPTION:Open: Year-Round\nTime: Saturday\, 8:00 AM – 1:00 PM \nOpen: July-December\nTime: Thursday\, 5:00 PM – 8:00 PM
URL:https://bosd3.sbcounty.gov/event/countyline-farmers-market-yucaipa/2027-07-31/
LOCATION:Yucaipa Community Park\, 34900 Oak Glen Road\, Yucaipa\, CA\, 92399\, United States
ORGANIZER;CN="Countyline Farmers Market":MAILTO:countylinefarmersmarket1@gmail.com
END:VEVENT
BEGIN:VEVENT
DTSTART;TZID=America/Los_Angeles:20270807T080000
DTEND;TZID=America/Los_Angeles:20270807T130000
DTSTAMP:20260424T011851
CREATED:20250508T162128Z
LAST-MODIFIED:20250508T162128Z
UID:10025650-1817625600-1817643600@bosd3.sbcounty.gov
SUMMARY:Countyline Farmers Market - Yucaipa
DESCRIPTION:Open: Year-Round\nTime: Saturday\, 8:00 AM – 1:00 PM \nOpen: July-December\nTime: Thursday\, 5:00 PM – 8:00 PM
URL:https://bosd3.sbcounty.gov/event/countyline-farmers-market-yucaipa/2027-08-07/
LOCATION:Yucaipa Community Park\, 34900 Oak Glen Road\, Yucaipa\, CA\, 92399\, United States
ORGANIZER;CN="Countyline Farmers Market":MAILTO:countylinefarmersmarket1@gmail.com
END:VEVENT
BEGIN:VEVENT
DTSTART;TZID=America/Los_Angeles:20270814T080000
DTEND;TZID=America/Los_Angeles:20270814T130000
DTSTAMP:20260424T011851
CREATED:20250508T162128Z
LAST-MODIFIED:20250508T162128Z
UID:10025653-1818230400-1818248400@bosd3.sbcounty.gov
SUMMARY:Countyline Farmers Market - Yucaipa
DESCRIPTION:Open: Year-Round\nTime: Saturday\, 8:00 AM – 1:00 PM \nOpen: July-December\nTime: Thursday\, 5:00 PM – 8:00 PM
URL:https://bosd3.sbcounty.gov/event/countyline-farmers-market-yucaipa/2027-08-14/
LOCATION:Yucaipa Community Park\, 34900 Oak Glen Road\, Yucaipa\, CA\, 92399\, United States
ORGANIZER;CN="Countyline Farmers Market":MAILTO:countylinefarmersmarket1@gmail.com
END:VEVENT
BEGIN:VEVENT
DTSTART;TZID=America/Los_Angeles:20270821T080000
DTEND;TZID=America/Los_Angeles:20270821T130000
DTSTAMP:20260424T011851
CREATED:20250508T162128Z
LAST-MODIFIED:20250508T162128Z
UID:10025656-1818835200-1818853200@bosd3.sbcounty.gov
SUMMARY:Countyline Farmers Market - Yucaipa
DESCRIPTION:Open: Year-Round\nTime: Saturday\, 8:00 AM – 1:00 PM \nOpen: July-December\nTime: Thursday\, 5:00 PM – 8:00 PM
URL:https://bosd3.sbcounty.gov/event/countyline-farmers-market-yucaipa/2027-08-21/
LOCATION:Yucaipa Community Park\, 34900 Oak Glen Road\, Yucaipa\, CA\, 92399\, United States
ORGANIZER;CN="Countyline Farmers Market":MAILTO:countylinefarmersmarket1@gmail.com
END:VEVENT
BEGIN:VEVENT
DTSTART;TZID=America/Los_Angeles:20270828T080000
DTEND;TZID=America/Los_Angeles:20270828T130000
DTSTAMP:20260424T011851
CREATED:20250508T162128Z
LAST-MODIFIED:20250508T162128Z
UID:10025659-1819440000-1819458000@bosd3.sbcounty.gov
SUMMARY:Countyline Farmers Market - Yucaipa
DESCRIPTION:Open: Year-Round\nTime: Saturday\, 8:00 AM – 1:00 PM \nOpen: July-December\nTime: Thursday\, 5:00 PM – 8:00 PM
URL:https://bosd3.sbcounty.gov/event/countyline-farmers-market-yucaipa/2027-08-28/
LOCATION:Yucaipa Community Park\, 34900 Oak Glen Road\, Yucaipa\, CA\, 92399\, United States
ORGANIZER;CN="Countyline Farmers Market":MAILTO:countylinefarmersmarket1@gmail.com
END:VEVENT
BEGIN:VEVENT
DTSTART;TZID=America/Los_Angeles:20270904T080000
DTEND;TZID=America/Los_Angeles:20270904T130000
DTSTAMP:20260424T011851
CREATED:20250508T162128Z
LAST-MODIFIED:20250508T162128Z
UID:10025662-1820044800-1820062800@bosd3.sbcounty.gov
SUMMARY:Countyline Farmers Market - Yucaipa
DESCRIPTION:Open: Year-Round\nTime: Saturday\, 8:00 AM – 1:00 PM \nOpen: July-December\nTime: Thursday\, 5:00 PM – 8:00 PM
URL:https://bosd3.sbcounty.gov/event/countyline-farmers-market-yucaipa/2027-09-04/
LOCATION:Yucaipa Community Park\, 34900 Oak Glen Road\, Yucaipa\, CA\, 92399\, United States
ORGANIZER;CN="Countyline Farmers Market":MAILTO:countylinefarmersmarket1@gmail.com
END:VEVENT
BEGIN:VEVENT
DTSTART;TZID=America/Los_Angeles:20270911T080000
DTEND;TZID=America/Los_Angeles:20270911T130000
DTSTAMP:20260424T011851
CREATED:20250508T162128Z
LAST-MODIFIED:20250508T162128Z
UID:10025665-1820649600-1820667600@bosd3.sbcounty.gov
SUMMARY:Countyline Farmers Market - Yucaipa
DESCRIPTION:Open: Year-Round\nTime: Saturday\, 8:00 AM – 1:00 PM \nOpen: July-December\nTime: Thursday\, 5:00 PM – 8:00 PM
URL:https://bosd3.sbcounty.gov/event/countyline-farmers-market-yucaipa/2027-09-11/
LOCATION:Yucaipa Community Park\, 34900 Oak Glen Road\, Yucaipa\, CA\, 92399\, United States
ORGANIZER;CN="Countyline Farmers Market":MAILTO:countylinefarmersmarket1@gmail.com
END:VEVENT
BEGIN:VEVENT
DTSTART;TZID=America/Los_Angeles:20270918T080000
DTEND;TZID=America/Los_Angeles:20270918T130000
DTSTAMP:20260424T011851
CREATED:20250508T162128Z
LAST-MODIFIED:20250508T162128Z
UID:10025668-1821254400-1821272400@bosd3.sbcounty.gov
SUMMARY:Countyline Farmers Market - Yucaipa
DESCRIPTION:Open: Year-Round\nTime: Saturday\, 8:00 AM – 1:00 PM \nOpen: July-December\nTime: Thursday\, 5:00 PM – 8:00 PM
URL:https://bosd3.sbcounty.gov/event/countyline-farmers-market-yucaipa/2027-09-18/
LOCATION:Yucaipa Community Park\, 34900 Oak Glen Road\, Yucaipa\, CA\, 92399\, United States
ORGANIZER;CN="Countyline Farmers Market":MAILTO:countylinefarmersmarket1@gmail.com
END:VEVENT
BEGIN:VEVENT
DTSTART;TZID=America/Los_Angeles:20270925T080000
DTEND;TZID=America/Los_Angeles:20270925T130000
DTSTAMP:20260424T011851
CREATED:20250508T162128Z
LAST-MODIFIED:20250508T162128Z
UID:10025671-1821859200-1821877200@bosd3.sbcounty.gov
SUMMARY:Countyline Farmers Market - Yucaipa
DESCRIPTION:Open: Year-Round\nTime: Saturday\, 8:00 AM – 1:00 PM \nOpen: July-December\nTime: Thursday\, 5:00 PM – 8:00 PM
URL:https://bosd3.sbcounty.gov/event/countyline-farmers-market-yucaipa/2027-09-25/
LOCATION:Yucaipa Community Park\, 34900 Oak Glen Road\, Yucaipa\, CA\, 92399\, United States
ORGANIZER;CN="Countyline Farmers Market":MAILTO:countylinefarmersmarket1@gmail.com
END:VEVENT
BEGIN:VEVENT
DTSTART;TZID=America/Los_Angeles:20271002T080000
DTEND;TZID=America/Los_Angeles:20271002T130000
DTSTAMP:20260424T011851
CREATED:20250508T162128Z
LAST-MODIFIED:20250508T162128Z
UID:10025674-1822464000-1822482000@bosd3.sbcounty.gov
SUMMARY:Countyline Farmers Market - Yucaipa
DESCRIPTION:Open: Year-Round\nTime: Saturday\, 8:00 AM – 1:00 PM \nOpen: July-December\nTime: Thursday\, 5:00 PM – 8:00 PM
URL:https://bosd3.sbcounty.gov/event/countyline-farmers-market-yucaipa/2027-10-02/
LOCATION:Yucaipa Community Park\, 34900 Oak Glen Road\, Yucaipa\, CA\, 92399\, United States
ORGANIZER;CN="Countyline Farmers Market":MAILTO:countylinefarmersmarket1@gmail.com
END:VEVENT
BEGIN:VEVENT
DTSTART;TZID=America/Los_Angeles:20271009T080000
DTEND;TZID=America/Los_Angeles:20271009T130000
DTSTAMP:20260424T011851
CREATED:20250508T162128Z
LAST-MODIFIED:20250508T162128Z
UID:10025677-1823068800-1823086800@bosd3.sbcounty.gov
SUMMARY:Countyline Farmers Market - Yucaipa
DESCRIPTION:Open: Year-Round\nTime: Saturday\, 8:00 AM – 1:00 PM \nOpen: July-December\nTime: Thursday\, 5:00 PM – 8:00 PM
URL:https://bosd3.sbcounty.gov/event/countyline-farmers-market-yucaipa/2027-10-09/
LOCATION:Yucaipa Community Park\, 34900 Oak Glen Road\, Yucaipa\, CA\, 92399\, United States
ORGANIZER;CN="Countyline Farmers Market":MAILTO:countylinefarmersmarket1@gmail.com
END:VEVENT
BEGIN:VEVENT
DTSTART;TZID=America/Los_Angeles:20271016T080000
DTEND;TZID=America/Los_Angeles:20271016T130000
DTSTAMP:20260424T011851
CREATED:20250508T162128Z
LAST-MODIFIED:20250508T162128Z
UID:10025680-1823673600-1823691600@bosd3.sbcounty.gov
SUMMARY:Countyline Farmers Market - Yucaipa
DESCRIPTION:Open: Year-Round\nTime: Saturday\, 8:00 AM – 1:00 PM \nOpen: July-December\nTime: Thursday\, 5:00 PM – 8:00 PM
URL:https://bosd3.sbcounty.gov/event/countyline-farmers-market-yucaipa/2027-10-16/
LOCATION:Yucaipa Community Park\, 34900 Oak Glen Road\, Yucaipa\, CA\, 92399\, United States
ORGANIZER;CN="Countyline Farmers Market":MAILTO:countylinefarmersmarket1@gmail.com
END:VEVENT
BEGIN:VEVENT
DTSTART;TZID=America/Los_Angeles:20271023T080000
DTEND;TZID=America/Los_Angeles:20271023T130000
DTSTAMP:20260424T011851
CREATED:20250508T162128Z
LAST-MODIFIED:20250508T162128Z
UID:10025683-1824278400-1824296400@bosd3.sbcounty.gov
SUMMARY:Countyline Farmers Market - Yucaipa
DESCRIPTION:Open: Year-Round\nTime: Saturday\, 8:00 AM – 1:00 PM \nOpen: July-December\nTime: Thursday\, 5:00 PM – 8:00 PM
URL:https://bosd3.sbcounty.gov/event/countyline-farmers-market-yucaipa/2027-10-23/
LOCATION:Yucaipa Community Park\, 34900 Oak Glen Road\, Yucaipa\, CA\, 92399\, United States
ORGANIZER;CN="Countyline Farmers Market":MAILTO:countylinefarmersmarket1@gmail.com
END:VEVENT
BEGIN:VEVENT
DTSTART;TZID=America/Los_Angeles:20271030T080000
DTEND;TZID=America/Los_Angeles:20271030T130000
DTSTAMP:20260424T011851
CREATED:20250508T162128Z
LAST-MODIFIED:20250508T162128Z
UID:10025686-1824883200-1824901200@bosd3.sbcounty.gov
SUMMARY:Countyline Farmers Market - Yucaipa
DESCRIPTION:Open: Year-Round\nTime: Saturday\, 8:00 AM – 1:00 PM \nOpen: July-December\nTime: Thursday\, 5:00 PM – 8:00 PM
URL:https://bosd3.sbcounty.gov/event/countyline-farmers-market-yucaipa/2027-10-30/
LOCATION:Yucaipa Community Park\, 34900 Oak Glen Road\, Yucaipa\, CA\, 92399\, United States
ORGANIZER;CN="Countyline Farmers Market":MAILTO:countylinefarmersmarket1@gmail.com
END:VEVENT
BEGIN:VEVENT
DTSTART;TZID=America/Los_Angeles:20271106T080000
DTEND;TZID=America/Los_Angeles:20271106T130000
DTSTAMP:20260424T011851
CREATED:20250508T162128Z
LAST-MODIFIED:20250508T162128Z
UID:10025689-1825488000-1825506000@bosd3.sbcounty.gov
SUMMARY:Countyline Farmers Market - Yucaipa
DESCRIPTION:Open: Year-Round\nTime: Saturday\, 8:00 AM – 1:00 PM \nOpen: July-December\nTime: Thursday\, 5:00 PM – 8:00 PM
URL:https://bosd3.sbcounty.gov/event/countyline-farmers-market-yucaipa/2027-11-06/
LOCATION:Yucaipa Community Park\, 34900 Oak Glen Road\, Yucaipa\, CA\, 92399\, United States
ORGANIZER;CN="Countyline Farmers Market":MAILTO:countylinefarmersmarket1@gmail.com
END:VEVENT
BEGIN:VEVENT
DTSTART;TZID=America/Los_Angeles:20271113T080000
DTEND;TZID=America/Los_Angeles:20271113T130000
DTSTAMP:20260424T011851
CREATED:20250508T162128Z
LAST-MODIFIED:20250508T162128Z
UID:10025692-1826092800-1826110800@bosd3.sbcounty.gov
SUMMARY:Countyline Farmers Market - Yucaipa
DESCRIPTION:Open: Year-Round\nTime: Saturday\, 8:00 AM – 1:00 PM \nOpen: July-December\nTime: Thursday\, 5:00 PM – 8:00 PM
URL:https://bosd3.sbcounty.gov/event/countyline-farmers-market-yucaipa/2027-11-13/
LOCATION:Yucaipa Community Park\, 34900 Oak Glen Road\, Yucaipa\, CA\, 92399\, United States
ORGANIZER;CN="Countyline Farmers Market":MAILTO:countylinefarmersmarket1@gmail.com
END:VEVENT
BEGIN:VEVENT
DTSTART;TZID=America/Los_Angeles:20271120T080000
DTEND;TZID=America/Los_Angeles:20271120T130000
DTSTAMP:20260424T011851
CREATED:20250508T162128Z
LAST-MODIFIED:20250508T162128Z
UID:10025695-1826697600-1826715600@bosd3.sbcounty.gov
SUMMARY:Countyline Farmers Market - Yucaipa
DESCRIPTION:Open: Year-Round\nTime: Saturday\, 8:00 AM – 1:00 PM \nOpen: July-December\nTime: Thursday\, 5:00 PM – 8:00 PM
URL:https://bosd3.sbcounty.gov/event/countyline-farmers-market-yucaipa/2027-11-20/
LOCATION:Yucaipa Community Park\, 34900 Oak Glen Road\, Yucaipa\, CA\, 92399\, United States
ORGANIZER;CN="Countyline Farmers Market":MAILTO:countylinefarmersmarket1@gmail.com
END:VEVENT
BEGIN:VEVENT
DTSTART;TZID=America/Los_Angeles:20271127T080000
DTEND;TZID=America/Los_Angeles:20271127T130000
DTSTAMP:20260424T011851
CREATED:20250508T162128Z
LAST-MODIFIED:20250508T162128Z
UID:10025698-1827302400-1827320400@bosd3.sbcounty.gov
SUMMARY:Countyline Farmers Market - Yucaipa
DESCRIPTION:Open: Year-Round\nTime: Saturday\, 8:00 AM – 1:00 PM \nOpen: July-December\nTime: Thursday\, 5:00 PM – 8:00 PM
URL:https://bosd3.sbcounty.gov/event/countyline-farmers-market-yucaipa/2027-11-27/
LOCATION:Yucaipa Community Park\, 34900 Oak Glen Road\, Yucaipa\, CA\, 92399\, United States
ORGANIZER;CN="Countyline Farmers Market":MAILTO:countylinefarmersmarket1@gmail.com
END:VEVENT
BEGIN:VEVENT
DTSTART;TZID=America/Los_Angeles:20271204T080000
DTEND;TZID=America/Los_Angeles:20271204T130000
DTSTAMP:20260424T011851
CREATED:20250508T162128Z
LAST-MODIFIED:20250508T162128Z
UID:10025701-1827907200-1827925200@bosd3.sbcounty.gov
SUMMARY:Countyline Farmers Market - Yucaipa
DESCRIPTION:Open: Year-Round\nTime: Saturday\, 8:00 AM – 1:00 PM \nOpen: July-December\nTime: Thursday\, 5:00 PM – 8:00 PM
URL:https://bosd3.sbcounty.gov/event/countyline-farmers-market-yucaipa/2027-12-04/
LOCATION:Yucaipa Community Park\, 34900 Oak Glen Road\, Yucaipa\, CA\, 92399\, United States
ORGANIZER;CN="Countyline Farmers Market":MAILTO:countylinefarmersmarket1@gmail.com
END:VEVENT
BEGIN:VEVENT
DTSTART;TZID=America/Los_Angeles:20271211T080000
DTEND;TZID=America/Los_Angeles:20271211T130000
DTSTAMP:20260424T011851
CREATED:20250508T162128Z
LAST-MODIFIED:20250508T162128Z
UID:10025704-1828512000-1828530000@bosd3.sbcounty.gov
SUMMARY:Countyline Farmers Market - Yucaipa
DESCRIPTION:Open: Year-Round\nTime: Saturday\, 8:00 AM – 1:00 PM \nOpen: July-December\nTime: Thursday\, 5:00 PM – 8:00 PM
URL:https://bosd3.sbcounty.gov/event/countyline-farmers-market-yucaipa/2027-12-11/
LOCATION:Yucaipa Community Park\, 34900 Oak Glen Road\, Yucaipa\, CA\, 92399\, United States
ORGANIZER;CN="Countyline Farmers Market":MAILTO:countylinefarmersmarket1@gmail.com
END:VEVENT
BEGIN:VEVENT
DTSTART;TZID=America/Los_Angeles:20271218T080000
DTEND;TZID=America/Los_Angeles:20271218T130000
DTSTAMP:20260424T011851
CREATED:20250508T162128Z
LAST-MODIFIED:20250508T162128Z
UID:10025707-1829116800-1829134800@bosd3.sbcounty.gov
SUMMARY:Countyline Farmers Market - Yucaipa
DESCRIPTION:Open: Year-Round\nTime: Saturday\, 8:00 AM – 1:00 PM \nOpen: July-December\nTime: Thursday\, 5:00 PM – 8:00 PM
URL:https://bosd3.sbcounty.gov/event/countyline-farmers-market-yucaipa/2027-12-18/
LOCATION:Yucaipa Community Park\, 34900 Oak Glen Road\, Yucaipa\, CA\, 92399\, United States
ORGANIZER;CN="Countyline Farmers Market":MAILTO:countylinefarmersmarket1@gmail.com
END:VEVENT
BEGIN:VEVENT
DTSTART;TZID=America/Los_Angeles:20271225T080000
DTEND;TZID=America/Los_Angeles:20271225T130000
DTSTAMP:20260424T011851
CREATED:20250508T162128Z
LAST-MODIFIED:20250508T162128Z
UID:10025710-1829721600-1829739600@bosd3.sbcounty.gov
SUMMARY:Countyline Farmers Market - Yucaipa
DESCRIPTION:Open: Year-Round\nTime: Saturday\, 8:00 AM – 1:00 PM \nOpen: July-December\nTime: Thursday\, 5:00 PM – 8:00 PM
URL:https://bosd3.sbcounty.gov/event/countyline-farmers-market-yucaipa/2027-12-25/
LOCATION:Yucaipa Community Park\, 34900 Oak Glen Road\, Yucaipa\, CA\, 92399\, United States
ORGANIZER;CN="Countyline Farmers Market":MAILTO:countylinefarmersmarket1@gmail.com
END:VEVENT
BEGIN:VEVENT
DTSTART;TZID=America/Los_Angeles:20280101T080000
DTEND;TZID=America/Los_Angeles:20280101T130000
DTSTAMP:20260424T011851
CREATED:20250508T162128Z
LAST-MODIFIED:20250508T162128Z
UID:10025713-1830326400-1830344400@bosd3.sbcounty.gov
SUMMARY:Countyline Farmers Market - Yucaipa
DESCRIPTION:Open: Year-Round\nTime: Saturday\, 8:00 AM – 1:00 PM \nOpen: July-December\nTime: Thursday\, 5:00 PM – 8:00 PM
URL:https://bosd3.sbcounty.gov/event/countyline-farmers-market-yucaipa/2028-01-01/
LOCATION:Yucaipa Community Park\, 34900 Oak Glen Road\, Yucaipa\, CA\, 92399\, United States
ORGANIZER;CN="Countyline Farmers Market":MAILTO:countylinefarmersmarket1@gmail.com
END:VEVENT
BEGIN:VEVENT
DTSTART;TZID=America/Los_Angeles:20280108T080000
DTEND;TZID=America/Los_Angeles:20280108T130000
DTSTAMP:20260424T011851
CREATED:20250508T162128Z
LAST-MODIFIED:20250508T162128Z
UID:10025716-1830931200-1830949200@bosd3.sbcounty.gov
SUMMARY:Countyline Farmers Market - Yucaipa
DESCRIPTION:Open: Year-Round\nTime: Saturday\, 8:00 AM – 1:00 PM \nOpen: July-December\nTime: Thursday\, 5:00 PM – 8:00 PM
URL:https://bosd3.sbcounty.gov/event/countyline-farmers-market-yucaipa/2028-01-08/
LOCATION:Yucaipa Community Park\, 34900 Oak Glen Road\, Yucaipa\, CA\, 92399\, United States
ORGANIZER;CN="Countyline Farmers Market":MAILTO:countylinefarmersmarket1@gmail.com
END:VEVENT
END:VCALENDAR