BEGIN:VCALENDAR
VERSION:2.0
PRODID:-//Dawn Rowe Third District Supervisor - ECPv6.15.14//NONSGML v1.0//EN
CALSCALE:GREGORIAN
METHOD:PUBLISH
X-WR-CALNAME:Dawn Rowe Third District Supervisor
X-ORIGINAL-URL:https://bosd3.sbcounty.gov
X-WR-CALDESC:Events for Dawn Rowe Third District Supervisor
REFRESH-INTERVAL;VALUE=DURATION:PT1H
X-Robots-Tag:noindex
X-PUBLISHED-TTL:PT1H
BEGIN:VTIMEZONE
TZID:America/Los_Angeles
BEGIN:DAYLIGHT
TZOFFSETFROM:-0800
TZOFFSETTO:-0700
TZNAME:PDT
DTSTART:20200308T100000
END:DAYLIGHT
BEGIN:STANDARD
TZOFFSETFROM:-0700
TZOFFSETTO:-0800
TZNAME:PST
DTSTART:20201101T090000
END:STANDARD
BEGIN:DAYLIGHT
TZOFFSETFROM:-0800
TZOFFSETTO:-0700
TZNAME:PDT
DTSTART:20210314T100000
END:DAYLIGHT
BEGIN:STANDARD
TZOFFSETFROM:-0700
TZOFFSETTO:-0800
TZNAME:PST
DTSTART:20211107T090000
END:STANDARD
BEGIN:DAYLIGHT
TZOFFSETFROM:-0800
TZOFFSETTO:-0700
TZNAME:PDT
DTSTART:20220313T100000
END:DAYLIGHT
BEGIN:STANDARD
TZOFFSETFROM:-0700
TZOFFSETTO:-0800
TZNAME:PST
DTSTART:20221106T090000
END:STANDARD
END:VTIMEZONE
BEGIN:VEVENT
DTSTART;TZID=America/Los_Angeles:20210508T090000
DTEND;TZID=America/Los_Angeles:20210508T140000
DTSTAMP:20260423T014419
CREATED:20210414T224350Z
LAST-MODIFIED:20210414T224350Z
UID:2532-1620464400-1620482400@bosd3.sbcounty.gov
SUMMARY:Used Oil Filter & Exchange Event--Grand Terrace
DESCRIPTION:The San Bernardino County Fire Household Hazardous Waste team invites you to their Used Oil Filter & Exchange Event in Grand Terrace on Saturday May. 8. \nBring your Used Oil Filters to Recycle and Exchange for up to a $15 oil filter voucher! (max 2 vouchers per household)\nFree oil change kits available!\nUsed oil is also accepted at this AutoZone and must be in non-contaminated oil container.\nMasks are required.\nOnly San Bernardino County residents. (proof of county residency required)\n  \n 
URL:https://bosd3.sbcounty.gov/event/used-oil-filter-exchange-event-grand-terrace/
LOCATION:Auto Zone\, 22203 Barton Rd\, Grand Terrace
END:VEVENT
END:VCALENDAR