BEGIN:VCALENDAR
VERSION:2.0
PRODID:-//Dawn Rowe Third District Supervisor - ECPv6.15.14//NONSGML v1.0//EN
CALSCALE:GREGORIAN
METHOD:PUBLISH
X-WR-CALNAME:Dawn Rowe Third District Supervisor
X-ORIGINAL-URL:https://bosd3.sbcounty.gov
X-WR-CALDESC:Events for Dawn Rowe Third District Supervisor
REFRESH-INTERVAL;VALUE=DURATION:PT1H
X-Robots-Tag:noindex
X-PUBLISHED-TTL:PT1H
BEGIN:VTIMEZONE
TZID:America/Los_Angeles
BEGIN:DAYLIGHT
TZOFFSETFROM:-0800
TZOFFSETTO:-0700
TZNAME:PDT
DTSTART:20240310T100000
END:DAYLIGHT
BEGIN:STANDARD
TZOFFSETFROM:-0700
TZOFFSETTO:-0800
TZNAME:PST
DTSTART:20241103T090000
END:STANDARD
BEGIN:DAYLIGHT
TZOFFSETFROM:-0800
TZOFFSETTO:-0700
TZNAME:PDT
DTSTART:20250309T100000
END:DAYLIGHT
BEGIN:STANDARD
TZOFFSETFROM:-0700
TZOFFSETTO:-0800
TZNAME:PST
DTSTART:20251102T090000
END:STANDARD
BEGIN:DAYLIGHT
TZOFFSETFROM:-0800
TZOFFSETTO:-0700
TZNAME:PDT
DTSTART:20260308T100000
END:DAYLIGHT
BEGIN:STANDARD
TZOFFSETFROM:-0700
TZOFFSETTO:-0800
TZNAME:PST
DTSTART:20261101T090000
END:STANDARD
END:VTIMEZONE
BEGIN:VEVENT
DTSTART;TZID=America/Los_Angeles:20250208T120000
DTEND;TZID=America/Los_Angeles:20250208T150000
DTSTAMP:20260421T031822
CREATED:20250203T231011Z
LAST-MODIFIED:20250203T231011Z
UID:16306-1739016000-1739026800@bosd3.sbcounty.gov
SUMMARY:Puppy Party - Yucaipa
DESCRIPTION:Yucaipa Animal Placement Society invites you to their Puppy Party taking place THIS SATURDAY! You’ll have a chance to play with puppies\, adopt a pet\, and get a picture in the puppy kissing booth! This is a FREE event for the community!
URL:https://bosd3.sbcounty.gov/event/puppy-party-yucaipa/
LOCATION:Yucaipa Animal Placement Society\, 11937 13th Street\, Yucaipa\, CA\, 92399\, United States
ORGANIZER;CN="Yucaipa Animal Placement Society":MAILTO:info@yaps.org
END:VEVENT
END:VCALENDAR