BEGIN:VCALENDAR
VERSION:2.0
PRODID:-//Dawn Rowe Third District Supervisor - ECPv6.15.14//NONSGML v1.0//EN
CALSCALE:GREGORIAN
METHOD:PUBLISH
X-WR-CALNAME:Dawn Rowe Third District Supervisor
X-ORIGINAL-URL:https://bosd3.sbcounty.gov
X-WR-CALDESC:Events for Dawn Rowe Third District Supervisor
REFRESH-INTERVAL;VALUE=DURATION:PT1H
X-Robots-Tag:noindex
X-PUBLISHED-TTL:PT1H
BEGIN:VTIMEZONE
TZID:America/Los_Angeles
BEGIN:DAYLIGHT
TZOFFSETFROM:-0800
TZOFFSETTO:-0700
TZNAME:PDT
DTSTART:20230312T100000
END:DAYLIGHT
BEGIN:STANDARD
TZOFFSETFROM:-0700
TZOFFSETTO:-0800
TZNAME:PST
DTSTART:20231105T090000
END:STANDARD
BEGIN:DAYLIGHT
TZOFFSETFROM:-0800
TZOFFSETTO:-0700
TZNAME:PDT
DTSTART:20240310T100000
END:DAYLIGHT
BEGIN:STANDARD
TZOFFSETFROM:-0700
TZOFFSETTO:-0800
TZNAME:PST
DTSTART:20241103T090000
END:STANDARD
BEGIN:DAYLIGHT
TZOFFSETFROM:-0800
TZOFFSETTO:-0700
TZNAME:PDT
DTSTART:20250309T100000
END:DAYLIGHT
BEGIN:STANDARD
TZOFFSETFROM:-0700
TZOFFSETTO:-0800
TZNAME:PST
DTSTART:20251102T090000
END:STANDARD
END:VTIMEZONE
BEGIN:VEVENT
DTSTART;TZID=America/Los_Angeles:20241019T100000
DTEND;TZID=America/Los_Angeles:20241019T120000
DTSTAMP:20260419T235641
CREATED:20241016T000704Z
LAST-MODIFIED:20241016T000704Z
UID:15612-1729332000-1729339200@bosd3.sbcounty.gov
SUMMARY:Pioneer Days Parade - Twentynine Palms
DESCRIPTION:The 88th Annual Pioneer Days Parade is on Saturday\, October 19\, 2024! This year’s theme\, “Reimagining the Desert: Honoring the Past\, Forging the Future\,” celebrates the region’s rich history while looking ahead to an exciting future. The parade will feature a variety of community entries\, including cars\, floats\, marching groups\, equestrians\, and more!
URL:https://bosd3.sbcounty.gov/event/pioneer-days-parade-twentynine-palms/
LOCATION:Oasis Elementary School\, 73175 El Paseo Drive\, Twentynine Palms\, CA\, 92277\, United States
ORGANIZER;CN="City of Twentynine Palms":MAILTO:cvillescas@29palms.org
END:VEVENT
END:VCALENDAR