BEGIN:VCALENDAR
VERSION:2.0
PRODID:-//Dawn Rowe Third District Supervisor - ECPv6.15.14//NONSGML v1.0//EN
CALSCALE:GREGORIAN
METHOD:PUBLISH
X-WR-CALNAME:Dawn Rowe Third District Supervisor
X-ORIGINAL-URL:https://bosd3.sbcounty.gov
X-WR-CALDESC:Events for Dawn Rowe Third District Supervisor
REFRESH-INTERVAL;VALUE=DURATION:PT1H
X-Robots-Tag:noindex
X-PUBLISHED-TTL:PT1H
BEGIN:VTIMEZONE
TZID:America/Los_Angeles
BEGIN:DAYLIGHT
TZOFFSETFROM:-0800
TZOFFSETTO:-0700
TZNAME:PDT
DTSTART:20230312T100000
END:DAYLIGHT
BEGIN:STANDARD
TZOFFSETFROM:-0700
TZOFFSETTO:-0800
TZNAME:PST
DTSTART:20231105T090000
END:STANDARD
BEGIN:DAYLIGHT
TZOFFSETFROM:-0800
TZOFFSETTO:-0700
TZNAME:PDT
DTSTART:20240310T100000
END:DAYLIGHT
BEGIN:STANDARD
TZOFFSETFROM:-0700
TZOFFSETTO:-0800
TZNAME:PST
DTSTART:20241103T090000
END:STANDARD
BEGIN:DAYLIGHT
TZOFFSETFROM:-0800
TZOFFSETTO:-0700
TZNAME:PDT
DTSTART:20250309T100000
END:DAYLIGHT
BEGIN:STANDARD
TZOFFSETFROM:-0700
TZOFFSETTO:-0800
TZNAME:PST
DTSTART:20251102T090000
END:STANDARD
END:VTIMEZONE
BEGIN:VEVENT
DTSTART;TZID=America/Los_Angeles:20240906T090000
DTEND;TZID=America/Los_Angeles:20240906T160000
DTSTAMP:20260422T003848
CREATED:20240828T190546Z
LAST-MODIFIED:20240828T190546Z
UID:15130-1725613200-1725638400@bosd3.sbcounty.gov
SUMMARY:Field of Honor Set-Up - Barstow
DESCRIPTION:Veterans Services and the Student Veterans Organization annually present the 9/11 Field of Honor at Barstow Community College. The silent on-campus memorial displays one American flag for every person lost in the terrorist attacks of September 11\, 2001. Organizers need volunteers to help place flags for the Field of Honor on Friday\, September 6.
URL:https://bosd3.sbcounty.gov/event/field-of-honor-set-up-barstow/
LOCATION:Barstow Community College\, 2700 Barstow Road\, Barstow\, CA\, United States
ORGANIZER;CN="Barstow Community College":MAILTO:info@barstow.edu
END:VEVENT
END:VCALENDAR