BEGIN:VCALENDAR
VERSION:2.0
PRODID:-//Dawn Rowe Third District Supervisor - ECPv6.15.14//NONSGML v1.0//EN
CALSCALE:GREGORIAN
METHOD:PUBLISH
X-WR-CALNAME:Dawn Rowe Third District Supervisor
X-ORIGINAL-URL:https://bosd3.sbcounty.gov
X-WR-CALDESC:Events for Dawn Rowe Third District Supervisor
REFRESH-INTERVAL;VALUE=DURATION:PT1H
X-Robots-Tag:noindex
X-PUBLISHED-TTL:PT1H
BEGIN:VTIMEZONE
TZID:America/Los_Angeles
BEGIN:DAYLIGHT
TZOFFSETFROM:-0800
TZOFFSETTO:-0700
TZNAME:PDT
DTSTART:20250309T100000
END:DAYLIGHT
BEGIN:STANDARD
TZOFFSETFROM:-0700
TZOFFSETTO:-0800
TZNAME:PST
DTSTART:20251102T090000
END:STANDARD
BEGIN:DAYLIGHT
TZOFFSETFROM:-0800
TZOFFSETTO:-0700
TZNAME:PDT
DTSTART:20260308T100000
END:DAYLIGHT
BEGIN:STANDARD
TZOFFSETFROM:-0700
TZOFFSETTO:-0800
TZNAME:PST
DTSTART:20261101T090000
END:STANDARD
BEGIN:DAYLIGHT
TZOFFSETFROM:-0800
TZOFFSETTO:-0700
TZNAME:PDT
DTSTART:20270314T100000
END:DAYLIGHT
BEGIN:STANDARD
TZOFFSETFROM:-0700
TZOFFSETTO:-0800
TZNAME:PST
DTSTART:20271107T090000
END:STANDARD
END:VTIMEZONE
BEGIN:VEVENT
DTSTART;TZID=America/Los_Angeles:20260429T080000
DTEND;TZID=America/Los_Angeles:20260429T210000
DTSTAMP:20260424T183430
CREATED:20250301T002511Z
LAST-MODIFIED:20250301T002511Z
UID:10021916-1777449600-1777496400@bosd3.sbcounty.gov
SUMMARY:Farmers Market - Twentynine Palms
DESCRIPTION:Visit the Twentynine Palms Farmers Market\, open year-round\, to shop fresh produce\, local goods\, and handcrafted items. The market operates Wednesdays from 8:00 AM – 9:00 PM and Sundays from 9:00 AM – 9:00 PM at 59700 Twentynine Palms Hwy.\, Joshua Tree\, CA. Enjoy a vibrant community atmosphere while supporting local farmers and artisans!
URL:https://bosd3.sbcounty.gov/event/farmers-market-twentynine-palms/2026-04-29/
LOCATION:Joshua Tree Retreat Center\, 59700 Twentynine Palms Hwy\, Joshua Tree\, CA\, United States
END:VEVENT
BEGIN:VEVENT
DTSTART;TZID=America/Los_Angeles:20260506T080000
DTEND;TZID=America/Los_Angeles:20260506T210000
DTSTAMP:20260424T183430
CREATED:20250301T002511Z
LAST-MODIFIED:20250301T002511Z
UID:10021919-1778054400-1778101200@bosd3.sbcounty.gov
SUMMARY:Farmers Market - Twentynine Palms
DESCRIPTION:Visit the Twentynine Palms Farmers Market\, open year-round\, to shop fresh produce\, local goods\, and handcrafted items. The market operates Wednesdays from 8:00 AM – 9:00 PM and Sundays from 9:00 AM – 9:00 PM at 59700 Twentynine Palms Hwy.\, Joshua Tree\, CA. Enjoy a vibrant community atmosphere while supporting local farmers and artisans!
URL:https://bosd3.sbcounty.gov/event/farmers-market-twentynine-palms/2026-05-06/
LOCATION:Joshua Tree Retreat Center\, 59700 Twentynine Palms Hwy\, Joshua Tree\, CA\, United States
END:VEVENT
BEGIN:VEVENT
DTSTART;TZID=America/Los_Angeles:20260513T080000
DTEND;TZID=America/Los_Angeles:20260513T210000
DTSTAMP:20260424T183430
CREATED:20250301T002511Z
LAST-MODIFIED:20250301T002511Z
UID:10021922-1778659200-1778706000@bosd3.sbcounty.gov
SUMMARY:Farmers Market - Twentynine Palms
DESCRIPTION:Visit the Twentynine Palms Farmers Market\, open year-round\, to shop fresh produce\, local goods\, and handcrafted items. The market operates Wednesdays from 8:00 AM – 9:00 PM and Sundays from 9:00 AM – 9:00 PM at 59700 Twentynine Palms Hwy.\, Joshua Tree\, CA. Enjoy a vibrant community atmosphere while supporting local farmers and artisans!
URL:https://bosd3.sbcounty.gov/event/farmers-market-twentynine-palms/2026-05-13/
LOCATION:Joshua Tree Retreat Center\, 59700 Twentynine Palms Hwy\, Joshua Tree\, CA\, United States
END:VEVENT
BEGIN:VEVENT
DTSTART;TZID=America/Los_Angeles:20260520T080000
DTEND;TZID=America/Los_Angeles:20260520T210000
DTSTAMP:20260424T183430
CREATED:20250301T002511Z
LAST-MODIFIED:20250301T002511Z
UID:10021925-1779264000-1779310800@bosd3.sbcounty.gov
SUMMARY:Farmers Market - Twentynine Palms
DESCRIPTION:Visit the Twentynine Palms Farmers Market\, open year-round\, to shop fresh produce\, local goods\, and handcrafted items. The market operates Wednesdays from 8:00 AM – 9:00 PM and Sundays from 9:00 AM – 9:00 PM at 59700 Twentynine Palms Hwy.\, Joshua Tree\, CA. Enjoy a vibrant community atmosphere while supporting local farmers and artisans!
URL:https://bosd3.sbcounty.gov/event/farmers-market-twentynine-palms/2026-05-20/
LOCATION:Joshua Tree Retreat Center\, 59700 Twentynine Palms Hwy\, Joshua Tree\, CA\, United States
END:VEVENT
BEGIN:VEVENT
DTSTART;TZID=America/Los_Angeles:20260527T080000
DTEND;TZID=America/Los_Angeles:20260527T210000
DTSTAMP:20260424T183430
CREATED:20250301T002511Z
LAST-MODIFIED:20250301T002511Z
UID:10021928-1779868800-1779915600@bosd3.sbcounty.gov
SUMMARY:Farmers Market - Twentynine Palms
DESCRIPTION:Visit the Twentynine Palms Farmers Market\, open year-round\, to shop fresh produce\, local goods\, and handcrafted items. The market operates Wednesdays from 8:00 AM – 9:00 PM and Sundays from 9:00 AM – 9:00 PM at 59700 Twentynine Palms Hwy.\, Joshua Tree\, CA. Enjoy a vibrant community atmosphere while supporting local farmers and artisans!
URL:https://bosd3.sbcounty.gov/event/farmers-market-twentynine-palms/2026-05-27/
LOCATION:Joshua Tree Retreat Center\, 59700 Twentynine Palms Hwy\, Joshua Tree\, CA\, United States
END:VEVENT
BEGIN:VEVENT
DTSTART;TZID=America/Los_Angeles:20260603T080000
DTEND;TZID=America/Los_Angeles:20260603T210000
DTSTAMP:20260424T183430
CREATED:20250301T002511Z
LAST-MODIFIED:20250301T002511Z
UID:10021931-1780473600-1780520400@bosd3.sbcounty.gov
SUMMARY:Farmers Market - Twentynine Palms
DESCRIPTION:Visit the Twentynine Palms Farmers Market\, open year-round\, to shop fresh produce\, local goods\, and handcrafted items. The market operates Wednesdays from 8:00 AM – 9:00 PM and Sundays from 9:00 AM – 9:00 PM at 59700 Twentynine Palms Hwy.\, Joshua Tree\, CA. Enjoy a vibrant community atmosphere while supporting local farmers and artisans!
URL:https://bosd3.sbcounty.gov/event/farmers-market-twentynine-palms/2026-06-03/
LOCATION:Joshua Tree Retreat Center\, 59700 Twentynine Palms Hwy\, Joshua Tree\, CA\, United States
END:VEVENT
BEGIN:VEVENT
DTSTART;TZID=America/Los_Angeles:20260610T080000
DTEND;TZID=America/Los_Angeles:20260610T210000
DTSTAMP:20260424T183430
CREATED:20250301T002511Z
LAST-MODIFIED:20250301T002511Z
UID:10021934-1781078400-1781125200@bosd3.sbcounty.gov
SUMMARY:Farmers Market - Twentynine Palms
DESCRIPTION:Visit the Twentynine Palms Farmers Market\, open year-round\, to shop fresh produce\, local goods\, and handcrafted items. The market operates Wednesdays from 8:00 AM – 9:00 PM and Sundays from 9:00 AM – 9:00 PM at 59700 Twentynine Palms Hwy.\, Joshua Tree\, CA. Enjoy a vibrant community atmosphere while supporting local farmers and artisans!
URL:https://bosd3.sbcounty.gov/event/farmers-market-twentynine-palms/2026-06-10/
LOCATION:Joshua Tree Retreat Center\, 59700 Twentynine Palms Hwy\, Joshua Tree\, CA\, United States
END:VEVENT
BEGIN:VEVENT
DTSTART;TZID=America/Los_Angeles:20260617T080000
DTEND;TZID=America/Los_Angeles:20260617T210000
DTSTAMP:20260424T183430
CREATED:20250301T002511Z
LAST-MODIFIED:20250301T002511Z
UID:10021937-1781683200-1781730000@bosd3.sbcounty.gov
SUMMARY:Farmers Market - Twentynine Palms
DESCRIPTION:Visit the Twentynine Palms Farmers Market\, open year-round\, to shop fresh produce\, local goods\, and handcrafted items. The market operates Wednesdays from 8:00 AM – 9:00 PM and Sundays from 9:00 AM – 9:00 PM at 59700 Twentynine Palms Hwy.\, Joshua Tree\, CA. Enjoy a vibrant community atmosphere while supporting local farmers and artisans!
URL:https://bosd3.sbcounty.gov/event/farmers-market-twentynine-palms/2026-06-17/
LOCATION:Joshua Tree Retreat Center\, 59700 Twentynine Palms Hwy\, Joshua Tree\, CA\, United States
END:VEVENT
BEGIN:VEVENT
DTSTART;TZID=America/Los_Angeles:20260624T080000
DTEND;TZID=America/Los_Angeles:20260624T210000
DTSTAMP:20260424T183430
CREATED:20250301T002511Z
LAST-MODIFIED:20250301T002511Z
UID:10021940-1782288000-1782334800@bosd3.sbcounty.gov
SUMMARY:Farmers Market - Twentynine Palms
DESCRIPTION:Visit the Twentynine Palms Farmers Market\, open year-round\, to shop fresh produce\, local goods\, and handcrafted items. The market operates Wednesdays from 8:00 AM – 9:00 PM and Sundays from 9:00 AM – 9:00 PM at 59700 Twentynine Palms Hwy.\, Joshua Tree\, CA. Enjoy a vibrant community atmosphere while supporting local farmers and artisans!
URL:https://bosd3.sbcounty.gov/event/farmers-market-twentynine-palms/2026-06-24/
LOCATION:Joshua Tree Retreat Center\, 59700 Twentynine Palms Hwy\, Joshua Tree\, CA\, United States
END:VEVENT
BEGIN:VEVENT
DTSTART;TZID=America/Los_Angeles:20260701T080000
DTEND;TZID=America/Los_Angeles:20260701T210000
DTSTAMP:20260424T183430
CREATED:20250301T002511Z
LAST-MODIFIED:20250301T002511Z
UID:10021943-1782892800-1782939600@bosd3.sbcounty.gov
SUMMARY:Farmers Market - Twentynine Palms
DESCRIPTION:Visit the Twentynine Palms Farmers Market\, open year-round\, to shop fresh produce\, local goods\, and handcrafted items. The market operates Wednesdays from 8:00 AM – 9:00 PM and Sundays from 9:00 AM – 9:00 PM at 59700 Twentynine Palms Hwy.\, Joshua Tree\, CA. Enjoy a vibrant community atmosphere while supporting local farmers and artisans!
URL:https://bosd3.sbcounty.gov/event/farmers-market-twentynine-palms/2026-07-01/
LOCATION:Joshua Tree Retreat Center\, 59700 Twentynine Palms Hwy\, Joshua Tree\, CA\, United States
END:VEVENT
BEGIN:VEVENT
DTSTART;TZID=America/Los_Angeles:20260708T080000
DTEND;TZID=America/Los_Angeles:20260708T210000
DTSTAMP:20260424T183430
CREATED:20250301T002511Z
LAST-MODIFIED:20250301T002511Z
UID:10021946-1783497600-1783544400@bosd3.sbcounty.gov
SUMMARY:Farmers Market - Twentynine Palms
DESCRIPTION:Visit the Twentynine Palms Farmers Market\, open year-round\, to shop fresh produce\, local goods\, and handcrafted items. The market operates Wednesdays from 8:00 AM – 9:00 PM and Sundays from 9:00 AM – 9:00 PM at 59700 Twentynine Palms Hwy.\, Joshua Tree\, CA. Enjoy a vibrant community atmosphere while supporting local farmers and artisans!
URL:https://bosd3.sbcounty.gov/event/farmers-market-twentynine-palms/2026-07-08/
LOCATION:Joshua Tree Retreat Center\, 59700 Twentynine Palms Hwy\, Joshua Tree\, CA\, United States
END:VEVENT
BEGIN:VEVENT
DTSTART;TZID=America/Los_Angeles:20260715T080000
DTEND;TZID=America/Los_Angeles:20260715T210000
DTSTAMP:20260424T183430
CREATED:20250301T002511Z
LAST-MODIFIED:20250301T002511Z
UID:10021949-1784102400-1784149200@bosd3.sbcounty.gov
SUMMARY:Farmers Market - Twentynine Palms
DESCRIPTION:Visit the Twentynine Palms Farmers Market\, open year-round\, to shop fresh produce\, local goods\, and handcrafted items. The market operates Wednesdays from 8:00 AM – 9:00 PM and Sundays from 9:00 AM – 9:00 PM at 59700 Twentynine Palms Hwy.\, Joshua Tree\, CA. Enjoy a vibrant community atmosphere while supporting local farmers and artisans!
URL:https://bosd3.sbcounty.gov/event/farmers-market-twentynine-palms/2026-07-15/
LOCATION:Joshua Tree Retreat Center\, 59700 Twentynine Palms Hwy\, Joshua Tree\, CA\, United States
END:VEVENT
BEGIN:VEVENT
DTSTART;TZID=America/Los_Angeles:20260722T080000
DTEND;TZID=America/Los_Angeles:20260722T210000
DTSTAMP:20260424T183430
CREATED:20250301T002511Z
LAST-MODIFIED:20250301T002511Z
UID:10021952-1784707200-1784754000@bosd3.sbcounty.gov
SUMMARY:Farmers Market - Twentynine Palms
DESCRIPTION:Visit the Twentynine Palms Farmers Market\, open year-round\, to shop fresh produce\, local goods\, and handcrafted items. The market operates Wednesdays from 8:00 AM – 9:00 PM and Sundays from 9:00 AM – 9:00 PM at 59700 Twentynine Palms Hwy.\, Joshua Tree\, CA. Enjoy a vibrant community atmosphere while supporting local farmers and artisans!
URL:https://bosd3.sbcounty.gov/event/farmers-market-twentynine-palms/2026-07-22/
LOCATION:Joshua Tree Retreat Center\, 59700 Twentynine Palms Hwy\, Joshua Tree\, CA\, United States
END:VEVENT
BEGIN:VEVENT
DTSTART;TZID=America/Los_Angeles:20260729T080000
DTEND;TZID=America/Los_Angeles:20260729T210000
DTSTAMP:20260424T183430
CREATED:20250301T002511Z
LAST-MODIFIED:20250301T002511Z
UID:10021955-1785312000-1785358800@bosd3.sbcounty.gov
SUMMARY:Farmers Market - Twentynine Palms
DESCRIPTION:Visit the Twentynine Palms Farmers Market\, open year-round\, to shop fresh produce\, local goods\, and handcrafted items. The market operates Wednesdays from 8:00 AM – 9:00 PM and Sundays from 9:00 AM – 9:00 PM at 59700 Twentynine Palms Hwy.\, Joshua Tree\, CA. Enjoy a vibrant community atmosphere while supporting local farmers and artisans!
URL:https://bosd3.sbcounty.gov/event/farmers-market-twentynine-palms/2026-07-29/
LOCATION:Joshua Tree Retreat Center\, 59700 Twentynine Palms Hwy\, Joshua Tree\, CA\, United States
END:VEVENT
BEGIN:VEVENT
DTSTART;TZID=America/Los_Angeles:20260805T080000
DTEND;TZID=America/Los_Angeles:20260805T210000
DTSTAMP:20260424T183430
CREATED:20250301T002511Z
LAST-MODIFIED:20250301T002511Z
UID:10021958-1785916800-1785963600@bosd3.sbcounty.gov
SUMMARY:Farmers Market - Twentynine Palms
DESCRIPTION:Visit the Twentynine Palms Farmers Market\, open year-round\, to shop fresh produce\, local goods\, and handcrafted items. The market operates Wednesdays from 8:00 AM – 9:00 PM and Sundays from 9:00 AM – 9:00 PM at 59700 Twentynine Palms Hwy.\, Joshua Tree\, CA. Enjoy a vibrant community atmosphere while supporting local farmers and artisans!
URL:https://bosd3.sbcounty.gov/event/farmers-market-twentynine-palms/2026-08-05/
LOCATION:Joshua Tree Retreat Center\, 59700 Twentynine Palms Hwy\, Joshua Tree\, CA\, United States
END:VEVENT
BEGIN:VEVENT
DTSTART;TZID=America/Los_Angeles:20260812T080000
DTEND;TZID=America/Los_Angeles:20260812T210000
DTSTAMP:20260424T183430
CREATED:20250301T002511Z
LAST-MODIFIED:20250301T002511Z
UID:10021961-1786521600-1786568400@bosd3.sbcounty.gov
SUMMARY:Farmers Market - Twentynine Palms
DESCRIPTION:Visit the Twentynine Palms Farmers Market\, open year-round\, to shop fresh produce\, local goods\, and handcrafted items. The market operates Wednesdays from 8:00 AM – 9:00 PM and Sundays from 9:00 AM – 9:00 PM at 59700 Twentynine Palms Hwy.\, Joshua Tree\, CA. Enjoy a vibrant community atmosphere while supporting local farmers and artisans!
URL:https://bosd3.sbcounty.gov/event/farmers-market-twentynine-palms/2026-08-12/
LOCATION:Joshua Tree Retreat Center\, 59700 Twentynine Palms Hwy\, Joshua Tree\, CA\, United States
END:VEVENT
BEGIN:VEVENT
DTSTART;TZID=America/Los_Angeles:20260819T080000
DTEND;TZID=America/Los_Angeles:20260819T210000
DTSTAMP:20260424T183430
CREATED:20250301T002511Z
LAST-MODIFIED:20250301T002511Z
UID:10021964-1787126400-1787173200@bosd3.sbcounty.gov
SUMMARY:Farmers Market - Twentynine Palms
DESCRIPTION:Visit the Twentynine Palms Farmers Market\, open year-round\, to shop fresh produce\, local goods\, and handcrafted items. The market operates Wednesdays from 8:00 AM – 9:00 PM and Sundays from 9:00 AM – 9:00 PM at 59700 Twentynine Palms Hwy.\, Joshua Tree\, CA. Enjoy a vibrant community atmosphere while supporting local farmers and artisans!
URL:https://bosd3.sbcounty.gov/event/farmers-market-twentynine-palms/2026-08-19/
LOCATION:Joshua Tree Retreat Center\, 59700 Twentynine Palms Hwy\, Joshua Tree\, CA\, United States
END:VEVENT
BEGIN:VEVENT
DTSTART;TZID=America/Los_Angeles:20260826T080000
DTEND;TZID=America/Los_Angeles:20260826T210000
DTSTAMP:20260424T183430
CREATED:20250301T002511Z
LAST-MODIFIED:20250301T002511Z
UID:10021967-1787731200-1787778000@bosd3.sbcounty.gov
SUMMARY:Farmers Market - Twentynine Palms
DESCRIPTION:Visit the Twentynine Palms Farmers Market\, open year-round\, to shop fresh produce\, local goods\, and handcrafted items. The market operates Wednesdays from 8:00 AM – 9:00 PM and Sundays from 9:00 AM – 9:00 PM at 59700 Twentynine Palms Hwy.\, Joshua Tree\, CA. Enjoy a vibrant community atmosphere while supporting local farmers and artisans!
URL:https://bosd3.sbcounty.gov/event/farmers-market-twentynine-palms/2026-08-26/
LOCATION:Joshua Tree Retreat Center\, 59700 Twentynine Palms Hwy\, Joshua Tree\, CA\, United States
END:VEVENT
BEGIN:VEVENT
DTSTART;TZID=America/Los_Angeles:20260902T080000
DTEND;TZID=America/Los_Angeles:20260902T210000
DTSTAMP:20260424T183430
CREATED:20250301T002511Z
LAST-MODIFIED:20250301T002511Z
UID:10021970-1788336000-1788382800@bosd3.sbcounty.gov
SUMMARY:Farmers Market - Twentynine Palms
DESCRIPTION:Visit the Twentynine Palms Farmers Market\, open year-round\, to shop fresh produce\, local goods\, and handcrafted items. The market operates Wednesdays from 8:00 AM – 9:00 PM and Sundays from 9:00 AM – 9:00 PM at 59700 Twentynine Palms Hwy.\, Joshua Tree\, CA. Enjoy a vibrant community atmosphere while supporting local farmers and artisans!
URL:https://bosd3.sbcounty.gov/event/farmers-market-twentynine-palms/2026-09-02/
LOCATION:Joshua Tree Retreat Center\, 59700 Twentynine Palms Hwy\, Joshua Tree\, CA\, United States
END:VEVENT
BEGIN:VEVENT
DTSTART;TZID=America/Los_Angeles:20260909T080000
DTEND;TZID=America/Los_Angeles:20260909T210000
DTSTAMP:20260424T183430
CREATED:20250301T002511Z
LAST-MODIFIED:20250301T002511Z
UID:10021973-1788940800-1788987600@bosd3.sbcounty.gov
SUMMARY:Farmers Market - Twentynine Palms
DESCRIPTION:Visit the Twentynine Palms Farmers Market\, open year-round\, to shop fresh produce\, local goods\, and handcrafted items. The market operates Wednesdays from 8:00 AM – 9:00 PM and Sundays from 9:00 AM – 9:00 PM at 59700 Twentynine Palms Hwy.\, Joshua Tree\, CA. Enjoy a vibrant community atmosphere while supporting local farmers and artisans!
URL:https://bosd3.sbcounty.gov/event/farmers-market-twentynine-palms/2026-09-09/
LOCATION:Joshua Tree Retreat Center\, 59700 Twentynine Palms Hwy\, Joshua Tree\, CA\, United States
END:VEVENT
BEGIN:VEVENT
DTSTART;TZID=America/Los_Angeles:20260916T080000
DTEND;TZID=America/Los_Angeles:20260916T210000
DTSTAMP:20260424T183430
CREATED:20250301T002511Z
LAST-MODIFIED:20250301T002511Z
UID:10021976-1789545600-1789592400@bosd3.sbcounty.gov
SUMMARY:Farmers Market - Twentynine Palms
DESCRIPTION:Visit the Twentynine Palms Farmers Market\, open year-round\, to shop fresh produce\, local goods\, and handcrafted items. The market operates Wednesdays from 8:00 AM – 9:00 PM and Sundays from 9:00 AM – 9:00 PM at 59700 Twentynine Palms Hwy.\, Joshua Tree\, CA. Enjoy a vibrant community atmosphere while supporting local farmers and artisans!
URL:https://bosd3.sbcounty.gov/event/farmers-market-twentynine-palms/2026-09-16/
LOCATION:Joshua Tree Retreat Center\, 59700 Twentynine Palms Hwy\, Joshua Tree\, CA\, United States
END:VEVENT
BEGIN:VEVENT
DTSTART;TZID=America/Los_Angeles:20260923T080000
DTEND;TZID=America/Los_Angeles:20260923T210000
DTSTAMP:20260424T183430
CREATED:20250301T002511Z
LAST-MODIFIED:20250301T002511Z
UID:10021979-1790150400-1790197200@bosd3.sbcounty.gov
SUMMARY:Farmers Market - Twentynine Palms
DESCRIPTION:Visit the Twentynine Palms Farmers Market\, open year-round\, to shop fresh produce\, local goods\, and handcrafted items. The market operates Wednesdays from 8:00 AM – 9:00 PM and Sundays from 9:00 AM – 9:00 PM at 59700 Twentynine Palms Hwy.\, Joshua Tree\, CA. Enjoy a vibrant community atmosphere while supporting local farmers and artisans!
URL:https://bosd3.sbcounty.gov/event/farmers-market-twentynine-palms/2026-09-23/
LOCATION:Joshua Tree Retreat Center\, 59700 Twentynine Palms Hwy\, Joshua Tree\, CA\, United States
END:VEVENT
BEGIN:VEVENT
DTSTART;TZID=America/Los_Angeles:20260930T080000
DTEND;TZID=America/Los_Angeles:20260930T210000
DTSTAMP:20260424T183430
CREATED:20250301T002511Z
LAST-MODIFIED:20250301T002511Z
UID:10021982-1790755200-1790802000@bosd3.sbcounty.gov
SUMMARY:Farmers Market - Twentynine Palms
DESCRIPTION:Visit the Twentynine Palms Farmers Market\, open year-round\, to shop fresh produce\, local goods\, and handcrafted items. The market operates Wednesdays from 8:00 AM – 9:00 PM and Sundays from 9:00 AM – 9:00 PM at 59700 Twentynine Palms Hwy.\, Joshua Tree\, CA. Enjoy a vibrant community atmosphere while supporting local farmers and artisans!
URL:https://bosd3.sbcounty.gov/event/farmers-market-twentynine-palms/2026-09-30/
LOCATION:Joshua Tree Retreat Center\, 59700 Twentynine Palms Hwy\, Joshua Tree\, CA\, United States
END:VEVENT
BEGIN:VEVENT
DTSTART;TZID=America/Los_Angeles:20261007T080000
DTEND;TZID=America/Los_Angeles:20261007T210000
DTSTAMP:20260424T183430
CREATED:20250301T002511Z
LAST-MODIFIED:20250301T002511Z
UID:10021985-1791360000-1791406800@bosd3.sbcounty.gov
SUMMARY:Farmers Market - Twentynine Palms
DESCRIPTION:Visit the Twentynine Palms Farmers Market\, open year-round\, to shop fresh produce\, local goods\, and handcrafted items. The market operates Wednesdays from 8:00 AM – 9:00 PM and Sundays from 9:00 AM – 9:00 PM at 59700 Twentynine Palms Hwy.\, Joshua Tree\, CA. Enjoy a vibrant community atmosphere while supporting local farmers and artisans!
URL:https://bosd3.sbcounty.gov/event/farmers-market-twentynine-palms/2026-10-07/
LOCATION:Joshua Tree Retreat Center\, 59700 Twentynine Palms Hwy\, Joshua Tree\, CA\, United States
END:VEVENT
BEGIN:VEVENT
DTSTART;TZID=America/Los_Angeles:20261014T080000
DTEND;TZID=America/Los_Angeles:20261014T210000
DTSTAMP:20260424T183430
CREATED:20250301T002511Z
LAST-MODIFIED:20250301T002511Z
UID:10021988-1791964800-1792011600@bosd3.sbcounty.gov
SUMMARY:Farmers Market - Twentynine Palms
DESCRIPTION:Visit the Twentynine Palms Farmers Market\, open year-round\, to shop fresh produce\, local goods\, and handcrafted items. The market operates Wednesdays from 8:00 AM – 9:00 PM and Sundays from 9:00 AM – 9:00 PM at 59700 Twentynine Palms Hwy.\, Joshua Tree\, CA. Enjoy a vibrant community atmosphere while supporting local farmers and artisans!
URL:https://bosd3.sbcounty.gov/event/farmers-market-twentynine-palms/2026-10-14/
LOCATION:Joshua Tree Retreat Center\, 59700 Twentynine Palms Hwy\, Joshua Tree\, CA\, United States
END:VEVENT
BEGIN:VEVENT
DTSTART;TZID=America/Los_Angeles:20261021T080000
DTEND;TZID=America/Los_Angeles:20261021T210000
DTSTAMP:20260424T183430
CREATED:20250301T002511Z
LAST-MODIFIED:20250301T002511Z
UID:10021991-1792569600-1792616400@bosd3.sbcounty.gov
SUMMARY:Farmers Market - Twentynine Palms
DESCRIPTION:Visit the Twentynine Palms Farmers Market\, open year-round\, to shop fresh produce\, local goods\, and handcrafted items. The market operates Wednesdays from 8:00 AM – 9:00 PM and Sundays from 9:00 AM – 9:00 PM at 59700 Twentynine Palms Hwy.\, Joshua Tree\, CA. Enjoy a vibrant community atmosphere while supporting local farmers and artisans!
URL:https://bosd3.sbcounty.gov/event/farmers-market-twentynine-palms/2026-10-21/
LOCATION:Joshua Tree Retreat Center\, 59700 Twentynine Palms Hwy\, Joshua Tree\, CA\, United States
END:VEVENT
BEGIN:VEVENT
DTSTART;TZID=America/Los_Angeles:20261028T080000
DTEND;TZID=America/Los_Angeles:20261028T210000
DTSTAMP:20260424T183430
CREATED:20250301T002511Z
LAST-MODIFIED:20250301T002511Z
UID:10021994-1793174400-1793221200@bosd3.sbcounty.gov
SUMMARY:Farmers Market - Twentynine Palms
DESCRIPTION:Visit the Twentynine Palms Farmers Market\, open year-round\, to shop fresh produce\, local goods\, and handcrafted items. The market operates Wednesdays from 8:00 AM – 9:00 PM and Sundays from 9:00 AM – 9:00 PM at 59700 Twentynine Palms Hwy.\, Joshua Tree\, CA. Enjoy a vibrant community atmosphere while supporting local farmers and artisans!
URL:https://bosd3.sbcounty.gov/event/farmers-market-twentynine-palms/2026-10-28/
LOCATION:Joshua Tree Retreat Center\, 59700 Twentynine Palms Hwy\, Joshua Tree\, CA\, United States
END:VEVENT
BEGIN:VEVENT
DTSTART;TZID=America/Los_Angeles:20261104T080000
DTEND;TZID=America/Los_Angeles:20261104T210000
DTSTAMP:20260424T183430
CREATED:20250301T002511Z
LAST-MODIFIED:20250301T002511Z
UID:10021997-1793779200-1793826000@bosd3.sbcounty.gov
SUMMARY:Farmers Market - Twentynine Palms
DESCRIPTION:Visit the Twentynine Palms Farmers Market\, open year-round\, to shop fresh produce\, local goods\, and handcrafted items. The market operates Wednesdays from 8:00 AM – 9:00 PM and Sundays from 9:00 AM – 9:00 PM at 59700 Twentynine Palms Hwy.\, Joshua Tree\, CA. Enjoy a vibrant community atmosphere while supporting local farmers and artisans!
URL:https://bosd3.sbcounty.gov/event/farmers-market-twentynine-palms/2026-11-04/
LOCATION:Joshua Tree Retreat Center\, 59700 Twentynine Palms Hwy\, Joshua Tree\, CA\, United States
END:VEVENT
BEGIN:VEVENT
DTSTART;TZID=America/Los_Angeles:20261111T080000
DTEND;TZID=America/Los_Angeles:20261111T210000
DTSTAMP:20260424T183430
CREATED:20250301T002511Z
LAST-MODIFIED:20250301T002511Z
UID:10022000-1794384000-1794430800@bosd3.sbcounty.gov
SUMMARY:Farmers Market - Twentynine Palms
DESCRIPTION:Visit the Twentynine Palms Farmers Market\, open year-round\, to shop fresh produce\, local goods\, and handcrafted items. The market operates Wednesdays from 8:00 AM – 9:00 PM and Sundays from 9:00 AM – 9:00 PM at 59700 Twentynine Palms Hwy.\, Joshua Tree\, CA. Enjoy a vibrant community atmosphere while supporting local farmers and artisans!
URL:https://bosd3.sbcounty.gov/event/farmers-market-twentynine-palms/2026-11-11/
LOCATION:Joshua Tree Retreat Center\, 59700 Twentynine Palms Hwy\, Joshua Tree\, CA\, United States
END:VEVENT
BEGIN:VEVENT
DTSTART;TZID=America/Los_Angeles:20261118T080000
DTEND;TZID=America/Los_Angeles:20261118T210000
DTSTAMP:20260424T183430
CREATED:20250301T002511Z
LAST-MODIFIED:20250301T002511Z
UID:10022003-1794988800-1795035600@bosd3.sbcounty.gov
SUMMARY:Farmers Market - Twentynine Palms
DESCRIPTION:Visit the Twentynine Palms Farmers Market\, open year-round\, to shop fresh produce\, local goods\, and handcrafted items. The market operates Wednesdays from 8:00 AM – 9:00 PM and Sundays from 9:00 AM – 9:00 PM at 59700 Twentynine Palms Hwy.\, Joshua Tree\, CA. Enjoy a vibrant community atmosphere while supporting local farmers and artisans!
URL:https://bosd3.sbcounty.gov/event/farmers-market-twentynine-palms/2026-11-18/
LOCATION:Joshua Tree Retreat Center\, 59700 Twentynine Palms Hwy\, Joshua Tree\, CA\, United States
END:VEVENT
END:VCALENDAR