BEGIN:VCALENDAR
VERSION:2.0
PRODID:-//Dawn Rowe Third District Supervisor - ECPv6.15.14//NONSGML v1.0//EN
CALSCALE:GREGORIAN
METHOD:PUBLISH
X-WR-CALNAME:Dawn Rowe Third District Supervisor
X-ORIGINAL-URL:https://bosd3.sbcounty.gov
X-WR-CALDESC:Events for Dawn Rowe Third District Supervisor
REFRESH-INTERVAL;VALUE=DURATION:PT1H
X-Robots-Tag:noindex
X-PUBLISHED-TTL:PT1H
BEGIN:VTIMEZONE
TZID:America/Los_Angeles
BEGIN:DAYLIGHT
TZOFFSETFROM:-0800
TZOFFSETTO:-0700
TZNAME:PDT
DTSTART:20230312T100000
END:DAYLIGHT
BEGIN:STANDARD
TZOFFSETFROM:-0700
TZOFFSETTO:-0800
TZNAME:PST
DTSTART:20231105T090000
END:STANDARD
BEGIN:DAYLIGHT
TZOFFSETFROM:-0800
TZOFFSETTO:-0700
TZNAME:PDT
DTSTART:20240310T100000
END:DAYLIGHT
BEGIN:STANDARD
TZOFFSETFROM:-0700
TZOFFSETTO:-0800
TZNAME:PST
DTSTART:20241103T090000
END:STANDARD
BEGIN:DAYLIGHT
TZOFFSETFROM:-0800
TZOFFSETTO:-0700
TZNAME:PDT
DTSTART:20250309T100000
END:DAYLIGHT
BEGIN:STANDARD
TZOFFSETFROM:-0700
TZOFFSETTO:-0800
TZNAME:PST
DTSTART:20251102T090000
END:STANDARD
END:VTIMEZONE
BEGIN:VEVENT
DTSTART;TZID=America/Los_Angeles:20240426T100000
DTEND;TZID=America/Los_Angeles:20240426T110000
DTSTAMP:20260421T193556
CREATED:20230623T225951Z
LAST-MODIFIED:20230623T225951Z
UID:10017954-1714125600-1714129200@bosd3.sbcounty.gov
SUMMARY:Children's Memorial Flag Ceremony
DESCRIPTION:The Children’s Memorial Day was established by the California Assembly in April 1997\, which formally declared the fourth Friday in April as a statewide annual observance day: on the fourth Friday in April every year the Children’s Memorial Flag is to be flown statewide in memory of all California young lives lost to violence in the previous year.
URL:https://bosd3.sbcounty.gov/event/childrens-memorial-flag-ceremony/
LOCATION:San Bernardino County Government Center\, 385 N. Arrowhead Avenue\, San Bernardino\, CA\, United States
END:VEVENT
BEGIN:VEVENT
DTSTART;TZID=America/Los_Angeles:20240426T190000
DTEND;TZID=America/Los_Angeles:20240426T210000
DTSTAMP:20260421T193556
CREATED:20240108T205615Z
LAST-MODIFIED:20240108T205615Z
UID:10019070-1714158000-1714165200@bosd3.sbcounty.gov
SUMMARY:Fiddler on the Roof - Redlands
DESCRIPTION:Winner of nine Tony Awards\, “Fiddler on the Roof” has touched audiences worldwide with its humor\, warmth\, and honesty.  This tale of Tevye the Dairyman and his family’s struggles in a changing Russia is a true musical theatre tradition!
URL:https://bosd3.sbcounty.gov/event/fiddler-on-the-roof-redlands/2024-04-26/
LOCATION:Lifehouse Theater\, 1135 Church Street\, Redlands\, CA\, United States
END:VEVENT
END:VCALENDAR