BEGIN:VCALENDAR
VERSION:2.0
PRODID:-//Dawn Rowe Third District Supervisor - ECPv6.15.14//NONSGML v1.0//EN
CALSCALE:GREGORIAN
METHOD:PUBLISH
X-WR-CALNAME:Dawn Rowe Third District Supervisor
X-ORIGINAL-URL:https://bosd3.sbcounty.gov
X-WR-CALDESC:Events for Dawn Rowe Third District Supervisor
REFRESH-INTERVAL;VALUE=DURATION:PT1H
X-Robots-Tag:noindex
X-PUBLISHED-TTL:PT1H
BEGIN:VTIMEZONE
TZID:America/Los_Angeles
BEGIN:DAYLIGHT
TZOFFSETFROM:-0800
TZOFFSETTO:-0700
TZNAME:PDT
DTSTART:20230312T100000
END:DAYLIGHT
BEGIN:STANDARD
TZOFFSETFROM:-0700
TZOFFSETTO:-0800
TZNAME:PST
DTSTART:20231105T090000
END:STANDARD
BEGIN:DAYLIGHT
TZOFFSETFROM:-0800
TZOFFSETTO:-0700
TZNAME:PDT
DTSTART:20240310T100000
END:DAYLIGHT
BEGIN:STANDARD
TZOFFSETFROM:-0700
TZOFFSETTO:-0800
TZNAME:PST
DTSTART:20241103T090000
END:STANDARD
BEGIN:DAYLIGHT
TZOFFSETFROM:-0800
TZOFFSETTO:-0700
TZNAME:PDT
DTSTART:20250309T100000
END:DAYLIGHT
BEGIN:STANDARD
TZOFFSETFROM:-0700
TZOFFSETTO:-0800
TZNAME:PST
DTSTART:20251102T090000
END:STANDARD
END:VTIMEZONE
BEGIN:VEVENT
DTSTART;TZID=America/Los_Angeles:20240417T090000
DTEND;TZID=America/Los_Angeles:20240417T120000
DTSTAMP:20260421T193558
CREATED:20240403T181016Z
LAST-MODIFIED:20240403T181016Z
UID:10019276-1713344400-1713355200@bosd3.sbcounty.gov
SUMMARY:EMS & Tactical Medicine Expo - Colton
DESCRIPTION:You still have the opportunity to sign up for our 12th Annual EMS & Tactical Medicine Expo on Wednesday\, April 17! Registration will close on Monday\, April 8. Come pay tribute to Emergency and Tactical Medicine Professionals\, First Responders\, and Law Enforcement teams. \n 
URL:https://bosd3.sbcounty.gov/event/ems-tactical-medicine-expo-colton/
LOCATION:Arrowhead Regional Medical Center\, 400 N. Pepper Avenue\, Colton\, CA\, United States
ORGANIZER;CN="Arrowhead Regional Medical Center Foundation":MAILTO:ARMCFoundation@armc.sbcounty.gov
END:VEVENT
BEGIN:VEVENT
DTSTART;TZID=America/Los_Angeles:20240417T120000
DTEND;TZID=America/Los_Angeles:20240417T130000
DTSTAMP:20260421T193558
CREATED:20240403T184100Z
LAST-MODIFIED:20240403T184100Z
UID:10019294-1713355200-1713358800@bosd3.sbcounty.gov
SUMMARY:Public Safety Appreciation Week - Highland
DESCRIPTION:Join the City of Highland for lunch and to show appreciation to Highland’s first responders. Please bring a dish to share and enjoy lunch with local fire and police personnel at any of the scheduled potluck lunches.
URL:https://bosd3.sbcounty.gov/event/public-safety-appreciation-week-highland-2/
LOCATION:Highland Fire Station #1\, 26974 Base Line\, Highland\, CA\, 92346\, United States
END:VEVENT
END:VCALENDAR