BEGIN:VCALENDAR
VERSION:2.0
PRODID:-//Dawn Rowe Third District Supervisor - ECPv6.15.14//NONSGML v1.0//EN
CALSCALE:GREGORIAN
METHOD:PUBLISH
X-WR-CALNAME:Dawn Rowe Third District Supervisor
X-ORIGINAL-URL:https://bosd3.sbcounty.gov
X-WR-CALDESC:Events for Dawn Rowe Third District Supervisor
REFRESH-INTERVAL;VALUE=DURATION:PT1H
X-Robots-Tag:noindex
X-PUBLISHED-TTL:PT1H
BEGIN:VTIMEZONE
TZID:America/Los_Angeles
BEGIN:DAYLIGHT
TZOFFSETFROM:-0800
TZOFFSETTO:-0700
TZNAME:PDT
DTSTART:20230312T100000
END:DAYLIGHT
BEGIN:STANDARD
TZOFFSETFROM:-0700
TZOFFSETTO:-0800
TZNAME:PST
DTSTART:20231105T090000
END:STANDARD
BEGIN:DAYLIGHT
TZOFFSETFROM:-0800
TZOFFSETTO:-0700
TZNAME:PDT
DTSTART:20240310T100000
END:DAYLIGHT
BEGIN:STANDARD
TZOFFSETFROM:-0700
TZOFFSETTO:-0800
TZNAME:PST
DTSTART:20241103T090000
END:STANDARD
BEGIN:DAYLIGHT
TZOFFSETFROM:-0800
TZOFFSETTO:-0700
TZNAME:PDT
DTSTART:20250309T100000
END:DAYLIGHT
BEGIN:STANDARD
TZOFFSETFROM:-0700
TZOFFSETTO:-0800
TZNAME:PST
DTSTART:20251102T090000
END:STANDARD
END:VTIMEZONE
BEGIN:VEVENT
DTSTART;TZID=America/Los_Angeles:20240323T080000
DTEND;TZID=America/Los_Angeles:20240323T130000
DTSTAMP:20260422T040323
CREATED:20231122T222512Z
LAST-MODIFIED:20250203T231440Z
UID:10018284-1711180800-1711198800@bosd3.sbcounty.gov
SUMMARY:Certified Farmers Market - Twentynine Palms
DESCRIPTION:Shop fresh\, seasonal\, and locally grown fruits\, vegetables\, eggs\, honey\, and more at the 29 Palms Certified Farmers Market! Now in its new location at the newly completed Freedom Plaza in downtown 29 Palms\, this weekly market has expanded and grown in incredible ways. In addition to fresh produce\, count on a variety of local artisans and food and beverage vendors. Open every Saturday morning from 8 a.m. to 1 p.m.
URL:https://bosd3.sbcounty.gov/event/certified-farmers-market-twentynine-palms/2024-03-23/
LOCATION:Freedom Plaza\, 6547 Freedom Way\, Twentynine Palms\, CA\, 92277\, United States
ORGANIZER;CN="City of Twentynine Palms":MAILTO:cvillescas@29palms.org
END:VEVENT
BEGIN:VEVENT
DTSTART;TZID=America/Los_Angeles:20240323T090000
DTEND;TZID=America/Los_Angeles:20240323T120000
DTSTAMP:20260422T040323
CREATED:20240318T231507Z
LAST-MODIFIED:20240318T231507Z
UID:10019255-1711184400-1711195200@bosd3.sbcounty.gov
SUMMARY:Household Hazardous Waste Collection - Lucerne Valley
DESCRIPTION:
URL:https://bosd3.sbcounty.gov/event/household-hazardous-waste-collection-lucerne-valley/
LOCATION:Lucerne Valley Fire Station\, 33269 Old Woman Springs Road\, Lucerne Valley\, CA\, United States
END:VEVENT
BEGIN:VEVENT
DTSTART;TZID=America/Los_Angeles:20240323T090000
DTEND;TZID=America/Los_Angeles:20240323T120000
DTSTAMP:20260422T040323
CREATED:20240319T000023Z
LAST-MODIFIED:20240319T000023Z
UID:10019273-1711184400-1711195200@bosd3.sbcounty.gov
SUMMARY:Healthy Hearts 5K Run & 2K Walk - Yucca Valley
DESCRIPTION:There is still time to register for the Town of Yucca Valley for the Healthy Heart 5k Run and 2k Health Walk event on Saturday\, March 23. Both events start at 9 a.m. at Essig Park.
URL:https://bosd3.sbcounty.gov/event/healthy-hearts-5k-run-2k-walk-yucca-valley/
LOCATION:Essig Park\, 8300 Warren Vista Avenue\, Yucca Valley\, CA\, 92284\, United States
END:VEVENT
BEGIN:VEVENT
DTSTART;TZID=America/Los_Angeles:20240323T090000
DTEND;TZID=America/Los_Angeles:20240323T140000
DTSTAMP:20260422T040323
CREATED:20240202T200907Z
LAST-MODIFIED:20240202T200907Z
UID:10017660-1711184400-1711202400@bosd3.sbcounty.gov
SUMMARY:Free Compost Giveaway - Barstow
DESCRIPTION:Barstow residents can get FREE compost offered by Burrtec every Saturday in 2024. Visit the convenient Corp Yard location alongside HHW at 900 S Ave H on Saturdays from 9 am to 2 pm to get the free compost. It’s available exclusively for city residents on a first-come\, first-served basis.
URL:https://bosd3.sbcounty.gov/event/free-compost-giveaway-barstow/2024-03-23/
LOCATION:City Corporation Yard\, 900 S. Avenue H\, Barstow\, CA\, United States
ORGANIZER;CN="City of Barstow":MAILTO:info@barstowca.org
END:VEVENT
BEGIN:VEVENT
DTSTART;TZID=America/Los_Angeles:20240323T100000
DTEND;TZID=America/Los_Angeles:20240323T120000
DTSTAMP:20260422T040323
CREATED:20240318T230746Z
LAST-MODIFIED:20240318T230746Z
UID:10019249-1711188000-1711195200@bosd3.sbcounty.gov
SUMMARY:Eggstravaganza - Yucaipa
DESCRIPTION:The City of Yucaipa presents an Easter Egg Hunt with different hunt times for different ages groups!
URL:https://bosd3.sbcounty.gov/event/eggstravaganza-yucaipa/
LOCATION:Yucaipa Community Park\, 34900 Oak Glen Road\, Yucaipa\, CA\, 92399\, United States
END:VEVENT
BEGIN:VEVENT
DTSTART;TZID=America/Los_Angeles:20240323T110000
DTEND;TZID=America/Los_Angeles:20240323T130000
DTSTAMP:20260422T040323
CREATED:20240318T224956Z
LAST-MODIFIED:20240318T224956Z
UID:10019237-1711191600-1711198800@bosd3.sbcounty.gov
SUMMARY:The Great Golden Egg Search - Twin Peaks
DESCRIPTION:Hidden among the candy filled greens\, blues\, purples\, and pinks are the rare GOLDEN EGGS\, with Park District prizes attached to it! Can you be the next golden egg winner?\n\nAfter the Egg Search\, families can join the Park District at the Twin Peaks Community Center to visit with the Easter Bunny and take family photos with our spring photo backdrops. The Park District will have milk & cookies\, coloring pages\, and a bunny ring toss.
URL:https://bosd3.sbcounty.gov/event/the-great-golden-egg-search-twin-peaks/
LOCATION:Twin Peaks Recreation Complex\, 737 Grandview Road\, Twin Peaks\, CA\, 92391\, United States
ORGANIZER;CN="Rim Of the World Recreation and Park District":MAILTO:info@rim-rec.org
END:VEVENT
BEGIN:VEVENT
DTSTART;TZID=America/Los_Angeles:20240323T110000
DTEND;TZID=America/Los_Angeles:20240323T160000
DTSTAMP:20260422T040323
CREATED:20240318T233128Z
LAST-MODIFIED:20240318T233128Z
UID:10019264-1711191600-1711209600@bosd3.sbcounty.gov
SUMMARY:Arthropolooza: The Ultimate Bug Fest - Redlands
DESCRIPTION:If creepy crawlies don’t give you the creeps\, then Arthropolooza: The Ultimate Bugfest will. Head to San Bernardino County Museum on Saturday and/or Sunday\, March 23-24\, from 11 a.m. to 4 p.m. to celebrate all things creepy\, crawly\, sticky\, prickly\, wiggly\, yucky\, and cute.
URL:https://bosd3.sbcounty.gov/event/arthropolooza-the-ultimate-bug-fest-redlands/
LOCATION:San Bernardino County Museum\, 2024 Orange Tree Lane\, Redlands\, CA\, 92374\, United States
ORGANIZER;CN="San Bernardino County Museum Association":MAILTO:zachary.tucker@sbcm.sbcounty.gov
END:VEVENT
BEGIN:VEVENT
DTSTART;TZID=America/Los_Angeles:20240323T140000
DTEND;TZID=America/Los_Angeles:20240323T170000
DTSTAMP:20260422T040323
CREATED:20240309T155239Z
LAST-MODIFIED:20240309T155239Z
UID:10019028-1711202400-1711213200@bosd3.sbcounty.gov
SUMMARY:The Genesis Story - Redlands
DESCRIPTION:Lifehouse Theater in Redlands presents the story of Seth\, son of Adam and Eve.
URL:https://bosd3.sbcounty.gov/event/the-genesis-story-redlands/2024-03-23/
LOCATION:Lifehouse Theater\, 1135 Church Street\, Redlands\, CA\, United States
END:VEVENT
BEGIN:VEVENT
DTSTART;TZID=America/Los_Angeles:20240323T190000
DTEND;TZID=America/Los_Angeles:20240323T210000
DTSTAMP:20260422T040323
CREATED:20240108T204848Z
LAST-MODIFIED:20240108T204848Z
UID:10018998-1711220400-1711227600@bosd3.sbcounty.gov
SUMMARY:The Genesis Story - Redlands
DESCRIPTION:Lifehouse Theater in Redlands presents the story of Seth\, son of Adam and Eve.
URL:https://bosd3.sbcounty.gov/event/the-genesis-story-redlands/2024-03-23/
LOCATION:Lifehouse Theater\, 1135 Church Street\, Redlands\, CA\, United States
END:VEVENT
BEGIN:VEVENT
DTSTART;TZID=America/Los_Angeles:20240323T190000
DTEND;TZID=America/Los_Angeles:20240323T210000
DTSTAMP:20260422T040323
CREATED:20240318T232603Z
LAST-MODIFIED:20240318T232603Z
UID:10019258-1711220400-1711227600@bosd3.sbcounty.gov
SUMMARY:Miss Barstow Pageant - Barstow
DESCRIPTION:“Leaping Through the Decades” is the theme of this year’s event. Doors open at 6pm.
URL:https://bosd3.sbcounty.gov/event/miss-barstow-pageant-barstow/
LOCATION:Barstow High School\, 430 S. 1st Avenue\, Barstow\, CA\, 92311\, United States
ORGANIZER;CN="Miss Barstow Pageant":MAILTO:dcrigler@barstowpageant.com
END:VEVENT
BEGIN:VEVENT
DTSTART;TZID=America/Los_Angeles:20240323T200000
DTEND;TZID=America/Los_Angeles:20240323T210000
DTSTAMP:20260422T040323
CREATED:20240318T230919Z
LAST-MODIFIED:20240318T230919Z
UID:10019252-1711224000-1711227600@bosd3.sbcounty.gov
SUMMARY:Glow in the Dark Adult Egg Hunt - Yucaipa
DESCRIPTION:
URL:https://bosd3.sbcounty.gov/event/glow-in-the-dark-adult-egg-hunt-yucaipa/
LOCATION:Yucaipa Community Park\, 34900 Oak Glen Road\, Yucaipa\, CA\, 92399\, United States
END:VEVENT
END:VCALENDAR