BEGIN:VCALENDAR
VERSION:2.0
PRODID:-//Dawn Rowe Third District Supervisor - ECPv6.15.14//NONSGML v1.0//EN
CALSCALE:GREGORIAN
METHOD:PUBLISH
X-WR-CALNAME:Dawn Rowe Third District Supervisor
X-ORIGINAL-URL:https://bosd3.sbcounty.gov
X-WR-CALDESC:Events for Dawn Rowe Third District Supervisor
REFRESH-INTERVAL;VALUE=DURATION:PT1H
X-Robots-Tag:noindex
X-PUBLISHED-TTL:PT1H
BEGIN:VTIMEZONE
TZID:America/Los_Angeles
BEGIN:DAYLIGHT
TZOFFSETFROM:-0800
TZOFFSETTO:-0700
TZNAME:PDT
DTSTART:20230312T100000
END:DAYLIGHT
BEGIN:STANDARD
TZOFFSETFROM:-0700
TZOFFSETTO:-0800
TZNAME:PST
DTSTART:20231105T090000
END:STANDARD
BEGIN:DAYLIGHT
TZOFFSETFROM:-0800
TZOFFSETTO:-0700
TZNAME:PDT
DTSTART:20240310T100000
END:DAYLIGHT
BEGIN:STANDARD
TZOFFSETFROM:-0700
TZOFFSETTO:-0800
TZNAME:PST
DTSTART:20241103T090000
END:STANDARD
BEGIN:DAYLIGHT
TZOFFSETFROM:-0800
TZOFFSETTO:-0700
TZNAME:PDT
DTSTART:20250309T100000
END:DAYLIGHT
BEGIN:STANDARD
TZOFFSETFROM:-0700
TZOFFSETTO:-0800
TZNAME:PST
DTSTART:20251102T090000
END:STANDARD
END:VTIMEZONE
BEGIN:VEVENT
DTSTART;TZID=America/Los_Angeles:20240320T100000
DTEND;TZID=America/Los_Angeles:20240320T140000
DTSTAMP:20260422T040319
CREATED:20240221T223825Z
LAST-MODIFIED:20240221T232034Z
UID:10019196-1710928800-1710943200@bosd3.sbcounty.gov
SUMMARY:Job & Resource Fair - Needles
DESCRIPTION:Needles residents can access services from multiple county\, state\, and local agencies at the El Garces Historic Train Depot on Wednesday\, March 20. \nAt the Resource Fair\, representatives from the County Assessor-Recorder-Clerk office will be issuing copies of vital records (birth\, death\, and marriage certificates)\, providing document recording\, and property assessment information. The San Bernardino County Public Defender’s office will also be on hand to offer record-clearing and expungement assistance. In addition\, the San Bernardino County Department of Veterans Affairs will be available to answer questions about VA benefits and claims-related questions and issue County Veteran ID cards. \nOther participating agencies will include:\n• County Workforce Development Board\n• County Department of Behavioral Health\n• County Transitional Assistance Department\n• Veterans Affairs\n• Needles Chamber of Commerce\n• Colorado River Medical Center\n• Tri-State Community Healthcare\n• Veterans of Foreign Wars Post 404\n• Tri-State Community Health Care \nUse this link to register: https://www.eventbrite.com/e/san-bernardino-county-hiring-event-el-garces-historic-train-depot-needles-tickets-803452607377?aff=oddtdtcreator
URL:https://bosd3.sbcounty.gov/event/job-resource-fair-needles/
LOCATION:El Garces Historic Train Depot\, 950 Front Street\, Needles\, CA\, 92363\, United States
END:VEVENT
END:VCALENDAR