BEGIN:VCALENDAR
VERSION:2.0
PRODID:-//Dawn Rowe Third District Supervisor - ECPv6.15.14//NONSGML v1.0//EN
CALSCALE:GREGORIAN
METHOD:PUBLISH
X-ORIGINAL-URL:https://bosd3.sbcounty.gov
X-WR-CALDESC:Events for Dawn Rowe Third District Supervisor
REFRESH-INTERVAL;VALUE=DURATION:PT1H
X-Robots-Tag:noindex
X-PUBLISHED-TTL:PT1H
BEGIN:VTIMEZONE
TZID:America/Los_Angeles
BEGIN:DAYLIGHT
TZOFFSETFROM:-0800
TZOFFSETTO:-0700
TZNAME:PDT
DTSTART:20220313T100000
END:DAYLIGHT
BEGIN:STANDARD
TZOFFSETFROM:-0700
TZOFFSETTO:-0800
TZNAME:PST
DTSTART:20221106T090000
END:STANDARD
BEGIN:DAYLIGHT
TZOFFSETFROM:-0800
TZOFFSETTO:-0700
TZNAME:PDT
DTSTART:20230312T100000
END:DAYLIGHT
BEGIN:STANDARD
TZOFFSETFROM:-0700
TZOFFSETTO:-0800
TZNAME:PST
DTSTART:20231105T090000
END:STANDARD
BEGIN:DAYLIGHT
TZOFFSETFROM:-0800
TZOFFSETTO:-0700
TZNAME:PDT
DTSTART:20240310T100000
END:DAYLIGHT
BEGIN:STANDARD
TZOFFSETFROM:-0700
TZOFFSETTO:-0800
TZNAME:PST
DTSTART:20241103T090000
END:STANDARD
END:VTIMEZONE
BEGIN:VEVENT
DTSTART;TZID=America/Los_Angeles:20230207T083000
DTEND;TZID=America/Los_Angeles:20230207T130000
DTSTAMP:20260419T153426
CREATED:20210416T190027Z
LAST-MODIFIED:20210416T190027Z
UID:10015413-1675758600-1675774800@bosd3.sbcounty.gov
SUMMARY:Farmers Market-Big Bear
DESCRIPTION:
URL:https://bosd3.sbcounty.gov/event/farmers-market-big-bear/2023-02-07/
LOCATION:Big Bear Lake Convention Center\, 42900 Big Bear Blvd.\, Big Bear Lake\, CA\, United States
END:VEVENT
BEGIN:VEVENT
DTSTART;TZID=America/Los_Angeles:20230207T100000
DTEND;TZID=America/Los_Angeles:20230207T170000
DTSTAMP:20260419T153426
CREATED:20230118T224541Z
LAST-MODIFIED:20230118T224541Z
UID:10017495-1675764000-1675789200@bosd3.sbcounty.gov
SUMMARY:San Bernardino County Board of Supervisors meeting
DESCRIPTION:
URL:https://bosd3.sbcounty.gov/event/san-bernardino-county-board-of-supervisors-meeting-2/2023-02-07/
LOCATION:San Bernardino County Government Center\, 385 N. Arrowhead Avenue\, San Bernardino\, CA\, United States
END:VEVENT
BEGIN:VEVENT
DTSTART;TZID=America/Los_Angeles:20230207T110000
DTEND;TZID=America/Los_Angeles:20230207T123000
DTSTAMP:20260419T153426
CREATED:20220711T154232Z
LAST-MODIFIED:20220711T154232Z
UID:10014834-1675767600-1675773000@bosd3.sbcounty.gov
SUMMARY:LifeTales--Harriet Tubman
DESCRIPTION:Experience the amazing true story of one of the nation’s greatest American abolitionists. Escaping slavery\, Harriet Tubman risked everything to free others as she established the network of safe houses and antislavery activists of the Underground Railroad.
URL:https://bosd3.sbcounty.gov/event/lifetales-harriet-tubman/2023-02-07/
LOCATION:Lifehouse Theater\, 1135 Church Street\, Redlands\, CA\, United States
END:VEVENT
END:VCALENDAR