BEGIN:VCALENDAR
VERSION:2.0
PRODID:-//Dawn Rowe Third District Supervisor - ECPv6.15.14//NONSGML v1.0//EN
CALSCALE:GREGORIAN
METHOD:PUBLISH
X-WR-CALNAME:Dawn Rowe Third District Supervisor
X-ORIGINAL-URL:https://bosd3.sbcounty.gov
X-WR-CALDESC:Events for Dawn Rowe Third District Supervisor
REFRESH-INTERVAL;VALUE=DURATION:PT1H
X-Robots-Tag:noindex
X-PUBLISHED-TTL:PT1H
BEGIN:VTIMEZONE
TZID:America/Los_Angeles
BEGIN:DAYLIGHT
TZOFFSETFROM:-0800
TZOFFSETTO:-0700
TZNAME:PDT
DTSTART:20220313T100000
END:DAYLIGHT
BEGIN:STANDARD
TZOFFSETFROM:-0700
TZOFFSETTO:-0800
TZNAME:PST
DTSTART:20221106T090000
END:STANDARD
BEGIN:DAYLIGHT
TZOFFSETFROM:-0800
TZOFFSETTO:-0700
TZNAME:PDT
DTSTART:20230312T100000
END:DAYLIGHT
BEGIN:STANDARD
TZOFFSETFROM:-0700
TZOFFSETTO:-0800
TZNAME:PST
DTSTART:20231105T090000
END:STANDARD
BEGIN:DAYLIGHT
TZOFFSETFROM:-0800
TZOFFSETTO:-0700
TZNAME:PDT
DTSTART:20240310T100000
END:DAYLIGHT
BEGIN:STANDARD
TZOFFSETFROM:-0700
TZOFFSETTO:-0800
TZNAME:PST
DTSTART:20241103T090000
END:STANDARD
END:VTIMEZONE
BEGIN:VEVENT
DTSTART;TZID=America/Los_Angeles:20230131T083000
DTEND;TZID=America/Los_Angeles:20230131T130000
DTSTAMP:20260421T152901
CREATED:20210416T190027Z
LAST-MODIFIED:20210416T190027Z
UID:10015410-1675153800-1675170000@bosd3.sbcounty.gov
SUMMARY:Farmers Market-Big Bear
DESCRIPTION:
URL:https://bosd3.sbcounty.gov/event/farmers-market-big-bear/2023-01-31/
LOCATION:Big Bear Lake Convention Center\, 42900 Big Bear Blvd.\, Big Bear Lake\, CA\, United States
END:VEVENT
BEGIN:VEVENT
DTSTART;TZID=America/Los_Angeles:20230131T100000
DTEND;TZID=America/Los_Angeles:20230131T110000
DTSTAMP:20260421T152901
CREATED:20230118T221646Z
LAST-MODIFIED:20230118T221646Z
UID:10017426-1675159200-1675162800@bosd3.sbcounty.gov
SUMMARY:Santa Ana River Trail Phase III Groundbreaking Ceremony
DESCRIPTION:This phase of the trail consists of a 3.8 mile segment on the south side of the Santa Ana River from Waterman Avenue in the city of San Bernardino to California Street in the city of Redlands.
URL:https://bosd3.sbcounty.gov/event/santa-ana-river-trail-phase-iii-groundbreaking-ceremony/
LOCATION:Santa Ana River Trail Phase III\, California and Mill Street\, Redlands\, CA\, 92374\, United States
ORGANIZER;CN="San Bernardino County Regional Parks":MAILTO:parks@parks.sbcounty.gov
END:VEVENT
END:VCALENDAR