BEGIN:VCALENDAR
VERSION:2.0
PRODID:-//Dawn Rowe Third District Supervisor - ECPv6.15.14//NONSGML v1.0//EN
CALSCALE:GREGORIAN
METHOD:PUBLISH
X-ORIGINAL-URL:https://bosd3.sbcounty.gov
X-WR-CALDESC:Events for Dawn Rowe Third District Supervisor
REFRESH-INTERVAL;VALUE=DURATION:PT1H
X-Robots-Tag:noindex
X-PUBLISHED-TTL:PT1H
BEGIN:VTIMEZONE
TZID:America/Los_Angeles
BEGIN:DAYLIGHT
TZOFFSETFROM:-0800
TZOFFSETTO:-0700
TZNAME:PDT
DTSTART:20220313T100000
END:DAYLIGHT
BEGIN:STANDARD
TZOFFSETFROM:-0700
TZOFFSETTO:-0800
TZNAME:PST
DTSTART:20221106T090000
END:STANDARD
BEGIN:DAYLIGHT
TZOFFSETFROM:-0800
TZOFFSETTO:-0700
TZNAME:PDT
DTSTART:20230312T100000
END:DAYLIGHT
BEGIN:STANDARD
TZOFFSETFROM:-0700
TZOFFSETTO:-0800
TZNAME:PST
DTSTART:20231105T090000
END:STANDARD
BEGIN:DAYLIGHT
TZOFFSETFROM:-0800
TZOFFSETTO:-0700
TZNAME:PDT
DTSTART:20240310T100000
END:DAYLIGHT
BEGIN:STANDARD
TZOFFSETFROM:-0700
TZOFFSETTO:-0800
TZNAME:PST
DTSTART:20241103T090000
END:STANDARD
END:VTIMEZONE
BEGIN:VEVENT
DTSTART;TZID=America/Los_Angeles:20230120T130000
DTEND;TZID=America/Los_Angeles:20230120T140000
DTSTAMP:20260421T170723
CREATED:20230118T223624Z
LAST-MODIFIED:20230118T223624Z
UID:10017435-1674219600-1674223200@bosd3.sbcounty.gov
SUMMARY:Public Safety Training Center Groundbreaking Ceremony
DESCRIPTION:Crafton Hills College’s premier first responder training programs are designed to prepare students to become successfully employed by fire departments and emergency medical responders throughout the state of California. The Public Safety Training Center enhances and completes the state-of-the-art Public Safety and Allied Health (PSAH) facilities constructed in 2015 with additional hands-on labs where scenarios will be created to replicate real-life emergencies. This building will contain features replicating commercial building and residential home labs that will enhance the technical training capabilities of the CHC programs\, preparing students for good-paying careers.
URL:https://bosd3.sbcounty.gov/event/public-safety-training-center-groundbreaking-ceremony/
LOCATION:Crafton Hills College\, 11711 Sand Canyon Road\, Yucaipa\, CA\, 92399\, United States
ORGANIZER;CN="Crafton Hills College":MAILTO:mriggs@sbccd.edu
END:VEVENT
BEGIN:VEVENT
DTSTART;TZID=America/Los_Angeles:20230120T190000
DTEND;TZID=America/Los_Angeles:20230120T210000
DTSTAMP:20260421T170723
CREATED:20220711T152958Z
LAST-MODIFIED:20220711T152958Z
UID:10016928-1674241200-1674248400@bosd3.sbcounty.gov
SUMMARY:Aladdin
DESCRIPTION:The timeless Arabian Tale of a young man discovering the importance of doing what is right bursts onto the stage with hilarious fun and outrageous hijinks. \n  \n 
URL:https://bosd3.sbcounty.gov/event/aladdin/2023-01-20/
LOCATION:Lifehouse Theater\, 1135 Church Street\, Redlands\, CA\, United States
END:VEVENT
END:VCALENDAR