BEGIN:VCALENDAR
VERSION:2.0
PRODID:-//Dawn Rowe Third District Supervisor - ECPv6.15.14//NONSGML v1.0//EN
CALSCALE:GREGORIAN
METHOD:PUBLISH
X-ORIGINAL-URL:https://bosd3.sbcounty.gov
X-WR-CALDESC:Events for Dawn Rowe Third District Supervisor
REFRESH-INTERVAL;VALUE=DURATION:PT1H
X-Robots-Tag:noindex
X-PUBLISHED-TTL:PT1H
BEGIN:VTIMEZONE
TZID:America/Los_Angeles
BEGIN:DAYLIGHT
TZOFFSETFROM:-0800
TZOFFSETTO:-0700
TZNAME:PDT
DTSTART:20210314T100000
END:DAYLIGHT
BEGIN:STANDARD
TZOFFSETFROM:-0700
TZOFFSETTO:-0800
TZNAME:PST
DTSTART:20211107T090000
END:STANDARD
BEGIN:DAYLIGHT
TZOFFSETFROM:-0800
TZOFFSETTO:-0700
TZNAME:PDT
DTSTART:20220313T100000
END:DAYLIGHT
BEGIN:STANDARD
TZOFFSETFROM:-0700
TZOFFSETTO:-0800
TZNAME:PST
DTSTART:20221106T090000
END:STANDARD
BEGIN:DAYLIGHT
TZOFFSETFROM:-0800
TZOFFSETTO:-0700
TZNAME:PDT
DTSTART:20230312T100000
END:DAYLIGHT
BEGIN:STANDARD
TZOFFSETFROM:-0700
TZOFFSETTO:-0800
TZNAME:PST
DTSTART:20231105T090000
END:STANDARD
END:VTIMEZONE
BEGIN:VEVENT
DTSTART;TZID=America/Los_Angeles:20220909T100000
DTEND;TZID=America/Los_Angeles:20220909T170000
DTSTAMP:20260420T210025
CREATED:20220827T004352Z
LAST-MODIFIED:20220827T004352Z
UID:10017252-1662717600-1662742800@bosd3.sbcounty.gov
SUMMARY:Braswell Memorial Golf Tournament
DESCRIPTION:Support Yucaipa Rotary Club at the Braswell Memorial Golf Tournament on Friday\, September 9. The tournament will be held at the Tukwet Canyon course in Beaumont with the awards banquet and raffle held afterwards at Fascination Ranch in Calimesa.
URL:https://bosd3.sbcounty.gov/event/braswell-memorial-golf-tournament/
LOCATION:Tukwet Canyon Golf Course\, 36211 Champions Drive\, Beaumont\, CA\, 92223\, United States
ORGANIZER;CN="Yucaipa Rotary Club":MAILTO:rocky_cobb_17@hotmail.com
END:VEVENT
BEGIN:VEVENT
DTSTART;TZID=America/Los_Angeles:20220909T190000
DTEND;TZID=America/Los_Angeles:20220909T210000
DTSTAMP:20260420T210025
CREATED:20220706T215635Z
LAST-MODIFIED:20220706T215635Z
UID:10016757-1662750000-1662757200@bosd3.sbcounty.gov
SUMMARY:Alice In Wonderland
DESCRIPTION:Journey to the curious world of Wonderland where things are not always what they seem.  All the favorite madcap characters are here\, but Alice discovers relevance amidst the ridiculous.  This original hit musical event brings back the family fun for all ages of the beloved story!
URL:https://bosd3.sbcounty.gov/event/alice-in-wonderland/2022-09-09/
LOCATION:Lifehouse Theater\, 1135 Church Street\, Redlands\, CA\, United States
END:VEVENT
END:VCALENDAR