BEGIN:VCALENDAR
VERSION:2.0
PRODID:-//Dawn Rowe Third District Supervisor - ECPv6.15.14//NONSGML v1.0//EN
CALSCALE:GREGORIAN
METHOD:PUBLISH
X-ORIGINAL-URL:https://bosd3.sbcounty.gov
X-WR-CALDESC:Events for Dawn Rowe Third District Supervisor
REFRESH-INTERVAL;VALUE=DURATION:PT1H
X-Robots-Tag:noindex
X-PUBLISHED-TTL:PT1H
BEGIN:VTIMEZONE
TZID:America/Los_Angeles
BEGIN:DAYLIGHT
TZOFFSETFROM:-0800
TZOFFSETTO:-0700
TZNAME:PDT
DTSTART:20210314T100000
END:DAYLIGHT
BEGIN:STANDARD
TZOFFSETFROM:-0700
TZOFFSETTO:-0800
TZNAME:PST
DTSTART:20211107T090000
END:STANDARD
BEGIN:DAYLIGHT
TZOFFSETFROM:-0800
TZOFFSETTO:-0700
TZNAME:PDT
DTSTART:20220313T100000
END:DAYLIGHT
BEGIN:STANDARD
TZOFFSETFROM:-0700
TZOFFSETTO:-0800
TZNAME:PST
DTSTART:20221106T090000
END:STANDARD
BEGIN:DAYLIGHT
TZOFFSETFROM:-0800
TZOFFSETTO:-0700
TZNAME:PDT
DTSTART:20230312T100000
END:DAYLIGHT
BEGIN:STANDARD
TZOFFSETFROM:-0700
TZOFFSETTO:-0800
TZNAME:PST
DTSTART:20231105T090000
END:STANDARD
END:VTIMEZONE
BEGIN:VEVENT
DTSTART;TZID=America/Los_Angeles:20220903T140000
DTEND;TZID=America/Los_Angeles:20220903T170000
DTSTAMP:20260420T174433
CREATED:20240309T155146Z
LAST-MODIFIED:20240309T155146Z
UID:10016778-1662213600-1662224400@bosd3.sbcounty.gov
SUMMARY:Alice In Wonderland
DESCRIPTION:Journey to the curious world of Wonderland where things are not always what they seem.  All the favorite madcap characters are here\, but Alice discovers relevance amidst the ridiculous.  This original hit musical event brings back the family fun for all ages of the beloved story!
URL:https://bosd3.sbcounty.gov/event/alice-in-wonderland/2022-09-03/
LOCATION:Lifehouse Theater\, 1135 Church Street\, Redlands\, CA\, United States
END:VEVENT
BEGIN:VEVENT
DTSTART;TZID=America/Los_Angeles:20220903T170000
DTEND;TZID=America/Los_Angeles:20220903T190000
DTSTAMP:20260420T174433
CREATED:20220827T001522Z
LAST-MODIFIED:20220827T001522Z
UID:10017183-1662224400-1662231600@bosd3.sbcounty.gov
SUMMARY:Labor Day Weekend Dinner-Forest Falls
DESCRIPTION:Join the Forest Falls Firefighters for their annual fundraising community dinner on Saturday\, September 3 at Big Falls Lodge. Diners will choose between a steak or chicken meal and have the chance to take home some Fire Station #99 swag or great raffle prizes.
URL:https://bosd3.sbcounty.gov/event/labor-day-weekend-dinner-forest-falls/
LOCATION:Big Falls Lodge\, 41303 Valley of the Falls Drive\, Forest Falls\, CA\, United States
END:VEVENT
BEGIN:VEVENT
DTSTART;TZID=America/Los_Angeles:20220903T173000
DTEND;TZID=America/Los_Angeles:20220903T193000
DTSTAMP:20260420T174433
CREATED:20220802T221823Z
LAST-MODIFIED:20220802T221823Z
UID:10017147-1662226200-1662233400@bosd3.sbcounty.gov
SUMMARY:Music in the Mountains
DESCRIPTION:Take a seat under the stars at the Big Bear Discovery Center Amphitheater and enjoy the best in country\, classic and contemporary rock\, 7\,000 feet above Southern California! A ticket to a Music in the Mountains concert does more than get you into a great show\, it helps to protect your public lands. Proceeds support the Southern California Mountains Foundation and its powerful conservation\, recreation\, and education programs: The Big Bear Discovery Center\, National Children’s Forest\, The Urban Conservation Corps of the Inland Empire\, Fire Lookout Hosts\, Off-Highway Vehicle\, and Adopt-a-Trail. \nAugust 6: DSB – Tribute to Journey.\nAugust 20: Hard Day’s night – Tribute to The Beatles.\nSept 3: Deja Vu – Tribute to Cosby\, Stills\, Nash & Young.
URL:https://bosd3.sbcounty.gov/event/music-in-the-mountains/2022-09-03/
LOCATION:Big Bear Discovery Center\, 40971 North Shore Drive\, Fawnskin\, CA\, United States
ORGANIZER;CN="Southern California Mountains Foundation":MAILTO:info@mountainsfoundation.org
END:VEVENT
BEGIN:VEVENT
DTSTART;TZID=America/Los_Angeles:20220903T190000
DTEND;TZID=America/Los_Angeles:20220903T210000
DTSTAMP:20260420T174433
CREATED:20220706T215635Z
LAST-MODIFIED:20220706T215635Z
UID:10016751-1662231600-1662238800@bosd3.sbcounty.gov
SUMMARY:Alice In Wonderland
DESCRIPTION:Journey to the curious world of Wonderland where things are not always what they seem.  All the favorite madcap characters are here\, but Alice discovers relevance amidst the ridiculous.  This original hit musical event brings back the family fun for all ages of the beloved story!
URL:https://bosd3.sbcounty.gov/event/alice-in-wonderland/2022-09-03/
LOCATION:Lifehouse Theater\, 1135 Church Street\, Redlands\, CA\, United States
END:VEVENT
END:VCALENDAR